BEGIN:VCALENDAR
VERSION:2.0
PRODID:-//Δήμος Ν.Σμύρνης - ECPv6.5.0//NONSGML v1.0//EN
CALSCALE:GREGORIAN
METHOD:PUBLISH
X-WR-CALNAME:Δήμος Ν.Σμύρνης
X-ORIGINAL-URL:https://neasmyrni.gr
X-WR-CALDESC:Δήμος Ν.Σμύρνης - Εκδηλώσεις
REFRESH-INTERVAL;VALUE=DURATION:PT1H
X-Robots-Tag:noindex
X-PUBLISHED-TTL:PT1H
BEGIN:VTIMEZONE
TZID:Europe/Athens
BEGIN:DAYLIGHT
TZOFFSETFROM:+0200
TZOFFSETTO:+0300
TZNAME:EEST
DTSTART:20230326T010000
END:DAYLIGHT
BEGIN:STANDARD
TZOFFSETFROM:+0300
TZOFFSETTO:+0200
TZNAME:EET
DTSTART:20231029T010000
END:STANDARD
END:VTIMEZONE
BEGIN:VEVENT
DTSTART;TZID=Europe/Athens:20230208T180000
DTEND;TZID=Europe/Athens:20230208T200000
DTSTAMP:20260422T041103
CREATED:20230206T084821Z
LAST-MODIFIED:20230206T084821Z
UID:233086-1675879200-1675886400@neasmyrni.gr
SUMMARY:Παιδιά\, έφηβοι και διαδίκτυο
DESCRIPTION:4 η ΣΥΝΑΝΤΗΣΗ ΤΗΣ ΑΚΑΔΗΜΙΑΣ ΓΟΝΕΩΝ 08-02-2023\n«ΓΑΛΑΞΙΑΣ» – ΚΕΝΤΡΙΚΗ ΠΛΑΤΕΙΑ – ώρα 18.15-20.00 \nΠρόκειται για 4 – 8 δίωρες διαδραστικές συναντήσεις γονέων τη δεύτερη Τετάρτη κάθε\nμήνα 18.15-20.00\, από Νοέμβριο έως Μάιο\, όπου παρουσιάζονται θέματα σχετικά με την\nυγεία\, την ανάπτυξη και τη συμπεριφορά των παιδιών\, τις σχέσεις στην οικογένεια και το\nσχολείο κ.λπ. \n4 η Συνάντηση\nΤετάρτη 8 Φεβρουαρίου 2023 \n«Παιδιά\, έφηβοι και διαδίκτυο» \nΒασιλική Μπούμπα\nΨυχολόγος MSc \nΠΜΣ «Στρατηγικές Αναπτυξιακής και Εφηβικής Υγείας» \nΕπιστ. Συνεργάτης \nΠρόγραμμα Κατάρτισης Υπουργείου Υγείας\n“Παιδιά και έφηβοι στις ημέρες Covid-19”\nΥποψήφια Διδάκτωρ Ιατρικής Σχολής ΕΚΠΑ
URL:https://neasmyrni.gr/event/%cf%80%ce%b1%ce%b9%ce%b4%ce%b9%ce%ac-%ce%ad%cf%86%ce%b7%ce%b2%ce%bf%ce%b9-%ce%ba%ce%b1%ce%b9-%ce%b4%ce%b9%ce%b1%ce%b4%ce%af%ce%ba%cf%84%cf%85%ce%bf/
LOCATION:Γαλαξίας – Δημοτικός Πολυχώρος Πολιτισμού Νέας Σμύρνης\, 2ας Μαΐου 16\, Νέα Σμύρνη\, 171 21\, Greece
ATTACH;FMTTYPE=image/jpeg:https://neasmyrni.gr/wp-content/uploads/2021/02/AKADHMIA-GONEWN_LOGO-FINAL-2.jpg
END:VEVENT
END:VCALENDAR