BEGIN:VCALENDAR
VERSION:2.0
PRODID:-//Δήμος Ν.Σμύρνης - ECPv6.5.0//NONSGML v1.0//EN
CALSCALE:GREGORIAN
METHOD:PUBLISH
X-ORIGINAL-URL:https://neasmyrni.gr
X-WR-CALDESC:Δήμος Ν.Σμύρνης - Εκδηλώσεις
REFRESH-INTERVAL;VALUE=DURATION:PT1H
X-Robots-Tag:noindex
X-PUBLISHED-TTL:PT1H
BEGIN:VTIMEZONE
TZID:Europe/Athens
BEGIN:DAYLIGHT
TZOFFSETFROM:+0200
TZOFFSETTO:+0300
TZNAME:EEST
DTSTART:20230326T010000
END:DAYLIGHT
BEGIN:STANDARD
TZOFFSETFROM:+0300
TZOFFSETTO:+0200
TZNAME:EET
DTSTART:20231029T010000
END:STANDARD
END:VTIMEZONE
BEGIN:VEVENT
DTSTART;TZID=Europe/Athens:20230308T180000
DTEND;TZID=Europe/Athens:20230308T200000
DTSTAMP:20260422T055041
CREATED:20230302T154753Z
LAST-MODIFIED:20230302T154753Z
UID:239325-1678298400-1678305600@neasmyrni.gr
SUMMARY:Έκφραση της σεξουαλικότητας παιδιών και εφήβων
DESCRIPTION:«ΑΚΑΔΗΜΙΑ ΓΟΝΕΩΝ» \nΔΗΜΟΥ ΝΕΑΣ ΣΜΥΡΝΗΣ \n\n«Από το Α έως το Ω: μία Ακαδημία για Γονείς» \nΑκαδημαϊκό έτος 2022 – 2023 (6ο έτος) \n\n\nΔΕΛΤΙΟ ΤΥΠΟΥ \n5η ΣΥΝΑΝΤΗΣΗ ΤΗΣ ΑΚΑΔΗΜΙΑΣ ΓΟΝΕΩΝ   08-03-2023 \n«ΓΑΛΑΞΙΑΣ» – ΚΕΝΤΡΙΚΗ ΠΛΑΤΕΙΑ – ώρα 18.15-20.00 \n  \nΠρόκειται για 4 – 8 δίωρες διαδραστικές συναντήσεις γονέων τη δεύτερη Τετάρτη κάθε μήνα 18.15-20.00\, από Νοέμβριο έως Μάιο\, όπου παρουσιάζονται θέματα σχετικά με την υγεία\, την ανάπτυξη και τη συμπεριφορά των παιδιών\, τις σχέσεις στην οικογένεια και το σχολείο κ.λπ. \n  \n5η Συνάντηση \nΤετάρτη  8 Μαρτίου 2023 \n\n«Έκφραση της σεξουαλικότητας παιδιών και εφήβων» \n  \n  \nΑθανάσιος Θήριος \n       Παιδίατρος\, MSc \nΑκαδημαϊκός Υπότροφος ΕΚΠΑ \nΥποψ. Διδάκτωρ Ιατρικής Σχολής Αθηνών \nΠΜΣ «Στρατηγικές Αναπτυξιακής και Εφηβικής Υγείας» \n 
URL:https://neasmyrni.gr/event/%ce%ad%ce%ba%cf%86%cf%81%ce%b1%cf%83%ce%b7-%cf%84%ce%b7%cf%82-%cf%83%ce%b5%ce%be%ce%bf%cf%85%ce%b1%ce%bb%ce%b9%ce%ba%cf%8c%cf%84%ce%b7%cf%84%ce%b1%cf%82-%cf%80%ce%b1%ce%b9%ce%b4%ce%b9%cf%8e%ce%bd-2/
LOCATION:Γαλαξίας – Δημοτικός Πολυχώρος Πολιτισμού Νέας Σμύρνης\, 2ας Μαΐου 16\, Νέα Σμύρνη\, 171 21\, Greece
ATTACH;FMTTYPE=image/jpeg:https://neasmyrni.gr/wp-content/uploads/2021/02/AKADHMIA-GONEWN_LOGO-FINAL-2.jpg
END:VEVENT
END:VCALENDAR