BEGIN:VCALENDAR
VERSION:2.0
PRODID:-//Δήμος Ν.Σμύρνης - ECPv6.5.0//NONSGML v1.0//EN
CALSCALE:GREGORIAN
METHOD:PUBLISH
X-WR-CALNAME:Δήμος Ν.Σμύρνης
X-ORIGINAL-URL:https://neasmyrni.gr
X-WR-CALDESC:Δήμος Ν.Σμύρνης - Εκδηλώσεις
REFRESH-INTERVAL;VALUE=DURATION:PT1H
X-Robots-Tag:noindex
X-PUBLISHED-TTL:PT1H
BEGIN:VTIMEZONE
TZID:Europe/Athens
BEGIN:DAYLIGHT
TZOFFSETFROM:+0200
TZOFFSETTO:+0300
TZNAME:EEST
DTSTART:20230326T010000
END:DAYLIGHT
BEGIN:STANDARD
TZOFFSETFROM:+0300
TZOFFSETTO:+0200
TZNAME:EET
DTSTART:20231029T010000
END:STANDARD
END:VTIMEZONE
BEGIN:VEVENT
DTSTART;TZID=Europe/Athens:20230403T180000
DTEND;TZID=Europe/Athens:20230403T200000
DTSTAMP:20260423T135020
CREATED:20230331T145757Z
LAST-MODIFIED:20230331T150221Z
UID:247229-1680544800-1680552000@neasmyrni.gr
SUMMARY:3ο ΔΙΑΔΙΚΤΥΑΚΟ ΣΕΜΙΝΑΡΙΟ ΘΕΤΙΚΗΣ ΨΥΧΟΛΟΓΙΑΣ
DESCRIPTION:ΘΕΜΑ: ΔΙΑΔΙΚΤΥΑΚΕΣ ΔΙΑΛΕΞΕΙΣ \n2023 \n«ΘΕΤΙΚΗ ΨΥΧΟΛΟΓΙΑ» \n\n\n\nΕΙΣΗΓΗΤΗΣ\nΗΜΕΡΟΜΗΝΙΑ\nΩΡΑ\nΘΕΜΑΤΙΚΗ\n\n\n\n\nΕλισάβετ Γεωργίου \nΕργασιακή Ψυχολόγος\,  MSc\, Coach\, Ψυχοθεραπεύτρια \nΔιευθύντρια Be Yourself \nPHD(c)\n\n  \nΔΕΥΤΕΡΑ \n  \n3/4/2023 \n \n\n  \n18:00 -20:00\nΔιαχείριση Εργασιακού Άγχους και Πρόληψη του Συνδρόμου Επαγγελματικής Εξουθένωσης\n\n\n\n\n\n\n\n\n\n\n\nΟι διαδικτυακές αυτές διαλέξεις προϋποθέτουν ΕΓΓΡΑΦΗ των ενδιαφερομένων πολιτών στον κάτωθι σύνδεσμο: \nΣΥΝΔΕΣΜΟΣ ΕΓΓΡΑΦΗΣ: \nhttps://forms.gle/QeMtUuWcYeaPNTX17 \n  \nΠριν από κάθε συνεδρίαση\, θα αποστέλλεται στο mail των εγγεγραμμένων ο ειδικός ηλεκτρονικός σύνδεσμος παρακολούθησης (link). \nΠληροφορίες: Γραφείο Παιδείας Δήμου Νέας Σμύρνης. Υπεύθυνος κ. ΠΡΩΙΑΣ Στέφανος\, \nτηλ: 2132025726-25. E-mail: adpaideias@neasmyrni.gr
URL:https://neasmyrni.gr/event/3%ce%bf-%ce%b4%ce%b9%ce%b1%ce%b4%ce%b9%ce%ba%cf%84%cf%85%ce%b1%ce%ba%ce%bf-%cf%83%ce%b5%ce%bc%ce%b9%ce%bd%ce%b1%cf%81%ce%b9%ce%bf-%ce%b8%ce%b5%cf%84%ce%b9%ce%ba%ce%b7%cf%83-%cf%88%cf%85%cf%87%ce%bf/
END:VEVENT
END:VCALENDAR