BEGIN:VCALENDAR
VERSION:2.0
PRODID:-//Δήμος Ν.Σμύρνης - ECPv6.5.0//NONSGML v1.0//EN
CALSCALE:GREGORIAN
METHOD:PUBLISH
X-WR-CALNAME:Δήμος Ν.Σμύρνης
X-ORIGINAL-URL:https://neasmyrni.gr
X-WR-CALDESC:Δήμος Ν.Σμύρνης - Εκδηλώσεις
REFRESH-INTERVAL;VALUE=DURATION:PT1H
X-Robots-Tag:noindex
X-PUBLISHED-TTL:PT1H
BEGIN:VTIMEZONE
TZID:Europe/Athens
BEGIN:DAYLIGHT
TZOFFSETFROM:+0200
TZOFFSETTO:+0300
TZNAME:EEST
DTSTART:20230326T010000
END:DAYLIGHT
BEGIN:STANDARD
TZOFFSETFROM:+0300
TZOFFSETTO:+0200
TZNAME:EET
DTSTART:20231029T010000
END:STANDARD
END:VTIMEZONE
BEGIN:VEVENT
DTSTART;TZID=Europe/Athens:20230405T180000
DTEND;TZID=Europe/Athens:20230405T200000
DTSTAMP:20260423T042750
CREATED:20230404T075359Z
LAST-MODIFIED:20230404T075359Z
UID:248088-1680717600-1680724800@neasmyrni.gr
SUMMARY:Διατροφικές συνήθειες και παρεκτροπές  στην μετά Covid εποχή
DESCRIPTION:«Από το Α έως το Ω: μία Ακαδημία για Γονείς» \n(8ος κύκλος) \nΠρόκειται για 4 – 8 δίωρες διαδραστικές συναντήσεις γονέων τη δεύτερη Τετάρτη κάθε μήνα 18.15-20.00\, από Νοέμβριο έως Μάιο\, όπου παρουσιάζονται θέματα σχετικά με την υγεία\, την ανάπτυξη και τη συμπεριφορά των παιδιών\, τις σχέσεις στην οικογένεια και το σχολείο κ.λπ. \n6η Συνάντηση \nΤετάρτη  5 Απριλίου 2023 \n«ΓΑΛΑΞΙΑΣ» ΚΕΝΤΡΙΚΗ ΠΛΑΤΕΙΑ\, ώρα 18:15 \n\n«Διατροφικές συνήθειες και παρεκτροπές  \nστην μετά Covid εποχή» \n  \n          Ελένη Παναγούλη \n   Παιδίατρος\, MSc\, PhD \n             ΠΜΣ «Στρ. Αναπτυξιακής και Εφηβικής Υγείας» \nΑκαδημ. Υπότροφος ΕΚΠΑ \n  \n     Συντονισμός : \nΆρτεμις Κ. Τσίτσικα \nΑναπλ. Καθηγήτρια Παιδιατρικής-Εφηβικής Ιατρικής ΕΚΠΑ \nΕπιστ. Υπεύθυνος Προγραμμάτων ΕΚΠΑ-Π.Ο.Υ. “φιλικών” για εφήβους \nκαι κατάρτισης του Υπουργείου Υγείας \nΔιευθύντρια  ΠΜΣ “Στρ. Αναπτυξιακής και Εφηβικής Υγείας” \nΙατρικής Σχολής ΕΚΠΑ \nΠρόεδρος Ελληνικής Εταιρείας Εφηβικής Ιατρικής (Ε.Ε.Ε.Ι.) \n 
URL:https://neasmyrni.gr/event/%ce%b4%ce%b9%ce%b1%cf%84%cf%81%ce%bf%cf%86%ce%b9%ce%ba%ce%ad%cf%82-%cf%83%cf%85%ce%bd%ce%ae%ce%b8%ce%b5%ce%b9%ce%b5%cf%82-%ce%ba%ce%b1%ce%b9-%cf%80%ce%b1%cf%81%ce%b5%ce%ba%cf%84%cf%81%ce%bf%cf%80/
LOCATION:Γαλαξίας – Δημοτικός Πολυχώρος Πολιτισμού Νέας Σμύρνης\, 2ας Μαΐου 16\, Νέα Σμύρνη\, 171 21\, Greece
ATTACH;FMTTYPE=image/jpeg:https://neasmyrni.gr/wp-content/uploads/2021/02/AKADHMIA-GONEWN_LOGO-FINAL-2.jpg
END:VEVENT
END:VCALENDAR