BEGIN:VCALENDAR
VERSION:2.0
PRODID:-//Δήμος Ν.Σμύρνης - ECPv6.5.0//NONSGML v1.0//EN
CALSCALE:GREGORIAN
METHOD:PUBLISH
X-WR-CALNAME:Δήμος Ν.Σμύρνης
X-ORIGINAL-URL:https://neasmyrni.gr
X-WR-CALDESC:Δήμος Ν.Σμύρνης - Εκδηλώσεις
REFRESH-INTERVAL;VALUE=DURATION:PT1H
X-Robots-Tag:noindex
X-PUBLISHED-TTL:PT1H
BEGIN:VTIMEZONE
TZID:Europe/Athens
BEGIN:DAYLIGHT
TZOFFSETFROM:+0200
TZOFFSETTO:+0300
TZNAME:EEST
DTSTART:20230326T010000
END:DAYLIGHT
BEGIN:STANDARD
TZOFFSETFROM:+0300
TZOFFSETTO:+0200
TZNAME:EET
DTSTART:20231029T010000
END:STANDARD
END:VTIMEZONE
BEGIN:VEVENT
DTSTART;TZID=Europe/Athens:20230407T113000
DTEND;TZID=Europe/Athens:20230407T140000
DTSTAMP:20260422T174411
CREATED:20230406T110015Z
LAST-MODIFIED:20230406T110015Z
UID:248456-1680867000-1680876000@neasmyrni.gr
SUMMARY:All day green!
DESCRIPTION:  \nΟ Δήμος Νέας Σμύρνης στα πλαίσια υλοποίησης του Ευρωπαϊκού συγχρηματοδοτούμενου προγράμματος FOOD WAVE\,  στο οποίο συμμετέχει ως εταίρος\, διοργανώνει στις 7 Απριλίου\, μια διαδραστική  εκδήλωση με σκοπό την ευαισθητοποίηση των νέων  σχετικά με θέματα που αφορούν στη σημασίας της κλιματικής αλλαγής\, την ανάπτυξη οικολογικής συνείδησης και την υιοθέτηση νέου τρόπου ζωής για την μείωση σπατάλης τροφής. \nΕθελοντές της ομάδας ΑΜΚΕ ΙΑΣΙΣ θα συζητήσουν με τα παιδιά γύρω από την Κλιματική Αλλαγή\, η ομάδα της Fabric Republic και της Replastic θα ενημερώνει τους νέους γύρω από την έννοια της κυκλικής οικονομίας\, καθώς και εκπρόσωποι από το Food Wave θα δώσουν συμβουλές και τρόπους μείωσης της σπατάλης τροφίμων. Η εκδήλωση θα πραγματοποιηθεί σε ειδικά διαμορφωμένο και ανοιχτό χώρο στο Άλσος της Νέας Σμύρνης μεταξύ 11:30 -14:00. \nΣας περιμένουμε όλους εκεί! \nΛίγα λόγια για το Food Wave… \nΤο Food Wave\, είναι μια διεθνής κοινότητα νέων που δραστηριοποιούνται σε 17 χώρες σε όλο τον κόσμο. \nΣτόχος του Food Wave είναι να ευαισθητοποιήσουν τους νέους (15-35) σχετικά με σημαντικά περιβαλλοντολογικά και κοινωνικά ζητήματα\, όπως η κατανόηση της σημασίας της κλιματικής αλλαγής\, η ανάπτυξη οικολογικής συνείδησης\, η υιοθέτηση νέου τρόπου ζωής με σκοπό την μείωση σπατάλης τροφής αλλά και τη ένταξη στην καθημερινότητά τους του υγιεινού και μεσογειακού τρόπου διατροφής ώστε να πετύχουμε ένα δίκαιο και βιώσιμο παγκόσμιο σύστημα τροφίμων έως το 2030. \nΤο Food Wave είναι ένα έργο που συγχρηματοδοτείται από την Ευρωπαϊκή Επιτροπή\, στοχεύει στην ενημέρωση και τη συμμετοχή 15 εκατομμυρίων νέων μέσω μιας διαδικτυακής πλατφόρμας\, ψηφιακών εκστρατειών αλλά και δράσεων σε τοπικό επίπεδο που υποστηρίζονται από ένα διεθνές δίκτυο πρεσβευτών. \n 
URL:https://neasmyrni.gr/event/all-day-green/
ATTACH;FMTTYPE=image/jpeg:https://neasmyrni.gr/wp-content/uploads/2023/04/iStock-1181043800@1x.jpg
END:VEVENT
END:VCALENDAR