BEGIN:VCALENDAR
VERSION:2.0
PRODID:-//Δήμος Ν.Σμύρνης - ECPv6.5.0//NONSGML v1.0//EN
CALSCALE:GREGORIAN
METHOD:PUBLISH
X-WR-CALNAME:Δήμος Ν.Σμύρνης
X-ORIGINAL-URL:https://neasmyrni.gr
X-WR-CALDESC:Δήμος Ν.Σμύρνης - Εκδηλώσεις
REFRESH-INTERVAL;VALUE=DURATION:PT1H
X-Robots-Tag:noindex
X-PUBLISHED-TTL:PT1H
BEGIN:VTIMEZONE
TZID:Europe/Athens
BEGIN:DAYLIGHT
TZOFFSETFROM:+0200
TZOFFSETTO:+0300
TZNAME:EEST
DTSTART:20230326T010000
END:DAYLIGHT
BEGIN:STANDARD
TZOFFSETFROM:+0300
TZOFFSETTO:+0200
TZNAME:EET
DTSTART:20231029T010000
END:STANDARD
END:VTIMEZONE
BEGIN:VEVENT
DTSTART;TZID=Europe/Athens:20230423T090000
DTEND;TZID=Europe/Athens:20230423T143000
DTSTAMP:20260423T135022
CREATED:20230420T103222Z
LAST-MODIFIED:20230420T103222Z
UID:252023-1682240400-1682260200@neasmyrni.gr
SUMMARY:Αναστάσιμο Παραδοσιακό Συναπάντημα Αγάπης 2023
DESCRIPTION:Το ΝΠΔΔ «Κέντρο Κοινωνικής Προστασίας & Αλληλεγγύης» διοργανώνει  \nτην Κυριακή 23 Απριλίου 2023 και ώρα 09:00 έως 14:30  \nστον αύλειο χώρο του 7ου Δημοτικού Βρεφονηπιακού Σταθμού \n(στο Ιωσηφόγλειο επί της Λ. Συγγρού\, με είσοδο επί της οδού Τραλέων) \n\nμεγάλο εορταστικό συναπάντημα με παραδοσιακή μουσική\, ποτά & αναψυκτικά\, με ψήσιμο του παραδοσιακού οβελία και  τσούγκρισμα Πασχαλινών αυγών. \n  \nΟι ωφελούμενοι των ΚΑΠΗ μέσα από τις ομάδες μαγειρικής που διατηρούν\, θα ετοιμάσουν να προσφέρουν επιπλέον κεράσματα και παραδοσιακά εδέσματα\, όπως σαλάτες\, πίτες\, μαγειρευτά και αλοιφές\, πέραν εκείνων  (ποτά\, κρέας και αυγά) που προσφέρει το ΝΠΔΔ\, και σας καλούμε και εσείς να κάνετε το ίδιο αν το επιθυμείτε. \nΣτο χώρο μπορείτε να έρθετε με τη δημοτική συγκοινωνία του Δήμου με το εξής πρόγραμμα \n09:40 Αναχώρηση από Β ΚΑΠΗ  \n10:10 Αναχώρηση από Α ΚΑΠΗ \n10:40 Αναχώρηση από Ε ΚΑΠΗ
URL:https://neasmyrni.gr/event/%ce%b1%ce%bd%ce%b1%cf%83%cf%84%ce%ac%cf%83%ce%b9%ce%bc%ce%bf-%cf%80%ce%b1%cf%81%ce%b1%ce%b4%ce%bf%cf%83%ce%b9%ce%b1%ce%ba%cf%8c-%cf%83%cf%85%ce%bd%ce%b1%cf%80%ce%ac%ce%bd%cf%84%ce%b7%ce%bc%ce%b1/
ATTACH;FMTTYPE=image/jpeg:https://neasmyrni.gr/wp-content/uploads/2023/04/kaphob23.jpg
END:VEVENT
END:VCALENDAR