BEGIN:VCALENDAR
VERSION:2.0
PRODID:-//Δήμος Ν.Σμύρνης - ECPv6.5.0//NONSGML v1.0//EN
CALSCALE:GREGORIAN
METHOD:PUBLISH
X-ORIGINAL-URL:https://neasmyrni.gr
X-WR-CALDESC:Δήμος Ν.Σμύρνης - Εκδηλώσεις
REFRESH-INTERVAL;VALUE=DURATION:PT1H
X-Robots-Tag:noindex
X-PUBLISHED-TTL:PT1H
BEGIN:VTIMEZONE
TZID:Europe/Athens
BEGIN:DAYLIGHT
TZOFFSETFROM:+0200
TZOFFSETTO:+0300
TZNAME:EEST
DTSTART:20230326T010000
END:DAYLIGHT
BEGIN:STANDARD
TZOFFSETFROM:+0300
TZOFFSETTO:+0200
TZNAME:EET
DTSTART:20231029T010000
END:STANDARD
END:VTIMEZONE
BEGIN:VEVENT
DTSTART;TZID=Europe/Athens:20230523T180000
DTEND;TZID=Europe/Athens:20230523T200000
DTSTAMP:20260423T012451
CREATED:20230523T095517Z
LAST-MODIFIED:20230523T095517Z
UID:263794-1684864800-1684872000@neasmyrni.gr
SUMMARY:Διαχείριση Άγχους Εξετάσεων: Προτάσεις για Γονείς
DESCRIPTION:  \nΓια αρκετά παιδιά οι εξετάσεις (ενδοσχολικές ή Πανελλαδικές) ενισχύουν το άγχος τους για καλή απόδοση\, σε σημείο που μπορεί να ξεπεράσει το δημιουργικό και παραγωγικό άγχος. Στο #webinar αυτό θα εντοπίσουμε τα βασικά σημάδια του δυσλειτουργικού άγχους και θα μιλήσουμε για το πώς οι γονείς μπορούν να υποστηρίξουν τα παιδιά τους κατά τη διάρκεια των εξετάσεων\, ενισχύοντας τη θετική τους στάση απέναντι στους εφήβους. \nΕισηγήτρια: Μάντυ Αννίνου – Ντόχερτυ\nΨυχολόγος με εξειδίκευση στη Σχολική Ψυχολογία και στην Κλινική και\nΚοινοτική Ψυχολογία (Μ.Sc)\nΨυχολόγος στην Περιφέρεια Αττικής & Υπεύθυνη Συντονισμού Τηλεφωνικής Γραμμής Ψυχολογικής Υποστήριξης 1110 – Περιφέρειας Αττικής και Ιατρικού Συλλόγου Αθηνών. \nΗ πρόσκληση παρακολούθησης είναι ανοικτή\, για τους ενήλικες δημότες ανεξαιρέτως και κυρίως δωρεάν\, ωστόσο απαιτείται προεγγραφή στη σελίδα https://tinyurl.com/digitalattiki. Με την ολοκλήρωση του webinar όσες και όσοι το επιθυμούν\, θα λάβουν σχετική βεβαίωση παρακολούθησης.
URL:https://neasmyrni.gr/event/%ce%b4%ce%b9%ce%b1%cf%87%ce%b5%ce%af%cf%81%ce%b9%cf%83%ce%b7-%ce%ac%ce%b3%cf%87%ce%bf%cf%85%cf%82-%ce%b5%ce%be%ce%b5%cf%84%ce%ac%cf%83%ce%b5%cf%89%ce%bd-%cf%80%cf%81%ce%bf%cf%84%ce%ac%cf%83%ce%b5/
ATTACH;FMTTYPE=image/png:https://neasmyrni.gr/wp-content/uploads/2023/05/diaxagx-230523.png
END:VEVENT
END:VCALENDAR