BEGIN:VCALENDAR
VERSION:2.0
PRODID:-//Δήμος Ν.Σμύρνης - ECPv6.5.0//NONSGML v1.0//EN
CALSCALE:GREGORIAN
METHOD:PUBLISH
X-ORIGINAL-URL:https://neasmyrni.gr
X-WR-CALDESC:Δήμος Ν.Σμύρνης - Εκδηλώσεις
REFRESH-INTERVAL;VALUE=DURATION:PT1H
X-Robots-Tag:noindex
X-PUBLISHED-TTL:PT1H
BEGIN:VTIMEZONE
TZID:Europe/Athens
BEGIN:DAYLIGHT
TZOFFSETFROM:+0200
TZOFFSETTO:+0300
TZNAME:EEST
DTSTART:20230326T010000
END:DAYLIGHT
BEGIN:STANDARD
TZOFFSETFROM:+0300
TZOFFSETTO:+0200
TZNAME:EET
DTSTART:20231029T010000
END:STANDARD
END:VTIMEZONE
BEGIN:VEVENT
DTSTART;TZID=Europe/Athens:20230528T100000
DTEND;TZID=Europe/Athens:20230528T180000
DTSTAMP:20260422T161211
CREATED:20230526T061511Z
LAST-MODIFIED:20230526T061511Z
UID:264628-1685268000-1685296800@neasmyrni.gr
SUMMARY:Ημέρα Υιοθεσίας Γάτας
DESCRIPTION:
URL:https://neasmyrni.gr/event/hmera-yiothesias-gatas/
ATTACH;FMTTYPE=image/jpeg:https://neasmyrni.gr/wp-content/uploads/2023/05/hmyoth280523.jpg
END:VEVENT
BEGIN:VEVENT
DTSTART;TZID=Europe/Athens:20230528T193000
DTEND;TZID=Europe/Athens:20230528T203000
DTSTAMP:20260422T161211
CREATED:20230526T073254Z
LAST-MODIFIED:20230526T073254Z
UID:264674-1685302200-1685305800@neasmyrni.gr
SUMMARY:Αποκαλυπτήρια Μνημείου Ελληνοαρμενικής φιλίας
DESCRIPTION:Κυριακή 28 Μαϊου ώρα 19.30 στην Κεντρική Πλατεία Ν.Σμύρνης (25ης Μαρτίου & πλατεία Καρύλλου).\n\n\nΣας περιμένουμε όλους!
URL:https://neasmyrni.gr/event/%ce%b1%cf%80%ce%bf%ce%ba%ce%b1%ce%bb%cf%85%cf%80%cf%84%ce%ae%cf%81%ce%b9%ce%b1-%ce%bc%ce%bd%ce%b7%ce%bc%ce%b5%ce%af%ce%bf%cf%85-%ce%b5%ce%bb%ce%bb%ce%b7%ce%bd%ce%bf%ce%b1%cf%81%ce%bc%ce%b5%ce%bd%ce%b9/
ATTACH;FMTTYPE=image/jpeg:https://neasmyrni.gr/wp-content/uploads/2023/05/apokalmnhm.jpg
END:VEVENT
END:VCALENDAR