BEGIN:VCALENDAR
VERSION:2.0
PRODID:-//Δήμος Ν.Σμύρνης - ECPv6.5.0//NONSGML v1.0//EN
CALSCALE:GREGORIAN
METHOD:PUBLISH
X-ORIGINAL-URL:https://neasmyrni.gr
X-WR-CALDESC:Δήμος Ν.Σμύρνης - Εκδηλώσεις
REFRESH-INTERVAL;VALUE=DURATION:PT1H
X-Robots-Tag:noindex
X-PUBLISHED-TTL:PT1H
BEGIN:VTIMEZONE
TZID:Europe/Athens
BEGIN:DAYLIGHT
TZOFFSETFROM:+0200
TZOFFSETTO:+0300
TZNAME:EEST
DTSTART:20230326T010000
END:DAYLIGHT
BEGIN:STANDARD
TZOFFSETFROM:+0300
TZOFFSETTO:+0200
TZNAME:EET
DTSTART:20231029T010000
END:STANDARD
END:VTIMEZONE
BEGIN:VEVENT
DTSTART;TZID=Europe/Athens:20230618T183000
DTEND;TZID=Europe/Athens:20230618T203000
DTSTAMP:20260422T234826
CREATED:20230615T122117Z
LAST-MODIFIED:20230615T122117Z
UID:271759-1687113000-1687120200@neasmyrni.gr
SUMMARY:Έλα να γιορτάσουμε μαζί την Παγκόσμια Ημέρα Πικ Νικ!
DESCRIPTION:Την Κυριακή 18/6 στις 18:30\, συναντιόμαστε στον πεζόδρομο Κερασούντος\, στην Άνω Νέα Σμύρνη\, και μαζί με το Food Wave Project\, συγχρηματοδοτούμενο Ευρωπαϊκό πρόγραμμα\, ζωντανεύουμε τη γειτονιά\, φροντίζουμε το πάρκο\, φυτεύουμε φυτά\, διασκεδάζουμε με μουσική και φυσικά ενημερωνόμαστε για σημαντικά θέματα που μας αφορούν\, όπως η κλιματική αλλαγή. \nΈλα κι εσύ μαζί μας γιατί\, μην ξεχνάς: Οι πλατείες των γειτονιών\, είναι  αναπόσπαστο τμήμα της καθημερινής ζωής μας. Είναι αυτές που μας χαλαρώνουν\, μας κοινωνικοποιουν\, ενισχύουν τη δημόσια κοινωνική ζωή\, προσφέρουν ευκαιρίες για κοινωνικές επαφές\, συναντήσεις\, γνωριμίες και παρέχουν οάσεις πρασίνου. \nΜαζί μας θα συμμετέχουν οι παρακάτω φορείς : Οργάνωση ΓΗ\, Greenpeace Hellas\, Γιατροί Χωρίς Σύνορα\, Dataphoria\, Repl4stic\,  Improvlepto\, The Pitchicocks. \nΕίναι ευκαιρία να τις τιμήσουμε και να περάσουμε όμορφα! Σε περιμένουμε!
URL:https://neasmyrni.gr/event/%ce%ad%ce%bb%ce%b1-%ce%bd%ce%b1-%ce%b3%ce%b9%ce%bf%cf%81%cf%84%ce%ac%cf%83%ce%bf%cf%85%ce%bc%ce%b5-%ce%bc%ce%b1%ce%b6%ce%af-%cf%84%ce%b7%ce%bd-%cf%80%ce%b1%ce%b3%ce%ba%cf%8c%cf%83%ce%bc%ce%b9%ce%b1/
ATTACH;FMTTYPE=image/jpeg:https://neasmyrni.gr/wp-content/uploads/2023/06/foodwave-180623.jpg
END:VEVENT
END:VCALENDAR