BEGIN:VCALENDAR
VERSION:2.0
PRODID:-//Δήμος Ν.Σμύρνης - ECPv6.5.0//NONSGML v1.0//EN
CALSCALE:GREGORIAN
METHOD:PUBLISH
X-WR-CALNAME:Δήμος Ν.Σμύρνης
X-ORIGINAL-URL:https://neasmyrni.gr
X-WR-CALDESC:Δήμος Ν.Σμύρνης - Εκδηλώσεις
REFRESH-INTERVAL;VALUE=DURATION:PT1H
X-Robots-Tag:noindex
X-PUBLISHED-TTL:PT1H
BEGIN:VTIMEZONE
TZID:Europe/Athens
BEGIN:DAYLIGHT
TZOFFSETFROM:+0200
TZOFFSETTO:+0300
TZNAME:EEST
DTSTART:20230326T010000
END:DAYLIGHT
BEGIN:STANDARD
TZOFFSETFROM:+0300
TZOFFSETTO:+0200
TZNAME:EET
DTSTART:20231029T010000
END:STANDARD
END:VTIMEZONE
BEGIN:VEVENT
DTSTART;TZID=Europe/Athens:20230619T180000
DTEND;TZID=Europe/Athens:20230619T200000
DTSTAMP:20260423T135016
CREATED:20230609T085416Z
LAST-MODIFIED:20230609T085416Z
UID:269480-1687197600-1687204800@neasmyrni.gr
SUMMARY:Διαδικτυακές Απάτες\, Προστασία Ψηφιακών Συσκευών & Προσωπικών Δεδομένων
DESCRIPTION:H Περιφέρεια Αττικής\, σε συνεργασία με το Σύνδεσμο για τη Βιώσιμη Ανάπτυξη των Πόλεων (Σ.Β.Α.Π.) ξεκινάει τον Ιούνιο διαδικτυακά σεμινάρια\, στο πλαίσιο του έργου «Δράσεις Ψηφιακής Εκπαίδευσης και Ψηφιακού Εγγραμματισμού» (Ε.Π. «Αττική 2014-2020»). Η πρόσκληση παραμένει ανοικτή\, για όλες και όλους τους ενήλικες δημότες ανεξαιρέτως και κυρίως δωρεάν\, ενώ αφορά τις υπηρεσίες\, τα εργαλεία και τις μεθόδους για την ασφαλή και αποτελεσματική χρήση του διαδικτύου. \n  \nΜπορείτε να παρακολουθήσετε ζωντανά το webinar στο κανάλι https://youtube.com/@AtticaDigital ή εναλλακτικά\, μπορείτε επίσης να παρακολουθήσετε από τη σελίδα στο https://www.facebook.com/digital.attiki. Σε κάθε περίπτωση ορίστε υπενθύμιση!\nΗ πρόσκληση παρακολούθησης είναι ανοικτή και κυρίως δωρεάν για όλους τους ενήλικες πολίτες ανεξαιρέτως\, μπορείτε να κάνετε εγγραφή στη σελίδα https://tinyurl.com/digitalattiki. Με την ολοκλήρωση του webinar όσες και όσοι το επιθυμούν\, θα λάβουν σχετική βεβαίωση παρακολούθησης.
URL:https://neasmyrni.gr/event/%ce%b4%ce%b9%ce%b1%ce%b4%ce%b9%ce%ba%cf%84%cf%85%ce%b1%ce%ba%ce%ad%cf%82-%ce%b1%cf%80%ce%ac%cf%84%ce%b5%cf%82-%cf%80%cf%81%ce%bf%cf%83%cf%84%ce%b1%cf%83%ce%af%ce%b1-%cf%88%ce%b7%cf%86%ce%b9%ce%b1/
ATTACH;FMTTYPE=image/png:https://neasmyrni.gr/wp-content/uploads/2023/06/webinarsjune.png
END:VEVENT
END:VCALENDAR