BEGIN:VCALENDAR
VERSION:2.0
PRODID:-//Δήμος Ν.Σμύρνης - ECPv6.5.0//NONSGML v1.0//EN
CALSCALE:GREGORIAN
METHOD:PUBLISH
X-ORIGINAL-URL:https://neasmyrni.gr
X-WR-CALDESC:Δήμος Ν.Σμύρνης - Εκδηλώσεις
REFRESH-INTERVAL;VALUE=DURATION:PT1H
X-Robots-Tag:noindex
X-PUBLISHED-TTL:PT1H
BEGIN:VTIMEZONE
TZID:Europe/Athens
BEGIN:DAYLIGHT
TZOFFSETFROM:+0200
TZOFFSETTO:+0300
TZNAME:EEST
DTSTART:20230326T010000
END:DAYLIGHT
BEGIN:STANDARD
TZOFFSETFROM:+0300
TZOFFSETTO:+0200
TZNAME:EET
DTSTART:20231029T010000
END:STANDARD
END:VTIMEZONE
BEGIN:VEVENT
DTSTART;TZID=Europe/Athens:20231203T100000
DTEND;TZID=Europe/Athens:20231203T160000
DTSTAMP:20260423T012449
CREATED:20231128T113548Z
LAST-MODIFIED:20231128T113548Z
UID:310776-1701597600-1701619200@neasmyrni.gr
SUMMARY:ΠΑΖΑΡΙ ΑΓΑΘΟΕΡΓΟΥ ΣΩΜΑΤΕΙΟΥ ΕΘΝΙΚΗΣ ΣΤΕΓΗΣ
DESCRIPTION:Το Φιλανθρωπικό Σωματείο «ΕΘΝΙΚΗ ΣΤΕΓΗ» συμπλήρωσε\, 100 χρόνια κοινωνικής προσφοράς αφιερωμένα στο παιδί.\nΑπό το 1992 ίδρυσε και λειτουργεί με επιτυχία στην οδό Ανοίξεως 10\, στη Νέα Σμύρνη\, το «Κέντρο Βρεφικής και Παιδικής Ηλικίας «ΕΘΝΙΚΗ ΣΤΕΓΗ» για τη δημιουργική απασχόληση παιδιών προσχολικής ηλικίας και την ψυχολογική στήριξη παιδιών και γονέων με «ατομική συμβουλευτική» που συντηρείται με την οικονομική ενίσχυση των μελών και φίλων του Σωματείου.\nΓια τη στήριξη του κοινωνικού έργου του\, που εσείς ενισχύετε\, θα πραγματοποιήσουμε το καθιερωμένο ετήσιο «Παζάρι-πανηγύρι»\, στο φιλόξενο χώρο της «ΕΘΝΙΚΗΣ ΣΤΕΓΗΣ» (Βάρνης 1\, Νέα Σμύρνη)\, στις 03/12/2023\, ημέρα Κυριακή από 10.00π.μ. μέχρι 4.00μ.μ.\nΦέτος\, τα έσοδά μας θα σταλούν στις πλημμυροπαθείς οικογένειες.\nΕπίσης\, συγκεντρώνουμε στην οδό Βάρνης\, τρόφιμα και είδη πρώτης ανάγκης\, μακράς ημερομηνίας λήξης\, για τις οικογένειες αυτές.\nΣτο παζάρι αυτό\, σας περιμένουν τα σπιτικά\, παραδοσιακά\, γλυκά και δώρα.
URL:https://neasmyrni.gr/event/%cf%80%ce%b1%ce%b6%ce%b1%cf%81%ce%b9-%ce%b1%ce%b3%ce%b1%ce%b8%ce%bf%ce%b5%cf%81%ce%b3%ce%bf%cf%85-%cf%83%cf%89%ce%bc%ce%b1%cf%84%ce%b5%ce%b9%ce%bf%cf%85-%ce%b5%ce%b8%ce%bd%ce%b9%ce%ba%ce%b7%cf%83/
ATTACH;FMTTYPE=image/jpeg:https://neasmyrni.gr/wp-content/uploads/2023/11/100XRONIA-PROSFORAS.jpg
END:VEVENT
END:VCALENDAR