BEGIN:VCALENDAR
VERSION:2.0
PRODID:-//Δήμος Ν.Σμύρνης - ECPv6.5.0//NONSGML v1.0//EN
CALSCALE:GREGORIAN
METHOD:PUBLISH
X-ORIGINAL-URL:https://neasmyrni.gr
X-WR-CALDESC:Δήμος Ν.Σμύρνης - Εκδηλώσεις
REFRESH-INTERVAL;VALUE=DURATION:PT1H
X-Robots-Tag:noindex
X-PUBLISHED-TTL:PT1H
BEGIN:VTIMEZONE
TZID:Europe/Athens
BEGIN:DAYLIGHT
TZOFFSETFROM:+0200
TZOFFSETTO:+0300
TZNAME:EEST
DTSTART:20230326T010000
END:DAYLIGHT
BEGIN:STANDARD
TZOFFSETFROM:+0300
TZOFFSETTO:+0200
TZNAME:EET
DTSTART:20231029T010000
END:STANDARD
END:VTIMEZONE
BEGIN:VEVENT
DTSTART;TZID=Europe/Athens:20231216T100000
DTEND;TZID=Europe/Athens:20231216T140000
DTSTAMP:20260423T012450
CREATED:20231212T105124Z
LAST-MODIFIED:20231212T105143Z
UID:313160-1702720800-1702735200@neasmyrni.gr
SUMMARY:ΚΑΙ ΦΕΤΟΣ ΓΙΝΟΜΑΣΤΕ ΟΛΟΙ ΑΪ ΒΑΣΙΛΗΔΕΣ!!!
DESCRIPTION:Συγκέντρωση Χριστουγεννιάτικων δώρων το Σάββατο 16 Δεκεμβρίου \n  \nΟι γιορτές πλησιάζουν και πολλοί γονείς\, αδυνατούν να προσφέρουν τα χριστουγεννιάτικα δώρα που κάθε παιδί περιμένει. \nΓια αυτό\, \nΗ κοινωνική υπηρεσία του Δήμου Νέας Σμύρνης σε συνεργασία με το ΟΛΟΙ ΜΑΖΙ ΜΠΟΡΟΥΜΕ διοργανώνει δράση συγκέντρωσης χριστουγεννιάτικων δώρων\, ώστε να μην αφήσει κανένα παιδί χωρίς το δώρο του. \nΗ δράση πρόκειται να πραγματοποιηθεί το Σάββατο\, 16 Δεκεμβρίου 2023\, από τις 10:00 έως τις 14:00\, \nΣτο Κέντρο Κοινότητας του Δήμου Νέας Σμύρνης\, \nΕλ.Βενιζέλου 14\,  Ισόγειο \nΤηλ:2132025818\,2132025931 \n 
URL:https://neasmyrni.gr/event/%ce%ba%ce%b1%ce%b9-%cf%86%ce%b5%cf%84%ce%bf%cf%83-%ce%b3%ce%b9%ce%bd%ce%bf%ce%bc%ce%b1%cf%83%cf%84%ce%b5-%ce%bf%ce%bb%ce%bf%ce%b9-%ce%b1%cf%8a-%ce%b2%ce%b1%cf%83%ce%b9%ce%bb%ce%b7%ce%b4%ce%b5%cf%83/
ATTACH;FMTTYPE=image/png:https://neasmyrni.gr/wp-content/uploads/2023/12/oloimazi-christ.png
END:VEVENT
END:VCALENDAR