BEGIN:VCALENDAR
VERSION:2.0
PRODID:-//Δήμος Ν.Σμύρνης - ECPv6.5.0//NONSGML v1.0//EN
CALSCALE:GREGORIAN
METHOD:PUBLISH
X-WR-CALNAME:Δήμος Ν.Σμύρνης
X-ORIGINAL-URL:https://neasmyrni.gr
X-WR-CALDESC:Δήμος Ν.Σμύρνης - Εκδηλώσεις
REFRESH-INTERVAL;VALUE=DURATION:PT1H
X-Robots-Tag:noindex
X-PUBLISHED-TTL:PT1H
BEGIN:VTIMEZONE
TZID:Europe/Athens
BEGIN:DAYLIGHT
TZOFFSETFROM:+0200
TZOFFSETTO:+0300
TZNAME:EEST
DTSTART:20240331T010000
END:DAYLIGHT
BEGIN:STANDARD
TZOFFSETFROM:+0300
TZOFFSETTO:+0200
TZNAME:EET
DTSTART:20241027T010000
END:STANDARD
END:VTIMEZONE
BEGIN:VEVENT
DTSTART;TZID=Europe/Athens:20240302T170000
DTEND;TZID=Europe/Athens:20240302T190000
DTSTAMP:20260422T004130
CREATED:20240301T113200Z
LAST-MODIFIED:20240301T113200Z
UID:331889-1709398800-1709406000@neasmyrni.gr
SUMMARY:ΗΜΕΡΙΔΑ ΔΙΑΤΡΟΦΗΣ & ΨΥΧΙΚΗΣ ΥΓΕΙΑΣ
DESCRIPTION:Η 1η Ημερίδα Διατροφής & Ψυχικής Υγείας διοργανώνεται το Σάββατο 2 Μαρτίου\, ώρα 17.00 στην Αίθουσα Εκδηλώσεων του 1ου Γυμνασίου Νέας Σμύρνης (Κοραή 20)\nΣτόχος της εκδήλωσης είναι να υπογραμμιστεί η σημασία της διατροφής στην υγεία και τις επιδόσεις των μαθητών και να περάσει το μήνυμα «Τρέφομαι και ενημερώνομαι σωστά – Ζω υγιεινά!»\nΘα μιλήσουν οι Διαιτολόγοι – Διατροφολόγοι Σοφία Αγαπητού\, Δέσποινα Μαρσέλλου και Αθανασία Ροηλίδη\, η Παιδοψυχίατρος Κάτια Χατζηγεωργίου και η Κοινωνική Λειτουργός Ιλιάνα Νιαρχάκου.\nΤην εκδήλωση διοργανώνει το 1ο Γυμνάσιο Νέας Σμύρνης με την υποστήριξη του 1ου Δημοτικού και 1ου Λυκείου Νέας Σμύρνης και του Συλλόγου Γονέων & Κηδεμόνων του 1ου Γυμνασίου Νέας Σμύρνης.
URL:https://neasmyrni.gr/event/%ce%b7%ce%bc%ce%b5%cf%81%ce%b9%ce%b4%ce%b1-%ce%b4%ce%b9%ce%b1%cf%84%cf%81%ce%bf%cf%86%ce%b7%cf%83-%cf%88%cf%85%cf%87%ce%b9%ce%ba%ce%b7%cf%83-%cf%85%ce%b3%ce%b5%ce%b9%ce%b1%cf%83/
ATTACH;FMTTYPE=image/jpeg:https://neasmyrni.gr/wp-content/uploads/2024/03/1hmeridadiatrofis.jpg
END:VEVENT
END:VCALENDAR