BEGIN:VCALENDAR
VERSION:2.0
PRODID:-//Δήμος Ν.Σμύρνης - ECPv6.5.0//NONSGML v1.0//EN
CALSCALE:GREGORIAN
METHOD:PUBLISH
X-ORIGINAL-URL:https://neasmyrni.gr
X-WR-CALDESC:Δήμος Ν.Σμύρνης - Εκδηλώσεις
REFRESH-INTERVAL;VALUE=DURATION:PT1H
X-Robots-Tag:noindex
X-PUBLISHED-TTL:PT1H
BEGIN:VTIMEZONE
TZID:Europe/Athens
BEGIN:DAYLIGHT
TZOFFSETFROM:+0200
TZOFFSETTO:+0300
TZNAME:EEST
DTSTART:20240331T010000
END:DAYLIGHT
BEGIN:STANDARD
TZOFFSETFROM:+0300
TZOFFSETTO:+0200
TZNAME:EET
DTSTART:20241027T010000
END:STANDARD
END:VTIMEZONE
BEGIN:VEVENT
DTSTART;TZID=Europe/Athens:20240308T190000
DTEND;TZID=Europe/Athens:20240308T210000
DTSTAMP:20260422T041053
CREATED:20240301T113501Z
LAST-MODIFIED:20240301T113501Z
UID:331893-1709924400-1709931600@neasmyrni.gr
SUMMARY:ΕΚΔΗΛΩΣΗ ΓΙΑ ΤΗΝ ΓΥΝΑΙΚΕΙΑ ΕΠΙΧΕΙΡΗΜΑΤΙΚΟΤΗΤΑ
DESCRIPTION:«Η Γυναικεία Επιχειρηματικότητα τον 21ο αιώνα» είναι το θέμα εκδήλωσης που διοργανώνει ο Εμπορικός Σύλλογος Νέας Σμύρνης με αφορμή την Παγκόσμια Ημέρα της Γυναίκας στις 8 Μαρτίου.\nΗ εκδήλωση συνδιοργανώνεται με το Εργαστήριο «Μέθεξη» του Πάντειου Πανεπιστημίου και θα πραγματοποιηθεί την Παρασκευή 8 Μαρτίου 2024\, ώρα 19.00 στην αίθουσα εκδηλώσεων του δημόσιου ΙΕΚ Νέας Σμύρνης (Μηδείας & Κύπρου 21).\nΘα μιλήσουν οι: Νάνσυ Παπαλεξανδρή\, Ομότιμη Καθηγήτρια του Οικονομικού Πανεπιστημίου Αθηνών\, Κωνσταντίνα Κοτταρίδη\, Καθηγήτρια του Πανεπιστημίου Πειραιώς\, Ράνια Οικονόμου\, Πρόεδρος της Δημοτικής Επιτροπής Ισότητας Νέας Σμύρνης\, Μαρίνου Δεκούλου\, Αντιδήμαρχος Σχολικών Ομάδων & Φιλοζωίας\, Νάντια Αβιτίδου\, Πρόεδρος του Πολιτιστικού & Φιλανθρωπικού Συλλόγου Γυναικών.\nΧαιρετισμό θα απευθύνουν\, ο Δήμαρχος Νέας Σμύρνης Γιώργος Κουτελάκης\, η Πρόεδρος της Επιτροπής Επιχειρηματικότητας Ε.Ε.Α. Νάντια Σταυρογιάννη\, η Υφυπουργός Μετανάστευσης και Ασύλου Σοφία Βούλτεψη και ο Βουλευτής Νοτίου Τομέα Β3 Παύλος Χρηστίδης.\nΤην εκδήλωση θα συντονίσει ο Διευθυντής του Εργαστηρίου «Μέθεξη» Γεράσιμος Καραμπελιάς.
URL:https://neasmyrni.gr/event/%ce%b5%ce%ba%ce%b4%ce%b7%ce%bb%cf%89%cf%83%ce%b7-%ce%b3%ce%b9%ce%b1-%cf%84%ce%b7%ce%bd-%ce%b3%cf%85%ce%bd%ce%b1%ce%b9%ce%ba%ce%b5%ce%b9%ce%b1-%ce%b5%cf%80%ce%b9%cf%87%ce%b5%ce%b9%cf%81%ce%b7%ce%bc/
ATTACH;FMTTYPE=image/jpeg:https://neasmyrni.gr/wp-content/uploads/2024/03/gynepixeir.jpg
END:VEVENT
END:VCALENDAR