BEGIN:VCALENDAR
VERSION:2.0
PRODID:-//Δήμος Ν.Σμύρνης - ECPv6.5.0//NONSGML v1.0//EN
CALSCALE:GREGORIAN
METHOD:PUBLISH
X-ORIGINAL-URL:https://neasmyrni.gr
X-WR-CALDESC:Δήμος Ν.Σμύρνης - Εκδηλώσεις
REFRESH-INTERVAL;VALUE=DURATION:PT1H
X-Robots-Tag:noindex
X-PUBLISHED-TTL:PT1H
BEGIN:VTIMEZONE
TZID:Europe/Athens
BEGIN:DAYLIGHT
TZOFFSETFROM:+0200
TZOFFSETTO:+0300
TZNAME:EEST
DTSTART:20240331T010000
END:DAYLIGHT
BEGIN:STANDARD
TZOFFSETFROM:+0300
TZOFFSETTO:+0200
TZNAME:EET
DTSTART:20241027T010000
END:STANDARD
END:VTIMEZONE
BEGIN:VEVENT
DTSTART;TZID=Europe/Athens:20240328T190000
DTEND;TZID=Europe/Athens:20240328T210000
DTSTAMP:20260422T041051
CREATED:20240327T150132Z
LAST-MODIFIED:20240327T150132Z
UID:337764-1711652400-1711659600@neasmyrni.gr
SUMMARY:ΔΕΥΤΕΡΟΣ ΚΥΚΛΟΣ ΣΕΜΙΝΑΡΙΩΝ ΑΠΌ ΤΟΝ «ΗΛΙΟ»
DESCRIPTION:«Τι απομένει από τον πατέρα σήμερα; Συνέπειες της κρίσης της πατρικής λειτουργίας». Αυτό είναι το θέμα της δεύτερης συνάντησης στο πλαίσιο του Κύκλου Σεμιναρίων Γονέων Εφήβων του Κέντρου Πρόληψης Εξαρτήσεων ”ΗΛΙΟΣ”\nΤο σεμινάριο θα πραγματοποιηθεί στο Ψηφιακό Μουσείο της Νέας Σμύρνης (Ελ. Βενιζέλου 87)\, την Πέμπτη 28 Μαρτίου 2024 & Ώρες 19:00 – 20:45\nΣτην δεύτερη συνάντηση του σεμιναρίου οι συμμετέχοντες θα επιχειρήσουν να αναδείξουν σε τι συνίσταται η «πατρική λειτουργία»\, τι σημαίνει και με ποια φαινόμενα παθογένειας σχετίζεται η κρίση της\, τόσο σε ατομικό όσο και σε συλλογικό επίπεδο\, εστιάζοντας στα επιφαινόμενα της στην οικογένεια\, το σχολείο και τον ευρύτερο κοινωνικό χώρο.\nΕισηγητής: Κωνσταντίνου Ευάγγελος\, Κοινωνικός Ψυχολόγος (MSc)\, Ψυχαναλυτικός Ψυχοθεραπευτής\, Επιστημονικός Υπεύθυνος Κέντρου Πρόληψης ”ΗΛΙΟΣ”\n\nΕίσοδος Ελεύθερη
URL:https://neasmyrni.gr/event/%ce%b4%ce%b5%cf%85%cf%84%ce%b5%cf%81%ce%bf%cf%83-%ce%ba%cf%85%ce%ba%ce%bb%ce%bf%cf%83-%cf%83%ce%b5%ce%bc%ce%b9%ce%bd%ce%b1%cf%81%ce%b9%cf%89%ce%bd-%ce%b1%cf%80%cf%8c-%cf%84%ce%bf%ce%bd-%ce%b7/
LOCATION:Ψηφιακό Μουσείο Νέας Σμύρνης\, Ελευθερίου Βενιζέλου 87\, Αθήνα\, Νέα Σμύρνη\, 17121\, Ελλάδα
ATTACH;FMTTYPE=image/jpeg:https://neasmyrni.gr/wp-content/uploads/2024/03/seminaria-hlios.jpg
END:VEVENT
END:VCALENDAR