BEGIN:VCALENDAR
VERSION:2.0
PRODID:-//Δήμος Ν.Σμύρνης - ECPv6.5.0//NONSGML v1.0//EN
CALSCALE:GREGORIAN
METHOD:PUBLISH
X-ORIGINAL-URL:https://neasmyrni.gr
X-WR-CALDESC:Δήμος Ν.Σμύρνης - Εκδηλώσεις
REFRESH-INTERVAL;VALUE=DURATION:PT1H
X-Robots-Tag:noindex
X-PUBLISHED-TTL:PT1H
BEGIN:VTIMEZONE
TZID:Europe/Athens
BEGIN:DAYLIGHT
TZOFFSETFROM:+0200
TZOFFSETTO:+0300
TZNAME:EEST
DTSTART:20240331T010000
END:DAYLIGHT
BEGIN:STANDARD
TZOFFSETFROM:+0300
TZOFFSETTO:+0200
TZNAME:EET
DTSTART:20241027T010000
END:STANDARD
END:VTIMEZONE
BEGIN:VEVENT
DTSTART;TZID=Europe/Athens:20240407T110000
DTEND;TZID=Europe/Athens:20240407T130000
DTSTAMP:20260422T053953
CREATED:20240403T114728Z
LAST-MODIFIED:20240403T114728Z
UID:339585-1712487600-1712494800@neasmyrni.gr
SUMMARY:ΕΚΔΗΛΩΣΗ ΓΙΑ ΤΗΝ ΒΙΑ ΤΩΝ ΑΝΗΛΙΚΩΝ
DESCRIPTION:«Βία στην καθημερινότητα των ανηλίκων: Τι κάνουμε;» είναι το θέμα εκδήλωσης – συζήτησης ου διοργανώνει την Κυριακή 7 Απριλίου\, ώρα 11.00 στον πολυχώρο «Γαλαξίας» η Αλληλεγγύη Νέας Σμύρνης.\nΌπως τονίζουν οι διοργανωτές η εκδήλωση είναι αφορμή «για να σπάσουμε τη σιωπή\, την ανοχή και την αδιαφορία αλλά και για να αναζητήσουμε διεξόδους»\, καθώς «η βία ανάμεσα στους ανηλίκους έχει εκδηλωθεί και ανάμεσά μας\, στη Νέα Σμύρνη\, και η αντιμετώπιση και η προστασία των θυμάτων\, αφορά όλους μας\, τα παιδιά\, τους γονείς\, τους εκπαιδευτικούς\, τους θεσμούς\, τις συλλογικότητες».\nΣτην εκδήλωση θα μιλήσουν ο Δημήτρης Μαγριπλής\, Ψυχίατρος Παιδιών & Εφήβων\, ο Πέτρος Δαμιανός\, Διευθυντής Σχολικών Μονάδων Φυλακών Αυλώνα\, η Αναστασία Χατζηστεφάνου-Βαφέα\, Παιδαγωγός και η Νεφέλη Αναγνωστοπούλου\, Ψυχολόγος-Ψυχοθεραπεύτρια Παιδιών & Εφήβων.\nΘα συντονίσει η Νίκη Παληγεώργου-Αντωνιάδου\, Κοινωνική Λειτουργός.
URL:https://neasmyrni.gr/event/%ce%b5%ce%ba%ce%b4%ce%b7%ce%bb%cf%89%cf%83%ce%b7-%ce%b3%ce%b9%ce%b1-%cf%84%ce%b7%ce%bd-%ce%b2%ce%b9%ce%b1-%cf%84%cf%89%ce%bd-%ce%b1%ce%bd%ce%b7%ce%bb%ce%b9%ce%ba%cf%89%ce%bd/
LOCATION:Γαλαξίας – Δημοτικός Πολυχώρος Πολιτισμού Νέας Σμύρνης\, 2ας Μαΐου 16\, Νέα Σμύρνη\, 171 21\, Greece
ATTACH;FMTTYPE=image/jpeg:https://neasmyrni.gr/wp-content/uploads/2024/04/viaanilikwn.jpg
END:VEVENT
END:VCALENDAR