BEGIN:VCALENDAR
VERSION:2.0
PRODID:-//Δήμος Ν.Σμύρνης - ECPv6.5.0//NONSGML v1.0//EN
CALSCALE:GREGORIAN
METHOD:PUBLISH
X-ORIGINAL-URL:https://neasmyrni.gr
X-WR-CALDESC:Δήμος Ν.Σμύρνης - Εκδηλώσεις
REFRESH-INTERVAL;VALUE=DURATION:PT1H
X-Robots-Tag:noindex
X-PUBLISHED-TTL:PT1H
BEGIN:VTIMEZONE
TZID:Europe/Athens
BEGIN:DAYLIGHT
TZOFFSETFROM:+0200
TZOFFSETTO:+0300
TZNAME:EEST
DTSTART:20240331T010000
END:DAYLIGHT
BEGIN:STANDARD
TZOFFSETFROM:+0300
TZOFFSETTO:+0200
TZNAME:EET
DTSTART:20241027T010000
END:STANDARD
END:VTIMEZONE
BEGIN:VEVENT
DTSTART;TZID=Europe/Athens:20240412T180000
DTEND;TZID=Europe/Athens:20240412T200000
DTSTAMP:20260422T055043
CREATED:20240404T085748Z
LAST-MODIFIED:20240404T085748Z
UID:339905-1712944800-1712952000@neasmyrni.gr
SUMMARY:ΠΑΡΟΥΣΙΑΣΗ ΒΙΒΛΙΟΥ ΣΤΗΝ ΔΗΜΟΤΙΚΗ ΒΙΒΛΙΟΘΗΚΗ
DESCRIPTION:Στην φιλόξενη Δημοτική Βιβλιοθήκη Νέας Σμύρνης θα γίνει η παρουσίαση του βιβλίου «Θάνατοι στη Χούντα – Δολοφονίες – Αντιδικτατορική δράση – Ύποπτοι θάνατοι κατά την περίοδο 1967-1974» του Δημήτρη Βεριώνη (εκδόσεις Τόπος).\nΗ εκδήλωση θα πραγματοποιηθεί την Παρασκευή 12 Απριλίου 20024\, ώρα 18.00\, στην αυλή της Δημοτικής Βιβλιοθήκης (Αϊδινίου 28).\nΓια το βιβλίο θα μιλήσουν ο Γιώργος Βάρσος\, τ. καθηγητής της Φιλοσοφικής Σχολής του ΕΚΠΑ\, ο Νίκος Μανιός\, Γενικός Γραμματέας του Συνδέσμου Φυλακισθέντων Εξορισθέντων Αντιστασιακών και ο συγγραφέας. \n  \n\nΤην εκδήλωση θα συντονίσει ο Δημοτικός Σύμβουλος Λάζαρος Κικίδης.
URL:https://neasmyrni.gr/event/parousiasi-bibliou-sth-dimotiki-bibliothiki/
ATTACH;FMTTYPE=image/jpeg:https://neasmyrni.gr/wp-content/uploads/2024/04/parousiasi-120224.jpg
END:VEVENT
END:VCALENDAR