BEGIN:VCALENDAR
VERSION:2.0
PRODID:-//Δήμος Ν.Σμύρνης - ECPv6.5.0//NONSGML v1.0//EN
CALSCALE:GREGORIAN
METHOD:PUBLISH
X-WR-CALNAME:Δήμος Ν.Σμύρνης
X-ORIGINAL-URL:https://neasmyrni.gr
X-WR-CALDESC:Δήμος Ν.Σμύρνης - Εκδηλώσεις
REFRESH-INTERVAL;VALUE=DURATION:PT1H
X-Robots-Tag:noindex
X-PUBLISHED-TTL:PT1H
BEGIN:VTIMEZONE
TZID:Europe/Athens
BEGIN:DAYLIGHT
TZOFFSETFROM:+0200
TZOFFSETTO:+0300
TZNAME:EEST
DTSTART:20240331T010000
END:DAYLIGHT
BEGIN:STANDARD
TZOFFSETFROM:+0300
TZOFFSETTO:+0200
TZNAME:EET
DTSTART:20241027T010000
END:STANDARD
END:VTIMEZONE
BEGIN:VEVENT
DTSTART;TZID=Europe/Athens:20240414T100000
DTEND;TZID=Europe/Athens:20240414T130000
DTSTAMP:20260422T053917
CREATED:20240405T145504Z
LAST-MODIFIED:20240405T145504Z
UID:340297-1713088800-1713099600@neasmyrni.gr
SUMMARY:PET HAPPENING ΣΤΟΝ «ΓΑΛΑΞΙΑ»
DESCRIPTION:Μια ξεχωριστή μέρα με πολλές εκπλήξεις\, εξ ολοκλήρου αφιερωμένη στους τετράποδους φίλους μας διοργανώνει το Γραφείο Αστικής Πανίδας και Χλωρίδας του Δήμου Νέας Σμύρνης την Κυριακή 14 Απριλίου\, ώρα 10.00\, στον πολυχώρο «Γαλαξίας»\nΚατά την διάρκεια της εκδήλωσης θα γίνουν υιοθεσίες ζώων\, θα δοθούν χρήσιμες συμβουλές φροντίδας για την ευζωία των γάτων και των σκύλων\, ενώ η μέρα θα πλαισιωθεί από παιχνίδια\, μουσική και happenings.\nΕπίσημος καλεσμένος είναι ο Χόρχε Κάππα\, δημιουργός και διαχειριστής της σελίδας Tsitsos The Cat\, της πιο διάσημης γάτας του ελληνικού διαδικτύου.
URL:https://neasmyrni.gr/event/pet-happening-%cf%83%cf%84%ce%bf%ce%bd-%ce%b3%ce%b1%ce%bb%ce%b1%ce%be%ce%b9%ce%b1/
LOCATION:Γαλαξίας – Δημοτικός Πολυχώρος Πολιτισμού Νέας Σμύρνης\, 2ας Μαΐου 16\, Νέα Σμύρνη\, 171 21\, Greece
ATTACH;FMTTYPE=image/jpeg:https://neasmyrni.gr/wp-content/uploads/2024/04/4348pethappening.jpg
END:VEVENT
END:VCALENDAR