BEGIN:VCALENDAR
VERSION:2.0
PRODID:-//Δήμος Ν.Σμύρνης - ECPv6.5.0//NONSGML v1.0//EN
CALSCALE:GREGORIAN
METHOD:PUBLISH
X-WR-CALNAME:Δήμος Ν.Σμύρνης
X-ORIGINAL-URL:https://neasmyrni.gr
X-WR-CALDESC:Δήμος Ν.Σμύρνης - Εκδηλώσεις
REFRESH-INTERVAL;VALUE=DURATION:PT1H
X-Robots-Tag:noindex
X-PUBLISHED-TTL:PT1H
BEGIN:VTIMEZONE
TZID:Europe/Athens
BEGIN:DAYLIGHT
TZOFFSETFROM:+0200
TZOFFSETTO:+0300
TZNAME:EEST
DTSTART:20240331T010000
END:DAYLIGHT
BEGIN:STANDARD
TZOFFSETFROM:+0300
TZOFFSETTO:+0200
TZNAME:EET
DTSTART:20241027T010000
END:STANDARD
END:VTIMEZONE
BEGIN:VEVENT
DTSTART;TZID=Europe/Athens:20240422T183000
DTEND;TZID=Europe/Athens:20240422T203000
DTSTAMP:20260422T055048
CREATED:20240410T102147Z
LAST-MODIFIED:20240410T102136Z
UID:339470-1713810600-1713817800@neasmyrni.gr
SUMMARY:ΗΜΕΡΙΔΑ ΓΙΑ ΤΗΝ ΚΡΙΣΗ ΣΤΗ ΣΧΟΛΙΚΗ ΚΟΙΝΟΤΗΤΑ
DESCRIPTION:Ημερίδα για τις «Διαστάσεις της κρίσης στην σχολική κοινότητα διοργανώνει η Τοπική Ομάδα Προαγωγής Ψυχικής Υγείας Δήμου Νέα Σμύρνης την Δευτέρα 22 Απριλίου 2024.\nΕισηγήσεις για το θέμα θα πραγματοποιήσουν ο Ευάγγελος Κωνσταντίνου\, Κοινωνικός Ψυχολόγος (MSc)\, Ψυχοθεραπευτής και Επιστημονικός υπεύθυνος του Κέντρου Πρόληψης «Ήλιος»\, η Μαρίνα Κωνσταντινίδου\, Ψυχολόγος\, Υπεύθυνη Γραφείου Υποστήριξης Οικογένειας Δήμου Νέας Σμύρνης\, η Γεωργία Μπουλμέτη\, Σύμβουλος Εκπαίδευσης ΠΕ30 Κοινωνικών Λειτουργών\, η Ελένη Ρηγούτσου\, Κλινική Ψυχολόγος\, και η Χιονάτη Συλιανού\, Κοινωνική Λειτουργός\, Προϊστάμενη Κοινωνικής Υπηρεσίας Δήμου Νέας Σμύρνης.\nΣυντονίζει ο Αντώνης Κατασμάγκος\, Ψυχολόγος – Ψυχοθεραπευτής.\n\nΗ ημερίδα θα πραγματοποιηθεί στο Αμφιθέατρο ΕΠΑΛ Νέας Σμύρνης\, Κύπρου 21
URL:https://neasmyrni.gr/event/%ce%b7%ce%bc%ce%b5%cf%81%ce%af%ce%b4%ce%b1-%cf%84%ce%bf%cf%80%cf%88%cf%85-%ce%bd%ce%ad%ce%b1%cf%82-%cf%83%ce%bc%cf%8d%cf%81%ce%bd%ce%b7%cf%82/
ATTACH;FMTTYPE=image/jpeg:https://neasmyrni.gr/wp-content/uploads/2024/04/ΤΟΠΨΥ-22.4.24.jpg
END:VEVENT
END:VCALENDAR