BEGIN:VCALENDAR
VERSION:2.0
PRODID:-//Δήμος Ν.Σμύρνης - ECPv6.5.0//NONSGML v1.0//EN
CALSCALE:GREGORIAN
METHOD:PUBLISH
X-ORIGINAL-URL:https://neasmyrni.gr
X-WR-CALDESC:Δήμος Ν.Σμύρνης - Εκδηλώσεις
REFRESH-INTERVAL;VALUE=DURATION:PT1H
X-Robots-Tag:noindex
X-PUBLISHED-TTL:PT1H
BEGIN:VTIMEZONE
TZID:Europe/Athens
BEGIN:DAYLIGHT
TZOFFSETFROM:+0200
TZOFFSETTO:+0300
TZNAME:EEST
DTSTART:20240331T010000
END:DAYLIGHT
BEGIN:STANDARD
TZOFFSETFROM:+0300
TZOFFSETTO:+0200
TZNAME:EET
DTSTART:20241027T010000
END:STANDARD
END:VTIMEZONE
BEGIN:VEVENT
DTSTART;TZID=Europe/Athens:20240425T190000
DTEND;TZID=Europe/Athens:20240425T210000
DTSTAMP:20260422T055043
CREATED:20240425T092242Z
LAST-MODIFIED:20240425T092242Z
UID:345183-1714071600-1714078800@neasmyrni.gr
SUMMARY:Παλεύοντας με τις μαύρες τους… από το άγχος και την απόγνωση στην αναζήτηση νοήματος
DESCRIPTION:3η Συνάντηση του Κύκλου Σεμιναρίων Γονέων Εφήβων του Κέντρου Πρόληψης Εξαρτήσεων ”ΗΛΙΟΣ” στο Ψηφιακό Μουσείο της Νέας Σμύρνης (Ελ. Βενιζέλου 87).\n\n\n\nΤην Πέμπτη 25 Απριλίου 2024 & Ώρες 19:15 – 20:45 με θέμα: «Παλεύοντας με τις μαύρες τους… από το άγχος και την απόγνωση στην αναζήτηση νοήματος».\n\n\nΣτην τρίτη συνάντηση του σεμιναρίου θα επιχειρήσουμε να αναδείξουμε τις αιτίες ενός γενικευμένου αισθήματος δυσφορίας των εφήβων και των νέων σήμερα (που εκφράζεται με άγχος\, καταθλιπτικότητα\, ανία\, απόγνωση κ.α.)\, οι οποίοι στην φάση αυτή της ανάπτυξης συχνά «παλεύουν με τις μαύρες τους» στην προσπάθεια τους να αποδώσουν νόημα στο βίωμα τους και να αισθάνονται αληθινοί\, ελλείψει πλέον σταθερών σημείων αναφοράς και ταύτισης.\n\n\n\nΕίσοδος Ελεύθερη!!!\n\n\nΕισηγητής: Κωνσταντίνου Ευάγγελος\, Κοινωνικός Ψυχολόγος (MSc)\, Ψυχαναλυτικός Ψυχοθεραπευτής\, Επιστημονικός Υπεύθυνος Κέντρου Πρόληψης ”ΗΛΙΟΣ”
URL:https://neasmyrni.gr/event/%cf%80%ce%b1%ce%bb%ce%b5%cf%8d%ce%bf%ce%bd%cf%84%ce%b1%cf%82-%ce%bc%ce%b5-%cf%84%ce%b9%cf%82-%ce%bc%ce%b1%cf%8d%cf%81%ce%b5%cf%82-%cf%84%ce%bf%cf%85%cf%82-%ce%b1%cf%80%cf%8c-%cf%84%ce%bf/
LOCATION:Ψηφιακό Μουσείο Νέας Σμύρνης\, Ελευθερίου Βενιζέλου 87\, Αθήνα\, Νέα Σμύρνη\, 17121\, Ελλάδα
ATTACH;FMTTYPE=image/jpeg:https://neasmyrni.gr/wp-content/uploads/2024/04/hlios-250424.jpg
END:VEVENT
END:VCALENDAR