BEGIN:VCALENDAR
VERSION:2.0
PRODID:-//Δήμος Ν.Σμύρνης - ECPv6.5.0//NONSGML v1.0//EN
CALSCALE:GREGORIAN
METHOD:PUBLISH
X-ORIGINAL-URL:https://neasmyrni.gr
X-WR-CALDESC:Δήμος Ν.Σμύρνης - Εκδηλώσεις
REFRESH-INTERVAL;VALUE=DURATION:PT1H
X-Robots-Tag:noindex
X-PUBLISHED-TTL:PT1H
BEGIN:VTIMEZONE
TZID:Europe/Athens
BEGIN:DAYLIGHT
TZOFFSETFROM:+0200
TZOFFSETTO:+0300
TZNAME:EEST
DTSTART:20240331T010000
END:DAYLIGHT
BEGIN:STANDARD
TZOFFSETFROM:+0300
TZOFFSETTO:+0200
TZNAME:EET
DTSTART:20241027T010000
END:STANDARD
END:VTIMEZONE
BEGIN:VEVENT
DTSTART;TZID=Europe/Athens:20240427T100000
DTEND;TZID=Europe/Athens:20240427T140000
DTSTAMP:20260422T055043
CREATED:20240425T105522Z
LAST-MODIFIED:20240425T105522Z
UID:345219-1714212000-1714226400@neasmyrni.gr
SUMMARY:ΔΡΑΣΗ ΣΥΛΛΟΓΗΣ ΠΑΣΧΑΛΙΝΩΝ ΔΩΡΩΝ
DESCRIPTION:Ο Δήμαρχος Νέας Σμύρνης Γιώργος Κουτελάκης και ο Αντιδήμαρχος Κοινωνικής Οικονομίας και Αλληλεγγύης Νότης Γιατζίδης καλούν τους δημότες να συμμετάσχουν στην Δράση συλλογής πασχαλινών δώρων που συνδιοργανώνουν η Κοινωνική Υπηρεσία του Δήμου και το «Όλοι Μαζί Μπορούμε».Οι δημότες μπορούν να προσφέρουν πασχαλινά δώρα (λαμπάδες\, παπούτσια\, παιχνίδια κλπ σε άριστη κατάσταση) για τα παιδιά των οικονομικά ευπαθών οικογενειών του Δήμου.Η συγκεκριμένη δράση θα πραγματοποιείται καθημερνά από την Δευτέρα\, 22 Απριλίου 2024 μέχρι και την Παρασκευή\, 26 Απριλίου 2024 από τις 10:00 ως τις 14:00.Οι δημότες μπορούν να προσέρχονται με τις προσφορές τους σε όλες τις Υπηρεσίες της Δ/νσης Κοινωνικής Οικονομίας και Αλληλεγγύης και επίσης• Στο Κέντρο Κοινότητας Δήμου Νέας Σμύρνης\, Λεωφ. Ελευθερίου Βενιζέλου 14 (ισόγειο)• Στα Δημοτικά Ιατρεία: Αρτάκης 76-78• Στο Κοινωνικό Παντοπωλείο: Αρτάκης 8• Στο 1ο ΚΕΠ Δήμου Νέας Σμύρνης: Πλ. Καρύλλου\, Αγίας Φωτεινής• Στο 2ο ΚΕΠ Δήμου Νέας Σμύρνης: Αγχιάλου 33Η Δράση θα συνεχιστεί και το Σάββατο\, 27 Απριλίου 2024 ώρα 10:00 – 14:00 στο Κέντρο Κοινότητας Δήμου Νέας Σμύρνης\, Λεωφ. Ελευθερίου Βενιζέλου 14 (ισόγειο)Ας γίνουμε όλοι μια αλυσίδα αλληλεγγύης και προσφοράς στον συνάνθρωπο!
URL:https://neasmyrni.gr/event/%ce%b4%cf%81%ce%b1%cf%83%ce%b7-%cf%83%cf%85%ce%bb%ce%bb%ce%bf%ce%b3%ce%b7%cf%83-%cf%80%ce%b1%cf%83%cf%87%ce%b1%ce%bb%ce%b9%ce%bd%cf%89%ce%bd-%ce%b4%cf%89%cf%81%cf%89%ce%bd/
ATTACH;FMTTYPE=image/jpeg:https://neasmyrni.gr/wp-content/uploads/2024/04/drasi-pasxa.jpg
END:VEVENT
END:VCALENDAR