BEGIN:VCALENDAR
VERSION:2.0
PRODID:-//Δήμος Ν.Σμύρνης - ECPv6.5.0//NONSGML v1.0//EN
CALSCALE:GREGORIAN
METHOD:PUBLISH
X-ORIGINAL-URL:https://neasmyrni.gr
X-WR-CALDESC:Δήμος Ν.Σμύρνης - Εκδηλώσεις
REFRESH-INTERVAL;VALUE=DURATION:PT1H
X-Robots-Tag:noindex
X-PUBLISHED-TTL:PT1H
BEGIN:VTIMEZONE
TZID:Europe/Athens
BEGIN:DAYLIGHT
TZOFFSETFROM:+0200
TZOFFSETTO:+0300
TZNAME:EEST
DTSTART:20240331T010000
END:DAYLIGHT
BEGIN:STANDARD
TZOFFSETFROM:+0300
TZOFFSETTO:+0200
TZNAME:EET
DTSTART:20241027T010000
END:STANDARD
END:VTIMEZONE
BEGIN:VEVENT
DTSTART;TZID=Europe/Athens:20240519T090000
DTEND;TZID=Europe/Athens:20240519T130000
DTSTAMP:20260422T041052
CREATED:20240515T120536Z
LAST-MODIFIED:20240515T120753Z
UID:350164-1716109200-1716123600@neasmyrni.gr
SUMMARY:17ος ΓΥΡΟΣ Ν.ΣΜΥΡΝΗΣ (7\,5KM)
DESCRIPTION:Η Διεύθυνση Αθλητισμού του Δήμου Νέας Σμύρνης σε συνεργασία με τον Σύλλογο Αθλουμένων Φίλων Άλσους Νέας Σμύρνης (Σ.Α.Φ.Α.Ν.Σ.)\,  διοργανώνουν αγώνα δρόμου απόστασης 7500 μέτρων με την επωνυμία  «17ος ΓΥΡΟΣ ΝΕΑΣ ΣΜΥΡΝΗΣ». \nΟ αγώνας θα διεξαχθεί την Κυριακή 19 Μαΐου 2024. \nΑφετηρία & Τερματισμός: ΚΕΝΤΡΙΚΗ ΠΛΑΤΕΙΑ ΝΕΑΣ ΣΜΥΡΝΗΣ \nΏρα εκκίνησης 09:30 π.μ. \n  \n\n\n\n\n\n\n\n\nΓια τη αποφυγή συνωστισμού και καθυστερήσεων η διάθεση των νούμερων συμμετοχής στους αθλητές θα πραγματοποιηθούν ως επί το πλείστον την παραμονή του αγώνα\, δηλαδή το Σάββατο 18 Μαΐου από τις 12:00 έως τις 20:00 στα γραφεία του ΣΑΦΑΝΣ στο Άλσος Νέας Σμύρνης .\nΝούμερα συμμετοχής θα δοθούν και την ημέρα του αγώνα\, δηλαδή την Κυριακή 19 Μαΐου από τις 08:00 έως και 30 λεπτά πριν την έναρξη που είναι στις 09:30
URL:https://neasmyrni.gr/event/17%ce%bf%cf%82-%ce%b3%cf%85%cf%81%ce%bf%cf%83-%ce%bd-%cf%83%ce%bc%cf%85%cf%81%ce%bd%ce%b7%cf%83-75km/
ATTACH;FMTTYPE=image/jpeg:https://neasmyrni.gr/wp-content/uploads/2024/04/gyros17.jpg
END:VEVENT
BEGIN:VEVENT
DTSTART;TZID=Europe/Athens:20240519T193000
DTEND;TZID=Europe/Athens:20240519T213000
DTSTAMP:20260422T041052
CREATED:20240515T115855Z
LAST-MODIFIED:20240515T115855Z
UID:350158-1716147000-1716154200@neasmyrni.gr
SUMMARY:Παραδοσιακοί χοροί στο Άλσος
DESCRIPTION:
URL:https://neasmyrni.gr/event/%cf%80%ce%b1%cf%81%ce%b1%ce%b4%ce%bf%cf%83%ce%b9%ce%b1%ce%ba%ce%bf%ce%af-%cf%87%ce%bf%cf%81%ce%bf%ce%af-%cf%83%cf%84%ce%bf-%ce%ac%ce%bb%cf%83%ce%bf%cf%82/
ATTACH;FMTTYPE=image/jpeg:https://neasmyrni.gr/wp-content/uploads/2024/05/prwtom192024-1.jpg
END:VEVENT
END:VCALENDAR