BEGIN:VCALENDAR
VERSION:2.0
PRODID:-//Δήμος Ν.Σμύρνης - ECPv6.5.0//NONSGML v1.0//EN
CALSCALE:GREGORIAN
METHOD:PUBLISH
X-ORIGINAL-URL:https://neasmyrni.gr
X-WR-CALDESC:Δήμος Ν.Σμύρνης - Εκδηλώσεις
REFRESH-INTERVAL;VALUE=DURATION:PT1H
X-Robots-Tag:noindex
X-PUBLISHED-TTL:PT1H
BEGIN:VTIMEZONE
TZID:Europe/Athens
BEGIN:DAYLIGHT
TZOFFSETFROM:+0200
TZOFFSETTO:+0300
TZNAME:EEST
DTSTART:20240331T010000
END:DAYLIGHT
BEGIN:STANDARD
TZOFFSETFROM:+0300
TZOFFSETTO:+0200
TZNAME:EET
DTSTART:20241027T010000
END:STANDARD
END:VTIMEZONE
BEGIN:VEVENT
DTSTART;TZID=Europe/Athens:20240524T190000
DTEND;TZID=Europe/Athens:20240524T210000
DTSTAMP:20260422T041053
CREATED:20240521T090648Z
LAST-MODIFIED:20240521T090648Z
UID:352137-1716577200-1716584400@neasmyrni.gr
SUMMARY:ΠΑΡΟΥΣΙΑΣΗ ΒΙΒΛΙΟΥ ΣΤΗ ΔΗΜΟΤΙΚΗ ΒΙΒΛΙΟΘΗΚΗ
DESCRIPTION:Στους φιλόξενους κήπους της Δημοτικής Βιβλιοθήκης Νέας Σμύρνης (Αϊδινίου 28) θα πραγματοποιηθεί η παρουσίαση του βιβλίου του Χαράλαμπου Γιαννακόπουλου.\nΠρόκειται για το βιβλίο “Ο θάνατος πλένει το πρόσωπό του στα νερά που κυλάνε από το σώμα σου” (εκδόσεις ΠΟΛΙΣ)\nΗ παρουσίαση θα γίνει την Παρασκευή 24 Μάϊου\, ώρα 19:00
URL:https://neasmyrni.gr/event/%cf%80%ce%b1%cf%81%ce%bf%cf%85%cf%83%ce%b9%ce%b1%cf%83%ce%b7-%ce%b2%ce%b9%ce%b2%ce%bb%ce%b9%ce%bf%cf%85-%cf%83%cf%84%ce%b7-%ce%b4%ce%b7%ce%bc%ce%bf%cf%84%ce%b9%ce%ba%ce%b7-%ce%b2%ce%b9%ce%b2%ce%bb-2/
ATTACH;FMTTYPE=image/jpeg:https://neasmyrni.gr/wp-content/uploads/2024/05/442418766_953386979910927_8619523533161424053_n.jpg
END:VEVENT
END:VCALENDAR