BEGIN:VCALENDAR
VERSION:2.0
PRODID:-//Δήμος Ν.Σμύρνης - ECPv6.5.0//NONSGML v1.0//EN
CALSCALE:GREGORIAN
METHOD:PUBLISH
X-ORIGINAL-URL:https://neasmyrni.gr
X-WR-CALDESC:Δήμος Ν.Σμύρνης - Εκδηλώσεις
REFRESH-INTERVAL;VALUE=DURATION:PT1H
X-Robots-Tag:noindex
X-PUBLISHED-TTL:PT1H
BEGIN:VTIMEZONE
TZID:Europe/Athens
BEGIN:DAYLIGHT
TZOFFSETFROM:+0200
TZOFFSETTO:+0300
TZNAME:EEST
DTSTART:20240331T010000
END:DAYLIGHT
BEGIN:STANDARD
TZOFFSETFROM:+0300
TZOFFSETTO:+0200
TZNAME:EET
DTSTART:20241027T010000
END:STANDARD
END:VTIMEZONE
BEGIN:VEVENT
DTSTART;TZID=Europe/Athens:20240525T110000
DTEND;TZID=Europe/Athens:20240525T130000
DTSTAMP:20260422T041052
CREATED:20240514T104344Z
LAST-MODIFIED:20240514T104344Z
UID:349583-1716634800-1716642000@neasmyrni.gr
SUMMARY:ΜΑΘΗΜΑ PILATES ΣΤΟ ΑΛΣΟΣ ΝΕΑΣ ΣΜΥΡΝΗΣ
DESCRIPTION:
URL:https://neasmyrni.gr/event/%ce%bc%ce%b1%ce%b8%ce%b7%ce%bc%ce%b1-pilates-%cf%83%cf%84%ce%bf-%ce%b1%ce%bb%cf%83%ce%bf%cf%83-%ce%bd%ce%b5%ce%b1%cf%83-%cf%83%ce%bc%cf%85%cf%81%ce%bd%ce%b7%cf%83/
ATTACH;FMTTYPE=image/jpeg:https://neasmyrni.gr/wp-content/uploads/2024/05/pilates250524.jpg
END:VEVENT
BEGIN:VEVENT
DTSTART;TZID=Europe/Athens:20240525T190000
DTEND;TZID=Europe/Athens:20240525T210000
DTSTAMP:20260422T041052
CREATED:20240521T112422Z
LAST-MODIFIED:20240521T112422Z
UID:352179-1716663600-1716670800@neasmyrni.gr
SUMMARY:ΕΚΔΗΛΩΣΗ ΜΝΗΜΗΣ ΓΙΑ ΤΗΝ ΓΕΝΟΚΤΟΝΙΑ ΤΩΝ ΠΟΝΤΙΩΝ
DESCRIPTION:Εκδήλωση τιμής με τίτλο «Η φλόγα της μνήμης» διοργανώνει η Ένωση Ποντίων Νέας Σμύρνης – Αγ. Δημητρίου – Π. Φαλήρου «Η Μαύρη Θάλασσα»\, με αφορμή την επέτειο για την Γενοκτονία των Ποντίων. Η εκδήλωση θα πραγματοποιηθεί το Σάββατο 25 Μαΐου\, ώρα 19:00 στην Πλατεία Γενοκτονίας (Αμισού & Αίνου\, Άνω Νέα Σμύρνη).\nΣτις 18:30 . θα ξεκινήσουν δρομείς\, μέλη και φίλοι της Ένωσης\, ενδεδυμένοι με τις φανέλες των ομάδων του Πόντου\, από το Μικρασιατικό Μνημείο\, μπροστά από την Εστία Νέας Σμύρνης\, διασχίζοντας και την πλατεία\, για να μεταφέρουν συμβολικά στο Μνημείο της Γενοκτονίας τη φλόγα της μνήμης.\nΣτεφάνι στο Μνημείο θα καταθέσει ο Δημαρχος Νέας Σμύρνης Γιώργος Κουτελάκης.\nΗ εκδήλωση θα ξεκινήσει με επιμνημόσυνη δέηση από τον Σεβασμιώτατο Μητροπολίτη Ν.Σμύρνης κ.κ. Συμεών. Θα ακολουθήσει ομιλία από την Πρόεδρο Ράνια Χρυσοχοΐδου και η εκδήλωση θα ολοκληρωθεί με καλλιτεχνικό αφιέρωμα με τη συμμετοχή των μουσικών Γιάννη Καζαντζίδη\, Φίλιππου Πουρπουτίδη\, Φώτη Κοζυράκη\, τη Χορωδία και τη Χορευτική ομάδα της Ένωσης.
URL:https://neasmyrni.gr/event/%ce%b5%ce%ba%ce%b4%ce%b7%ce%bb%cf%89%cf%83%ce%b7-%ce%bc%ce%bd%ce%b7%ce%bc%ce%b7%cf%83-%ce%b3%ce%b9%ce%b1-%cf%84%ce%b7%ce%bd-%ce%b3%ce%b5%ce%bd%ce%bf%ce%ba%cf%84%ce%bf%ce%bd%ce%b9%ce%b1-%cf%84%cf%89/
ATTACH;FMTTYPE=image/jpeg:https://neasmyrni.gr/wp-content/uploads/2024/05/ekdilwsimnhmpontiwn.jpg
END:VEVENT
BEGIN:VEVENT
DTSTART;TZID=Europe/Athens:20240525T203000
DTEND;TZID=Europe/Athens:20240525T223000
DTSTAMP:20260422T041052
CREATED:20240521T112204Z
LAST-MODIFIED:20240521T112204Z
UID:352175-1716669000-1716676200@neasmyrni.gr
SUMMARY:ΕΚΔΗΛΩΣΗ ΓΙΑ ΤΗΝ ΜΑΧΗ ΤΗΣ ΚΡΗΤΗΣ
DESCRIPTION:Τα 83 χρόνια από την Μάχη της Κρήτης τιμά η Ένωση Κρητών Νέας Σμύρνης το Σάββατο 25 Μαΐου\, στις 20:30 στο Άλσος.\n\n\nΗ εκδήλωση τιμής και μνήμης θα ξεκινήσει με την τήρηση ενός λεπτού σιγής για τα θύματα\, και θα ακολουθήσει παρέλαση μαθητών με κρητικές παραδοσιακές φορεσιές.\n\n\nΧαιρετισμούς θα απευθύνουν ο πρόεδρος της Ένωσης Τάκης Πρασσάκης και ο Δήμαρχος Νέας Σμύρνης Γιώργος Κουτελάκης. Κύριος ομιλητής θα είναι ο στρατηγός εν αποστρατεία Αντώνης Μυτιληνάκης\, Πρόεδρος της Κρητικής Εστίας.\n\n\nΣτην εκδήλωση θα συμμετέχουν όλα τα χορευτικά τμήματα της Ένωσης Κρητών (παιδικά\, εφηβικά\, ενηλίκων). Ενδιάμεσα θ’ ακουστούν ριζίτικα τραγούδια από την ομάδα «Αίγαγρος» και το Τραγούδι «Ξαστεριά» από το Τμήμα Παραδοσιακών Μουσικών Οργάνων της Ένωσης
URL:https://neasmyrni.gr/event/%ce%b5%ce%ba%ce%b4%ce%b7%ce%bb%cf%89%cf%83%ce%b7-%ce%b3%ce%b9%ce%b1-%cf%84%ce%b7%ce%bd-%ce%bc%ce%b1%cf%87%ce%b7-%cf%84%ce%b7%cf%83-%ce%ba%cf%81%ce%b7%cf%84%ce%b7%cf%83/
ATTACH;FMTTYPE=image/jpeg:https://neasmyrni.gr/wp-content/uploads/2024/05/maxikritis.jpg
END:VEVENT
END:VCALENDAR