BEGIN:VCALENDAR
VERSION:2.0
PRODID:-//Δήμος Ν.Σμύρνης - ECPv6.5.0//NONSGML v1.0//EN
CALSCALE:GREGORIAN
METHOD:PUBLISH
X-WR-CALNAME:Δήμος Ν.Σμύρνης
X-ORIGINAL-URL:https://neasmyrni.gr
X-WR-CALDESC:Δήμος Ν.Σμύρνης - Εκδηλώσεις
REFRESH-INTERVAL;VALUE=DURATION:PT1H
X-Robots-Tag:noindex
X-PUBLISHED-TTL:PT1H
BEGIN:VTIMEZONE
TZID:Europe/Athens
BEGIN:DAYLIGHT
TZOFFSETFROM:+0200
TZOFFSETTO:+0300
TZNAME:EEST
DTSTART:20240331T010000
END:DAYLIGHT
BEGIN:STANDARD
TZOFFSETFROM:+0300
TZOFFSETTO:+0200
TZNAME:EET
DTSTART:20241027T010000
END:STANDARD
END:VTIMEZONE
BEGIN:VEVENT
DTSTART;TZID=Europe/Athens:20240605T180000
DTEND;TZID=Europe/Athens:20240605T200000
DTSTAMP:20260422T004131
CREATED:20240530T111931Z
LAST-MODIFIED:20240530T111931Z
UID:354573-1717610400-1717617600@neasmyrni.gr
SUMMARY:ΕΚΔΗΛΩΣΗ ΓΙΑ ΤΑ ΠΑΙΔΙΑ ΓΙΑ ΤΗΝ ΠΑΓΚΟΣΜΙΑ ΗΜΕΡΑ ΠΕΡΙΒΑΛΛΟΝΤΟΣ
DESCRIPTION:Διαδραστική εκδήλωση για παιδιά με αφορμή την Παγκόσμια Ημέρα Περιβάλλοντος διοργανώνουν η Δημοτική Βιβλιοθήκη Νέας Σμύρνης και οι εκδόσεις ΜΕΤΑΙΧΜΙΟ την Τετάρτη 5 Ιουνίου 2024\, στις 18:00 και στις 19:00 στον χώρο της Δημοτικής Βιβλιοθήκης (Αϊδινίου 28).\n\n\nΗ εκδήλωση έχει ως βασικό άξονα τα βιβλία της Ελένης Ανδρεάδη από τη βραβευμένη σειρά «Πράκτορες του Πλανήτη». Τα παιδιά\, από 8 ετών και άνω\, καλούνται να αναλάβουν μια άκρως απόρρητη αποστολή για να σώσουν τον πλανήτη από τους κινδύνους που τον απειλούν και εξιχνιάζουν μυστηριώδεις υποθέσεις όπου τα πάντα μπορεί να συμβούν.\n\n\n\nΣχεδιασμός και εμψύχωση: Πράκτορες του Πλανήτη\n\n\n\nΕίσοδος ελεύθερη με δηλώσεις συμμετοχής στο 213 2025961 (Δευτέρα έως Παρασκευή\, 09:00-14:00)
URL:https://neasmyrni.gr/event/%ce%b5%ce%ba%ce%b4%ce%b7%ce%bb%cf%89%cf%83%ce%b7-%ce%b3%ce%b9%ce%b1-%cf%84%ce%b1-%cf%80%ce%b1%ce%b9%ce%b4%ce%b9%ce%b1-%ce%b3%ce%b9%ce%b1-%cf%84%ce%b7%ce%bd-%cf%80%ce%b1%ce%b3%ce%ba%ce%bf%cf%83%ce%bc/
ATTACH;FMTTYPE=image/jpeg:https://neasmyrni.gr/wp-content/uploads/2024/05/445095713_957657589483866_1682280624991658972_n.jpg
END:VEVENT
END:VCALENDAR