BEGIN:VCALENDAR
VERSION:2.0
PRODID:-//Δήμος Ν.Σμύρνης - ECPv6.5.0//NONSGML v1.0//EN
CALSCALE:GREGORIAN
METHOD:PUBLISH
X-WR-CALNAME:Δήμος Ν.Σμύρνης
X-ORIGINAL-URL:https://neasmyrni.gr
X-WR-CALDESC:Δήμος Ν.Σμύρνης - Εκδηλώσεις
REFRESH-INTERVAL;VALUE=DURATION:PT1H
X-Robots-Tag:noindex
X-PUBLISHED-TTL:PT1H
BEGIN:VTIMEZONE
TZID:Europe/Athens
BEGIN:DAYLIGHT
TZOFFSETFROM:+0200
TZOFFSETTO:+0300
TZNAME:EEST
DTSTART:20240331T010000
END:DAYLIGHT
BEGIN:STANDARD
TZOFFSETFROM:+0300
TZOFFSETTO:+0200
TZNAME:EET
DTSTART:20241027T010000
END:STANDARD
END:VTIMEZONE
BEGIN:VEVENT
DTSTART;TZID=Europe/Athens:20240618T190000
DTEND;TZID=Europe/Athens:20240618T210000
DTSTAMP:20260421T230540
CREATED:20240617T105958Z
LAST-MODIFIED:20240617T105958Z
UID:359270-1718737200-1718744400@neasmyrni.gr
SUMMARY:ΕΚΔΗΛΩΣΗ ΜΝΗΜΗΣ ΓΙΑ ΤΗΝ ΣΦΑΓΗ ΤΩΝ ΠΡΟΣΚΟΠΩΝ ΤΟΥ ΑΪΔΙΝΙΟΥ
DESCRIPTION:Εκδήλωση μνήμης για την επέτειο της σφαγής των προσκόπων του Αϊδινίου που έγινε στις 18 Ιουνίου του 1919 πραγματοποιείται αύριο Τρίτη\, στις 19:00 στη Δημοτική Βιβλιοθήκη Νέας Σμύρνης (Αϊδινίου 28).\nΑφορμή για την εκδήλωση είναι το μυθιστόρημα του Κώστα Στοφόρου “Πολύ αργά για τ’ Αϊδίνι” που κυκλοφορεί από τις εκδόσεις Αρτέον.\nΘα μιλήσουν: Θεόδωρος Ντάντος\, Πρόεδρος Πανιωνίου Γυμναστικού Συλλόγου Σμύρνης Νικόλαος\, Κ. Παραδείσης\, τέως Αντιπρόεδρος Διοικητικού Συμβουλίου του Σώματος Ελλήνων Προσκόπων -συγγραφέας του βιβλίου «Ο προσκοπισμός στις αλησμόνητες πατρίδες 1919- 1922» και ο συγγραφέας Κώστας Στοφόρος\nΤην εκδήλωση θα συντονίσει ο Λάζαρος Κικίδης -Δημοτικός Σύμβουλος Νέας Σμύρνης- υπεύθυνος Δημοτικής Βιβλιοθήκης
URL:https://neasmyrni.gr/event/%ce%b5%ce%ba%ce%b4%ce%b7%ce%bb%cf%89%cf%83%ce%b7-%ce%bc%ce%bd%ce%b7%ce%bc%ce%b7%cf%83-%ce%b3%ce%b9%ce%b1-%cf%84%ce%b7%ce%bd-%cf%83%cf%86%ce%b1%ce%b3%ce%b7-%cf%84%cf%89%ce%bd-%cf%80%cf%81%ce%bf%cf%83/
ATTACH;FMTTYPE=image/jpeg:https://neasmyrni.gr/wp-content/uploads/2024/06/448606806_969513954964896_8882819364213310653_n.jpg
END:VEVENT
END:VCALENDAR