BEGIN:VCALENDAR
VERSION:2.0
PRODID:-//Δήμος Ν.Σμύρνης - ECPv6.5.0//NONSGML v1.0//EN
CALSCALE:GREGORIAN
METHOD:PUBLISH
X-WR-CALNAME:Δήμος Ν.Σμύρνης
X-ORIGINAL-URL:https://neasmyrni.gr
X-WR-CALDESC:Δήμος Ν.Σμύρνης - Εκδηλώσεις
REFRESH-INTERVAL;VALUE=DURATION:PT1H
X-Robots-Tag:noindex
X-PUBLISHED-TTL:PT1H
BEGIN:VTIMEZONE
TZID:Europe/Athens
BEGIN:DAYLIGHT
TZOFFSETFROM:+0200
TZOFFSETTO:+0300
TZNAME:EEST
DTSTART:20240331T010000
END:DAYLIGHT
BEGIN:STANDARD
TZOFFSETFROM:+0300
TZOFFSETTO:+0200
TZNAME:EET
DTSTART:20241027T010000
END:STANDARD
END:VTIMEZONE
BEGIN:VEVENT
DTSTART;TZID=Europe/Athens:20240619T190000
DTEND;TZID=Europe/Athens:20240619T210000
DTSTAMP:20260421T230540
CREATED:20240618T113346Z
LAST-MODIFIED:20240618T113346Z
UID:359625-1718823600-1718830800@neasmyrni.gr
SUMMARY:ΠΑΡΟΥΣΙΑΣΗ ΒΙΒΛΙΟΥ ΣΤΗ ΔΗΜΟΤΙΚΗ ΒΙΒΛΙΟΘΗΚΗ
DESCRIPTION:Αυλαία ρίχνει για φέτος η Δημοτική Βιβλιοθήκη Νέας Σμύρνης (Αϊδινίου 28) με την παρουσίαση του βιβλίου “Το χρώμα του καλοκαιριού” (εκδόσεις Υδροπλάνο)\, την Τετάρτη 19 Ιουνίου\, ώρα 19:00.\nΗ συγγραφέας του βιβλίου Μαρία Ανδρικοπούλου προσκαλεί παιδιά από 5-11 ετών στον δροσερό κήπο της Βιβλιοθήκης σε μια διαδραστική παρουσίαση. Μαζί θα διαβάσουν αποσπάσματα\, θα ζωγραφίσουν και θα παίξουν παιχνίδια ρόλων βασισμένα στο βιβλίο.\nΗ Δημοτική Βιβλιοθήκη κλείνει “ραντεβού τον Σεπτέμβρη” με τους φίλους της κι εύχεται καλό καλοκαίρι.
URL:https://neasmyrni.gr/event/%cf%80%ce%b1%cf%81%ce%bf%cf%85%cf%83%ce%b9%ce%b1%cf%83%ce%b7-%ce%b2%ce%b9%ce%b2%ce%bb%ce%b9%ce%bf%cf%85-%cf%83%cf%84%ce%b7-%ce%b4%ce%b7%ce%bc%ce%bf%cf%84%ce%b9%ce%ba%ce%b7-%ce%b2%ce%b9%ce%b2%ce%bb-3/
ATTACH;FMTTYPE=image/jpeg:https://neasmyrni.gr/wp-content/uploads/2024/06/toxrwma-toykalkairiou.jpg
END:VEVENT
END:VCALENDAR