BEGIN:VCALENDAR
VERSION:2.0
PRODID:-//Δήμος Ν.Σμύρνης - ECPv6.5.0//NONSGML v1.0//EN
CALSCALE:GREGORIAN
METHOD:PUBLISH
X-WR-CALNAME:Δήμος Ν.Σμύρνης
X-ORIGINAL-URL:https://neasmyrni.gr
X-WR-CALDESC:Δήμος Ν.Σμύρνης - Εκδηλώσεις
REFRESH-INTERVAL;VALUE=DURATION:PT1H
X-Robots-Tag:noindex
X-PUBLISHED-TTL:PT1H
BEGIN:VTIMEZONE
TZID:Europe/Athens
BEGIN:DAYLIGHT
TZOFFSETFROM:+0200
TZOFFSETTO:+0300
TZNAME:EEST
DTSTART:20240331T010000
END:DAYLIGHT
BEGIN:STANDARD
TZOFFSETFROM:+0300
TZOFFSETTO:+0200
TZNAME:EET
DTSTART:20241027T010000
END:STANDARD
END:VTIMEZONE
BEGIN:VEVENT
DTSTART;TZID=Europe/Athens:20240621T180000
DTEND;TZID=Europe/Athens:20240623T210000
DTSTAMP:20260422T041103
CREATED:20240617T110912Z
LAST-MODIFIED:20240617T110912Z
UID:359275-1718992800-1719176400@neasmyrni.gr
SUMMARY:"ΜΕ ΤΑ ΧΡΩΜΑΤΑ ΤΗΣ ΑΘΩΟΤΗΤΑΣ" - ΕΚΘΕΣΗ ΖΩΓΡΑΦΙΚΗΣ & ΕΙΚΑΣΤΙΚΩΝ ΠΑΙΔΙΩΝ ΚΑΙ ΕΦΗΒΩΝ ΣΤΟΝ ΓΑΛΑΞΙΑ
DESCRIPTION:«Με τα χρώματα της αθωότητας» είναι ο τίτλος της ομαδικής έκθεσης ζωγραφικής και εικαστικών\, που διοργανώνει ο Όμιλος για την UNESCO Τεχνών\, Λόγου και Επιστημών Ελλάδος\, με τη συνεργασία του Δήμου Νέας Σμύρνης\, από 21 ως 23 Ιουνίου 2024\, στον Δημοτικό Πολυχώρο Πολιτισμού «Γαλαξίας» του Δήμου Νέας Σμύρνης.\n\n\nΣκοπός του Ομίλου μέσα από αυτή την έκθεση\, που πραγματοποιείται για 12 συνεχή έτη\, είναι να προβληθεί το έργο νέων παιδιών και εφήβων\, ηλικίας 5 – 18 ετών\, μελών της ομάδας Juniors του Ομίλου από την Ελλάδα και το εξωτερικό\, καθώς και μαθητών/τριών του 7ου Δημοτικού Σχολείου και 6ου Γυμνασίου Νέας Σμύρνης και του FLUXUS Art School Νέας Σμύρνης\, αναδεικνύοντας έτσι την καλπάζουσα και αβίαστη φαντασία τους και δίνοντας βήμα στη δημιουργικότητα και τις εικαστικές\, εκφραστικές τους ικανότητες.\n\n\nΔύο χρόνια μετά το μεγάλο σοκ της πανδημίας και τις μεγάλες προκλήσεις και κρίσεις που μαστίζουν την ανθρωπότητα και την εποχή μας (ενεργειακή και κλιματική κρίση\, κρίση θεσμών και αξιών\, πολεμικές συγκρούσεις\, βία κ.ά)\, τα νέα παιδιά αναζητούν διεξόδους και να αποτυπώνουν στο έργο τους όλα αυτά που αποτελούν για εκείνα έναυσμα και πηγή έμπνευσης δημιουργίας\, δίνοντας τη δυνατότητα στον επισκέπτη της έκθεσης να δει το όραμά τους για τη ζωή\, μέσα από την τέχνη.\n\nINFO:\nΔιάρκεια έκθεσης: 21 – 23 Ιουνίου 2024\nΏρες και μέρες λειτουργίας:\nΠαρασκευή – Σάββατο: 18:00 – 21:00\nΚυριακή: 12:00 – 14:00 και 18:00 – 21:00\nΧώρος: Δημοτικός Πολυχώρος Πολιτισμού «Γαλαξίας» Νέας Σμύρνης\nΔιεύθυνση: 2ας Μαϊου 16 (κεντρική πλατεία Νέας Σμύρνης)\, ΤΚ 171 21\nΕγκαίνια: Σάββατο 22 Ιουνίου 2024 και ώρα 19:00\nΕίσοδος ελεύθερη
URL:https://neasmyrni.gr/event/%ce%bc%ce%b5-%cf%84%ce%b1-%cf%87%cf%81%cf%89%ce%bc%ce%b1%cf%84%ce%b1-%cf%84%ce%b7%cf%83-%ce%b1%ce%b8%cf%89%ce%bf%cf%84%ce%b7%cf%84%ce%b1%cf%83-%ce%b5%ce%ba%ce%b8%ce%b5%cf%83%ce%b7-%ce%b6%cf%89/
ATTACH;FMTTYPE=image/jpeg:https://neasmyrni.gr/wp-content/uploads/2024/06/448603905_969541798295445_8968451564818617060_n.jpg
END:VEVENT
END:VCALENDAR