BEGIN:VCALENDAR
VERSION:2.0
PRODID:-//Δήμος Ν.Σμύρνης - ECPv6.5.0//NONSGML v1.0//EN
CALSCALE:GREGORIAN
METHOD:PUBLISH
X-WR-CALNAME:Δήμος Ν.Σμύρνης
X-ORIGINAL-URL:https://neasmyrni.gr
X-WR-CALDESC:Δήμος Ν.Σμύρνης - Εκδηλώσεις
REFRESH-INTERVAL;VALUE=DURATION:PT1H
X-Robots-Tag:noindex
X-PUBLISHED-TTL:PT1H
BEGIN:VTIMEZONE
TZID:Europe/Athens
BEGIN:DAYLIGHT
TZOFFSETFROM:+0200
TZOFFSETTO:+0300
TZNAME:EEST
DTSTART:20240331T010000
END:DAYLIGHT
BEGIN:STANDARD
TZOFFSETFROM:+0300
TZOFFSETTO:+0200
TZNAME:EET
DTSTART:20241027T010000
END:STANDARD
END:VTIMEZONE
BEGIN:VEVENT
DTSTART;TZID=Europe/Athens:20240628T200000
DTEND;TZID=Europe/Athens:20240628T213000
DTSTAMP:20260421T232548
CREATED:20240624T094203Z
LAST-MODIFIED:20240624T094203Z
UID:360553-1719604800-1719610200@neasmyrni.gr
SUMMARY:ΣΥΜΠΛΗΡΩΣΕ ΕΞΥΠΝΑ ΤΟ ΜΗΧΑΝΟΓΡΑΦΙΚΟ ΣΟΥ
DESCRIPTION:Μια πολύ ενδιαφέρουσα εκδήλωση για την ορθή συμπλήρωση των μηχανογραφικών των παιδιών που είναι υποψήφια για την τριτοβάθμια εκπαίδευση διοργανώνει ο Δήμος Νέας Σμύρνης την Παρασκευή 28 Ιουνίου\, ώρα 20:00\, στον Δημοτικό Πολυχώρο “Γαλαξίας”.\nΗ εκδήλωση απευθύνεται στους υποψήφιους και τους γονείς τους και θα απαντηθούν ερωτήματα όπως τι να προσέξουν κατά την συμπλήρωση του μηχανογραφικού\, ποιο επιστημονικό πεδίο να ακολουθήσουν κ.α.\nΤην ενημέρωση θα κάνει ο Νίκος Δεμερτζής\, Σύμβουλος Σταδιοδρομίας\, Διευθυντής του 5ου Γενικού Λυκείου Νέας Σμύρνης
URL:https://neasmyrni.gr/event/%cf%83%cf%85%ce%bc%cf%80%ce%bb%ce%b7%cf%81%cf%89%cf%83%ce%b5-%ce%b5%ce%be%cf%85%cf%80%ce%bd%ce%b1-%cf%84%ce%bf-%ce%bc%ce%b7%cf%87%ce%b1%ce%bd%ce%bf%ce%b3%cf%81%ce%b1%cf%86%ce%b9%ce%ba%ce%bf-%cf%83-2/
LOCATION:Γαλαξίας – Δημοτικός Πολυχώρος Πολιτισμού Νέας Σμύρνης\, 2ας Μαΐου 16\, Νέα Σμύρνη\, 171 21\, Greece
ATTACH;FMTTYPE=image/jpeg:https://neasmyrni.gr/wp-content/uploads/2024/06/mhxanogr24.jpg
END:VEVENT
END:VCALENDAR