BEGIN:VCALENDAR
VERSION:2.0
PRODID:-//Δήμος Ν.Σμύρνης - ECPv6.5.0//NONSGML v1.0//EN
CALSCALE:GREGORIAN
METHOD:PUBLISH
X-WR-CALNAME:Δήμος Ν.Σμύρνης
X-ORIGINAL-URL:https://neasmyrni.gr
X-WR-CALDESC:Δήμος Ν.Σμύρνης - Εκδηλώσεις
REFRESH-INTERVAL;VALUE=DURATION:PT1H
X-Robots-Tag:noindex
X-PUBLISHED-TTL:PT1H
BEGIN:VTIMEZONE
TZID:Europe/Athens
BEGIN:DAYLIGHT
TZOFFSETFROM:+0200
TZOFFSETTO:+0300
TZNAME:EEST
DTSTART:20240331T010000
END:DAYLIGHT
BEGIN:STANDARD
TZOFFSETFROM:+0300
TZOFFSETTO:+0200
TZNAME:EET
DTSTART:20241027T010000
END:STANDARD
END:VTIMEZONE
BEGIN:VEVENT
DTSTART;TZID=Europe/Athens:20240922T203000
DTEND;TZID=Europe/Athens:20240922T223000
DTSTAMP:20260420T062155
CREATED:20240919T151417Z
LAST-MODIFIED:20240919T151417Z
UID:386848-1727037000-1727044200@neasmyrni.gr
SUMMARY:Χορευτικό συγκρότημα της Ένωσης Ποντίων Νέας Σμύρνης «Η Μαύρη Θάλασσα»
DESCRIPTION:
URL:https://neasmyrni.gr/event/%cf%87%ce%bf%cf%81%ce%b5%cf%85%cf%84%ce%b9%ce%ba%cf%8c-%cf%83%cf%85%ce%b3%ce%ba%cf%81%cf%8c%cf%84%ce%b7%ce%bc%ce%b1-%cf%84%ce%b7%cf%82-%ce%ad%ce%bd%cf%89%cf%83%ce%b7%cf%82-%cf%80%ce%bf%ce%bd%cf%84/
ATTACH;FMTTYPE=image/jpeg:https://neasmyrni.gr/wp-content/uploads/2024/09/paradosiaka-2024-09-22.jpg
END:VEVENT
END:VCALENDAR