BEGIN:VCALENDAR
VERSION:2.0
PRODID:-//Δήμος Ν.Σμύρνης - ECPv6.5.0//NONSGML v1.0//EN
CALSCALE:GREGORIAN
METHOD:PUBLISH
X-ORIGINAL-URL:https://neasmyrni.gr
X-WR-CALDESC:Δήμος Ν.Σμύρνης - Εκδηλώσεις
REFRESH-INTERVAL;VALUE=DURATION:PT1H
X-Robots-Tag:noindex
X-PUBLISHED-TTL:PT1H
BEGIN:VTIMEZONE
TZID:Europe/Athens
BEGIN:DAYLIGHT
TZOFFSETFROM:+0200
TZOFFSETTO:+0300
TZNAME:EEST
DTSTART:20250330T010000
END:DAYLIGHT
BEGIN:STANDARD
TZOFFSETFROM:+0300
TZOFFSETTO:+0200
TZNAME:EET
DTSTART:20251026T010000
END:STANDARD
END:VTIMEZONE
BEGIN:VEVENT
DTSTART;TZID=Europe/Athens:20250926T100000
DTEND;TZID=Europe/Athens:20250927T130000
DTSTAMP:20260419T190425
CREATED:20250924T071816Z
LAST-MODIFIED:20250924T071816Z
UID:510548-1758880800-1758978000@neasmyrni.gr
SUMMARY:ΜΕ ΕΘΕΛΟΝΤΙΚΗ ΑΙΜΟΔΟΣΙΑ ΞΕΚΙΝΑ Η ΕΒΔΟΜΑΔΑ ΥΓΕΙΑΣ & ΠΡΟΛΗΨΗΣ ΤΟΥ ΔΗΜΟΥ ΝΕΑΣ ΣΜΥΡΝΗΣ
DESCRIPTION:Με την 58η Τακτική Εθελοντική Αιμοδοσία ξεκινά την Παρασκευή 26 Σεπτεμβρίου η Εβδομάδα Υγείας & Πρόληψης που διοργανώνει η Κοινωνική Υπηρεσία του Δήμου Νέας Σμύρνης\nΗ αιμοδοσία πραγματοποιείται σε συνεργασία το Γενικό Νοσοκομείο Ασκληπιείο Βούλας και θα γίνει την Παρασκευή 26 και το Σάββατο 27 Σεπτέμβριου\, ώρες 10:00-13:00 στον Δημοτικό Πολυχώρο “Γαλαξίας” κατόπιν ραντεβού.\nΟι αιμοδότες θα μπορούν να κλείνουν το ραντεβού τους στο τηλέφωνο 213 2025941 ή μέσω e-mail: ygeia@neasmyrni.gr\nΣτην δράση συνεργάζονται:\n• Ο Σύλλογος Υπαλλήλων του Δήμου Νέας Σμύρνης\n• Ο Σύλλογος Αθλουμένων Φίλων Άλσους – ΣΑΦΑΝΣ\n• Το Περιφερειακό Τμήμα Νέας Σμύρνης Ελληνικού Ερυθρού Σταυρού\n• Ο Ροταριανός Όμιλος Νέας Σμύρνης\n• Η Ομάδα Εθελοντών «Ενεργός Δράση»\n• Ο Σύλλογος Ιμβρίων\n• Ο Σύλλογος Τενεδίων «Ο Τέννης»\n• Ο Πολιτιστικός Σύλλογος «Αιολίδα»\n• Η Ένωση Ποντίων «Μαύρη Θάλασσα»\n• Οι Σύλλογοι Γονέων & Κηδεμόνων του 1ου και 5ου Δημοτικού και του 1ου Γυμνασίου και Λυκείου Νέας Σμύρνης.
URL:https://neasmyrni.gr/event/58-aimodosia/
ATTACH;FMTTYPE=image/jpeg:https://neasmyrni.gr/wp-content/uploads/2025/09/58aimodosia.jpg
END:VEVENT
BEGIN:VEVENT
DTSTART;TZID=Europe/Athens:20250927T190000
DTEND;TZID=Europe/Athens:20250928T230000
DTSTAMP:20260419T190425
CREATED:20250925T085401Z
LAST-MODIFIED:20250925T111011Z
UID:511285-1758999600-1759100400@neasmyrni.gr
SUMMARY:2o YOUTH FESTIVAL: ΤΟ ΡΑΝΤΕΒΟΥ ΤΩΝ ΝΕΩΝ ΤΗΣ ΠΟΛΗΣ
DESCRIPTION:Με τον ενθουσιασμό της νεανικής δημιουργίας θα πλημμυρίσει το Άλσος στις 27 και 27 Σεπτεμβρίου καθώς η Νέα Σμύρνη υποδέχεται το 2ο YOUTH FESTIVAL.Το ραντεβού των νέων της πόλης που πλέον έχει γίνει θεσμός\, επανέρχεται εμπλουτισμένο\, ανανεωμένο\, ακόμα πιο δυναμικό.Το 2o YOUTH FESTIVAL αυτή την χρονιά θα αναπτυχθεί σε δύο σκηνές και συμμετέχουν οι καλλιτέχνες: \nΣΑΒΒΑΤΟ 27 ΣΕΠΤΕΜΒΡΙΟΥ* Τέχνη Χρω* Τερραμύδια* Σωτήρης Γαλαίος* Μάνος Χαμπίδης* Μύρτιλο & Friends* Black Unit (Χορός)* Codasicks* Lost Libe* Έξω Φρενών \nΚΥΡΙΑΚΗ 28 ΣΕΠΤΕΜΒΡΙΟΥ* Αλεξάνδρα Πολυχρονοπούλου* Κλείσε τα Φώτα* Bandaloud* 24/7 Twenty Four Seven* Dark Cherry* Empty Minds* M έψιλον* Lionder \n  \nΏρα έναρξης: 19:00 \n  \nΕΙΣΟΔΟΣ ΕΛΕΥΘΕΡΗ
URL:https://neasmyrni.gr/event/2o-youth-festival/
ATTACH;FMTTYPE=image/jpeg:https://neasmyrni.gr/wp-content/uploads/2025/09/2025-POSTER-YOUTH-FESTIVAL-FINAL.jpg
END:VEVENT
END:VCALENDAR