BEGIN:VCALENDAR
VERSION:2.0
PRODID:-//Δήμος Ν.Σμύρνης - ECPv6.5.0//NONSGML v1.0//EN
CALSCALE:GREGORIAN
METHOD:PUBLISH
X-ORIGINAL-URL:https://neasmyrni.gr
X-WR-CALDESC:Δήμος Ν.Σμύρνης - Εκδηλώσεις
REFRESH-INTERVAL;VALUE=DURATION:PT1H
X-Robots-Tag:noindex
X-PUBLISHED-TTL:PT1H
BEGIN:VTIMEZONE
TZID:Europe/Athens
BEGIN:DAYLIGHT
TZOFFSETFROM:+0200
TZOFFSETTO:+0300
TZNAME:EEST
DTSTART:20250330T010000
END:DAYLIGHT
BEGIN:STANDARD
TZOFFSETFROM:+0300
TZOFFSETTO:+0200
TZNAME:EET
DTSTART:20251026T010000
END:STANDARD
END:VTIMEZONE
BEGIN:VEVENT
DTSTART;TZID=Europe/Athens:20251003T183000
DTEND;TZID=Europe/Athens:20251003T203000
DTSTAMP:20260420T051110
CREATED:20251002T074752Z
LAST-MODIFIED:20251002T074752Z
UID:515856-1759516200-1759523400@neasmyrni.gr
SUMMARY:ΗΜΕΡΙΔΑ ΓΙΑ ΤΗΝ ΥΠΟΓΟΝΙΜΟΤΗΤΑ ΚΑΙ ΤΟ ΔΗΜΟΓΡΑΦΙΚΟ ΠΡΟΒΛΗΜΑ
DESCRIPTION:Ημερίδα με θέμα «Υπογονιμότητα & Δημογραφικό Πρόβλημα» διοργανώνεται την Παρασκευή 3 Οκτωβρίου στο πλαίσιο της 6ης «Εβδομάδας Υγείας & Πρόληψης» που διοργανώνει η Κοινωνική Υπηρεσία του Δήμου Νέας Σμύρνης.Για το θέμα θα μιλήσουν ο Γιώργος Πατούλης\, Πρόεδρος Ιατρικού Συλλόγου Αθήνας και Πρόεδρος του ΕΔΔΥΠΠΥ και ο Κωνσταντίνος Πάντος\, Μαιευτήρας-Γυναικολόγος.Η εκδήλωση θα πραγματοποιηθεί\, στον Δημοτικό Πολυχώρο «Γαλαξίας»\, ώρες 18:30 – 20:30 \n  \nΕίσοδος ελεύθερη
URL:https://neasmyrni.gr/event/%ce%b7%ce%bc%ce%b5%cf%81%ce%b9%ce%b4%ce%b1-%ce%b3%ce%b9%ce%b1-%cf%84%ce%b7%ce%bd-%cf%85%cf%80%ce%bf%ce%b3%ce%bf%ce%bd%ce%b9%ce%bc%ce%bf%cf%84%ce%b7%cf%84%ce%b1-%ce%ba%ce%b1%ce%b9-%cf%84%ce%bf-%ce%b4/
ATTACH;FMTTYPE=image/jpeg:https://neasmyrni.gr/wp-content/uploads/2025/10/515438353_1301524708430484_1652462299214958812_n.jpg
END:VEVENT
BEGIN:VEVENT
DTSTART;TZID=Europe/Athens:20251003T203000
DTEND;TZID=Europe/Athens:20251003T223000
DTSTAMP:20260420T051110
CREATED:20251002T091339Z
LAST-MODIFIED:20251002T091339Z
UID:515915-1759523400-1759530600@neasmyrni.gr
SUMMARY:Η ΕΝΩΣΗ ΚΡΗΤΩΝ ΝΕΑΣ ΣΜΥΡΝΗΣ ΣΤΙΣ ΕΚΔΗΛΩΣΕΙΣ ΠΑΡΑΔΟΣΗΣ & ΤΟΠΙΚΩΝ ΣΥΛΛΟΓΩΝ
DESCRIPTION:Την μουσικοχορευτική παράσταση «Κάθε τόπος κι άλλο ζάλο» στο θέατρο Άλσους παρουσιάζει η Ένωση Κρητών Νέας Σμύρνης αύριο Παρασκευή 3 Οκτωβρίου στο πλαίσιο των εκδηλώσεων Παράδοσης & Τοπικών Συλλόγων.\nΜε μια σπουδαία παρέα χορευτών από τα τμήματα της Ένωσης\, μαζί με εξαιρετικούς μουσικούς\, μικροί και μεγάλοι θα έχουν την ευκαιρία να ταξιδέψουν σε διάφορα χωριά της Κρήτης\, να βιώσουν την παράδοση και να απολαύσουν τη μαγεία τους μέσα από μια αναπαράσταση γλεντιού στο καφενείο της πλατείας!\n\n\nΏρα έναρξης: 20:30\nΕίσοδος ελεύθερη
URL:https://neasmyrni.gr/event/%ce%b7-%ce%b5%ce%bd%cf%89%cf%83%ce%b7-%ce%ba%cf%81%ce%b7%cf%84%cf%89%ce%bd-%ce%bd%ce%b5%ce%b1%cf%83-%cf%83%ce%bc%cf%85%cf%81%ce%bd%ce%b7%cf%83-%cf%83%cf%84%ce%b9%cf%83-%ce%b5%ce%ba%ce%b4%ce%b7%ce%bb/
ATTACH;FMTTYPE=image/jpeg:https://neasmyrni.gr/wp-content/uploads/2025/10/552838296_1307514937831461_6894752523184712649_n.jpg
END:VEVENT
END:VCALENDAR