BEGIN:VCALENDAR
VERSION:2.0
PRODID:-//Δήμος Ν.Σμύρνης - ECPv6.5.0//NONSGML v1.0//EN
CALSCALE:GREGORIAN
METHOD:PUBLISH
X-WR-CALNAME:Δήμος Ν.Σμύρνης
X-ORIGINAL-URL:https://neasmyrni.gr
X-WR-CALDESC:Δήμος Ν.Σμύρνης - Εκδηλώσεις
REFRESH-INTERVAL;VALUE=DURATION:PT1H
X-Robots-Tag:noindex
X-PUBLISHED-TTL:PT1H
BEGIN:VTIMEZONE
TZID:Europe/Athens
BEGIN:DAYLIGHT
TZOFFSETFROM:+0200
TZOFFSETTO:+0300
TZNAME:EEST
DTSTART:20250330T010000
END:DAYLIGHT
BEGIN:STANDARD
TZOFFSETFROM:+0300
TZOFFSETTO:+0200
TZNAME:EET
DTSTART:20251026T010000
END:STANDARD
END:VTIMEZONE
BEGIN:VEVENT
DTSTART;TZID=Europe/Athens:20251005T203000
DTEND;TZID=Europe/Athens:20251005T223000
DTSTAMP:20260420T084903
CREATED:20251003T150700Z
LAST-MODIFIED:20251003T150700Z
UID:516532-1759696200-1759703400@neasmyrni.gr
SUMMARY:Η ΕΝΩΣΗ ΠΟΝΤΙΩΝ ΣΤΙΣ ΕΚΔΗΛΩΣΕΙΣ ΠΑΡΑΔΟΣΗΣ & ΤΟΠΙΚΩΝ ΣΥΛΛΟΓΩΝ
DESCRIPTION:«Οι Τέσσερις εποχές στον Πόντο» από την Ένωση Ποντίων «Η Μαύρη Θάλασσα».\nΕλάτε όλοι να ζήσετε από κοντά ένα λαογραφικό\, μουσικοχορευτικό ταξίδι με τους μουσικούς: Γ. Φωτιάδη\, Γ. Καζαντζίδη\, Φ. Κοζυράκη\, Φ. Πουρπουτίδη\, Δ. Κανάκη Χρυσοχοΐδου\, των χορευτικών ομάδων και της χορωδίας της Ένωσης. Το δρώμενο επιμελείται η κ. Ράνια Χρυσοχοΐδου.\n\n\nΏρα έναρξης: 20:30\nΕίσοδος ελεύθερη
URL:https://neasmyrni.gr/event/%ce%b7-%ce%b5%ce%bd%cf%89%cf%83%ce%b7-%cf%80%ce%bf%ce%bd%cf%84%ce%b9%cf%89%ce%bd-%cf%83%cf%84%ce%b9%cf%83-%ce%b5%ce%ba%ce%b4%ce%b7%ce%bb%cf%89%cf%83%ce%b5%ce%b9%cf%83-%cf%80%ce%b1%cf%81%ce%b1%ce%b4/
ATTACH;FMTTYPE=image/jpeg:https://neasmyrni.gr/wp-content/uploads/2025/10/552431856_1307519797830975_6289514487858559103_n.jpg
END:VEVENT
END:VCALENDAR