BEGIN:VCALENDAR
VERSION:2.0
PRODID:-//Δήμος Ν.Σμύρνης - ECPv6.5.0//NONSGML v1.0//EN
CALSCALE:GREGORIAN
METHOD:PUBLISH
X-ORIGINAL-URL:https://neasmyrni.gr
X-WR-CALDESC:Δήμος Ν.Σμύρνης - Εκδηλώσεις
REFRESH-INTERVAL;VALUE=DURATION:PT1H
X-Robots-Tag:noindex
X-PUBLISHED-TTL:PT1H
BEGIN:VTIMEZONE
TZID:Europe/Athens
BEGIN:DAYLIGHT
TZOFFSETFROM:+0200
TZOFFSETTO:+0300
TZNAME:EEST
DTSTART:20250330T010000
END:DAYLIGHT
BEGIN:STANDARD
TZOFFSETFROM:+0300
TZOFFSETTO:+0200
TZNAME:EET
DTSTART:20251026T010000
END:STANDARD
END:VTIMEZONE
BEGIN:VEVENT
DTSTART;TZID=Europe/Athens:20251010T183000
DTEND;TZID=Europe/Athens:20251010T203000
DTSTAMP:20260419T170921
CREATED:20251006T083402Z
LAST-MODIFIED:20251006T083402Z
UID:516939-1760121000-1760128200@neasmyrni.gr
SUMMARY:ΕΚΔΗΛΩΣΗ ΓΙΑ ΤΗΝ ΠΑΓΚΟΣΜΙΑ ΗΜΕΡΑ ΨΥΧΙΚΗΣ ΥΓΕΙΑΣ
DESCRIPTION:Εκδήλωση με θέμα “Διαδρομές της Απώλειας” διοργανώνει την Παρασκευή 10 Οκτωβρίου η Τοπική Ομάδα Προαγωγής Ψυχικής Υγείας του Δήμου Νέας Σμύρνης με αφορμή την Παγκόσμια Ημέρα Ψυχικής Υγείας.\nΗ εκδήλωση θα πραγματοποιηθεί στον Δημοτικό Πολύχώρο “Γαλαξίας”\, ώρα 18:30\, και συμμετέχουν οι: Μελανή Βασιλοπούλου\, Συμβουλευτική Ψυχολόγος\, Ελένη Ρηγούτσου\, Κλινική Ψυχολόγος\,Μαρίνα Κωνσταντινίδου\, Ψυχολόγος και Ευάγγελος Κωνσταντίνου\, Κοινωνικός Ψυχολόγος.\nΤην συζήτηση θα συντονίσει ο Αντώνης Κατσαμάγκος\, Ψυχολόγος – Ψυχοθεραπευτής.
URL:https://neasmyrni.gr/event/%ce%b5%ce%ba%ce%b4%ce%b7%ce%bb%cf%89%cf%83%ce%b7-%ce%b3%ce%b9%ce%b1-%cf%84%ce%b7%ce%bd-%cf%80%ce%b1%ce%b3%ce%ba%ce%bf%cf%83%ce%bc%ce%b9%ce%b1-%ce%b7%ce%bc%ce%b5%cf%81%ce%b1-%cf%88%cf%85%cf%87%ce%b9-2/
ATTACH;FMTTYPE=image/jpeg:https://neasmyrni.gr/wp-content/uploads/2025/10/20251010-TOΨΗ-POSTER-a3.jpg.jpeg
END:VEVENT
END:VCALENDAR