BEGIN:VCALENDAR
VERSION:2.0
PRODID:-//Δήμος Ν.Σμύρνης - ECPv6.5.0//NONSGML v1.0//EN
CALSCALE:GREGORIAN
METHOD:PUBLISH
X-WR-CALNAME:Δήμος Ν.Σμύρνης
X-ORIGINAL-URL:https://neasmyrni.gr
X-WR-CALDESC:Δήμος Ν.Σμύρνης - Εκδηλώσεις
REFRESH-INTERVAL;VALUE=DURATION:PT1H
X-Robots-Tag:noindex
X-PUBLISHED-TTL:PT1H
BEGIN:VTIMEZONE
TZID:Europe/Athens
BEGIN:DAYLIGHT
TZOFFSETFROM:+0200
TZOFFSETTO:+0300
TZNAME:EEST
DTSTART:20250330T010000
END:DAYLIGHT
BEGIN:STANDARD
TZOFFSETFROM:+0300
TZOFFSETTO:+0200
TZNAME:EET
DTSTART:20251026T010000
END:STANDARD
END:VTIMEZONE
BEGIN:VEVENT
DTSTART;TZID=Europe/Athens:20251013T193000
DTEND;TZID=Europe/Athens:20251013T213000
DTSTAMP:20260420T084902
CREATED:20251010T092121Z
LAST-MODIFIED:20251010T092121Z
UID:518388-1760383800-1760391000@neasmyrni.gr
SUMMARY:ΕΚΘΕΣΗ ΦΩΤΟΓΡΑΦΙΩΝ ΑΠΟ ΤΟ ΑΡΧΕΙΟ ΤΗΣ ΑΣΦΑΛΕΙΑΣ ΓΙΑ ΤΟΝ ΓΡΗΓΟΡΗ ΛΑΜΠΡΑΚΗ
DESCRIPTION:Στον Δημοτικό Πολυχώρο «Γαλαξίας» θα πραγματοποιηθεί Έκθεση Φωτογραφιών από το Αρχείο του φακέλου του Γρηγόρη Λαμπράκη που τηρούσε η Ασφάλεια\, από τη Δευτέρα 13 Οκτωβρίου έως το Σάββατο 18 Οκτωβρίου\, στο πλαίσιο της οργάνωσης του Historical Run 2025.\n\n\nΟ Βουλευτής της ΕΔΑ\, αθλητής και Βαλκανιονίκης Γρηγόρης Λαμπράκης δολοφονήθηκε το 1963. Μετά τη δολοφονία του\, ο Μίκης Θεοδωράκης\, μαζί με άλλους προοδευτικούς νέους της εποχής\, ίδρυσε τη «Δημοκρατική Νεολαία Λαμπράκη» της οποίας υπήρξε Πρόεδρος.\n\n\nΤα εγκαίνια της έκθεσης θα πραγματοποιηθούν τη Δευτέρα 13 Οκτωβρίου και ώρα 19:30. Οι ώρες λειτουργίας της έκθεσης είναι από τις 10:00 έως τις 13:00 και από τις 18:00 έως τις 21:00 καθημερινά. Το Σάββατο 18 Οκτωβρίου η έκθεση θα λειτουργήσει από τις 10:00 έως τις 21:00.
URL:https://neasmyrni.gr/event/%ce%b5%ce%ba%ce%b8%ce%b5%cf%83%ce%b7-%cf%86%cf%89%cf%84%ce%bf%ce%b3%cf%81%ce%b1%cf%86%ce%b9%cf%89%ce%bd-%ce%b1%cf%80%ce%bf-%cf%84%ce%bf-%ce%b1%cf%81%cf%87%ce%b5%ce%b9%ce%bf-%cf%84%ce%b7%cf%83-%ce%b1/
ATTACH;FMTTYPE=image/jpeg:https://neasmyrni.gr/wp-content/uploads/2025/10/560574818_1320145603235061_9029820802251547003_n.jpg
END:VEVENT
END:VCALENDAR