BEGIN:VCALENDAR
VERSION:2.0
PRODID:-//Δήμος Ν.Σμύρνης - ECPv6.5.0//NONSGML v1.0//EN
CALSCALE:GREGORIAN
METHOD:PUBLISH
X-ORIGINAL-URL:https://neasmyrni.gr
X-WR-CALDESC:Δήμος Ν.Σμύρνης - Εκδηλώσεις
REFRESH-INTERVAL;VALUE=DURATION:PT1H
X-Robots-Tag:noindex
X-PUBLISHED-TTL:PT1H
BEGIN:VTIMEZONE
TZID:Europe/Athens
BEGIN:DAYLIGHT
TZOFFSETFROM:+0200
TZOFFSETTO:+0300
TZNAME:EEST
DTSTART:20250330T010000
END:DAYLIGHT
BEGIN:STANDARD
TZOFFSETFROM:+0300
TZOFFSETTO:+0200
TZNAME:EET
DTSTART:20251026T010000
END:STANDARD
END:VTIMEZONE
BEGIN:VEVENT
DTSTART;TZID=Europe/Athens:20251019T100000
DTEND;TZID=Europe/Athens:20251019T130000
DTSTAMP:20260420T084901
CREATED:20251010T092249Z
LAST-MODIFIED:20251010T092249Z
UID:518392-1760868000-1760878800@neasmyrni.gr
SUMMARY:ΣΥΓΚΕΝΤΡΩΣΗ ΦΑΡΜΑΚΩΝ
DESCRIPTION:Η Πανελλήνια Οργάνωση Γυναικών «Παναθηναϊκή» Παραρτήματος Νέας Σμύρνης\, σε συνεργασία με την Ιερά Μητρόπολη Νέας Σμύρνης\, στο πλαίσιο της ανθρωπιστικής τους δράσης\, διοργανώνουν συγκέντρωση φαρμάκων στον Ιερό Ναό του Αγίου Σώστη (Λεωφόρος Συγγρού 145\, Νέα Σμύρνη) την Κυριακή 19 Οκτωβρίου 2025\, 10.00-13.00.\n\n\nΤα φάρμακα που θα συγκεντρωθούν\, θα διατεθούν για την κάλυψη των αναγκών του Δημοτικού Φαρμακείου της Νέας Σμύρνης\, του Κοινωνικού Φαρμακείου – Ιατρείου της Νέας Σμύρνης\, καθώς και των αντίστοιχων φορέων όμορων Δήμων\, που σκοπό έχουν την περίθαλψη των άπορων οικογενειών και των ευπαθών ομάδων.\n\n\nΣε αυτήν την πρωτοβουλία αλληλεγγύης προς τον συνάνθρωπο\, όλοι οι πολίτες-φορείς που επιθυμούν\, μπορούν να φέρουν όσα φάρμακα έχουν αγοράσει ή διαθέτουν στο σπίτι τους και δεν τα χρειάζονται\, για τις ανάγκες του Κοινωνικού Φαρμακείου-Ιατρείου.
URL:https://neasmyrni.gr/event/%cf%83%cf%85%ce%b3%ce%ba%ce%b5%ce%bd%cf%84%cf%81%cf%89%cf%83%ce%b7-%cf%86%ce%b1%cf%81%ce%bc%ce%b1%ce%ba%cf%89%ce%bd/
ATTACH;FMTTYPE=image/jpeg:https://neasmyrni.gr/wp-content/uploads/2025/10/558333254_1320927909823497_2281817766673987979_n.jpg
END:VEVENT
END:VCALENDAR