BEGIN:VCALENDAR
VERSION:2.0
PRODID:-//Δήμος Ν.Σμύρνης - ECPv6.5.0//NONSGML v1.0//EN
CALSCALE:GREGORIAN
METHOD:PUBLISH
X-ORIGINAL-URL:https://neasmyrni.gr
X-WR-CALDESC:Δήμος Ν.Σμύρνης - Εκδηλώσεις
REFRESH-INTERVAL;VALUE=DURATION:PT1H
X-Robots-Tag:noindex
X-PUBLISHED-TTL:PT1H
BEGIN:VTIMEZONE
TZID:Europe/Athens
BEGIN:DAYLIGHT
TZOFFSETFROM:+0200
TZOFFSETTO:+0300
TZNAME:EEST
DTSTART:20260329T010000
END:DAYLIGHT
BEGIN:STANDARD
TZOFFSETFROM:+0300
TZOFFSETTO:+0200
TZNAME:EET
DTSTART:20261025T010000
END:STANDARD
END:VTIMEZONE
BEGIN:VEVENT
DTSTART;TZID=Europe/Athens:20260422T190000
DTEND;TZID=Europe/Athens:20260422T210000
DTSTAMP:20260425T135859
CREATED:20260419T080445Z
LAST-MODIFIED:20260419T080445Z
UID:574366-1776884400-1776891600@neasmyrni.gr
SUMMARY:ΕΠΑΓΓΕΛΜΑΤΙΚΗ ΚΑΤΑΡΤΙΣΗ & ΣΥΜΠΕΡΙΛΗΨΗ ΑΝΑΠΗΡΩΝ
DESCRIPTION:Με στόχο την ενίσχυση της ισότιμης συμμετοχής στην εκπαίδευση και την εργασία\, και την προώθηση μιας κοινωνίας χωρίς αποκλεισμούς ο Δήμος Νέας Σμύρνης διοργανώνει Εσπερίδα Ενημέρωσης την Τετάρτη 22 Απριλίου\, ώρα 19:00 στον Δημοτικό Πολυχώρο Γαλαξίας.\nΗ εκδήλωση πραγματοποιείται με αφορμή την Παγκόσμια Ημέρα Ευαισθητοποίησης για τον Αυτισμό (2 Απριλίου) και στόχο έχει την έγκυρη ενημέρωση πολιτών\, ενδιαφερόμενων ατόμων και οικογενειών για τις δυνατότητες εκπαίδευσης\, κατάρτισης και ένταξης στην αγορά εργασίας.\nΣυμμετέχουν οι φορείς: Δ.ΥΠ.Α \, ΑΛΜΑ\, ΦΑΡΟΣ ΤΥΦΛΩΝ Ελλάδας\, ΚΔΒΜ Ευρωπαϊκή Ανάπτυξη \, Εμπορικός Σύλλογος Νέας Σμύρνης\nΣτο πλαίσιο της εκδήλωσης θα παρουσιαστούν\n• Προγράμματα σπουδών\n• Παρουσίαση ειδικοτήτων\n• Διαδικασίες ένταξης και απασχόλησης ΑμεΑ\n\n\nΗ είσοδος για το κοινό είναι ελεύθερη.
URL:https://neasmyrni.gr/event/%ce%b5%cf%80%ce%b1%ce%b3%ce%b3%ce%b5%ce%bb%ce%bc%ce%b1%cf%84%ce%b9%ce%ba%ce%b7-%ce%ba%ce%b1%cf%84%ce%b1%cf%81%cf%84%ce%b9%cf%83%ce%b7-%cf%83%cf%85%ce%bc%cf%80%ce%b5%cf%81%ce%b9%ce%bb%ce%b7%cf%88/
ATTACH;FMTTYPE=image/jpeg:https://neasmyrni.gr/wp-content/uploads/2026/04/674264151_3062893533908619_7637052717315375643_n.jpg
END:VEVENT
BEGIN:VEVENT
DTSTART;TZID=Europe/Athens:20260425T190000
DTEND;TZID=Europe/Athens:20260425T210000
DTSTAMP:20260425T135859
CREATED:20260421T145434Z
LAST-MODIFIED:20260421T145434Z
UID:575160-1777143600-1777150800@neasmyrni.gr
SUMMARY:Η ΔΙΑΘΗΚΗ ΤΟΥ ΦΙΝΤΕΛ
DESCRIPTION:“Η διαθήκη του Φιντέλ Κάστρο” (Εκδόσεις “Ταξιδευτής”)\, μια επιλογή από τα τελευταία κείμενα του Κουβανού ηγέτη παρουσιάζεται το Σάββατο 25 Απριλίου ώρα 19:00 στη Δημοτική Βιβλιοθήκη (Αϊδινίου 28). Την εκδήλωση συνδιοργανώνουν ο Δήμος Νέας Σμύρνης\, ο Πολιτιστικός Σύλλογος Χοσέ Μαρτί και οι Εκδόσεις “Ταξιδευτής”.\nΠρόκειται για μία επετειακή έκδοση για 100 χρόνια από την γέννηση του Κάστρο για την οποία θα μιλήσουν ο εκδότης των εκδόσεων Ταξιδευτής Κώστας Παπαδόπουλος\, ο Κώστας Ήσυχος\, ο μεταφραστής του βιβλίου Βαγγέλης Γονατάς και ο Δημοτικός Σύμβουλος Λαζαρος Κικίδης.\nΤην εκδήλωση θα τιμήσει με την παρουσία του ο πρέσβης της Κούβας στη χώρα μας Aramis Fuente Hernandez\,\nΠαράλληλα με την παρουσίαση του βιβλίου θα υπάρξει ενημέρωση για τα ταξίδια Αλληλεγγύης στην Κούβα και τους τρόπους συμπαράστασης στον Κουβανέζικο λαό.
URL:https://neasmyrni.gr/event/%ce%b7-%ce%b4%ce%b9%ce%b1%ce%b8%ce%b7%ce%ba%ce%b7-%cf%84%ce%bf%cf%85-%cf%86%ce%b9%ce%bd%cf%84%ce%b5%ce%bb/
ATTACH;FMTTYPE=image/jpeg:https://neasmyrni.gr/wp-content/uploads/2026/04/678939847_1477211517528468_1090687594855755351_n.jpg
END:VEVENT
BEGIN:VEVENT
DTSTART;TZID=Europe/Athens:20260426T100000
DTEND;TZID=Europe/Athens:20260426T150000
DTSTAMP:20260425T135859
CREATED:20260414T154812Z
LAST-MODIFIED:20260414T154812Z
UID:573293-1777197600-1777215600@neasmyrni.gr
SUMMARY:ΑΘΛΗΤΙΚΗ ΗΜΕΡΑ - ΗΜΕΡΑ ΠΟΔΗΛΑΤΟΥ
DESCRIPTION:Με πρωταγωνιστή το ποδήλατο για παιδιά 6-15 ετών και πλήθος άλλες δραστηριότητες για μικρούς και μεγάλους η Νέα Σμύρνη φοράει τα αθλητικά της για την διοργάνωση της Αθλητικής Ημέρας την Κυριακή 26 Απριλίου στο Άλσος.\nΗ Διεύθυνση Αθλητισμού του Δήμου καλεί τα παιδιά να φορέσουν τα κράνη τους\, να ανέβουν στα ποδήλατά τους και να ζήσουν μια μοναδική διαδραστική εμπειρία. Οι μικροί αναβάτες στην κεντρική πλατεία του Άλσους θα συμμετάσχουν σε παιχνίδια δεξιοτεχνίας όπως «Το Σαλιγκάρι της Υγείας»\, «Το Ζικ -Ζακ της Συνεργασίας»\, «Η πόρτα της καινοτομίας» κ.α. Επίσης θα ενημερωθούν από πιστοποιημένους εκπαιδευτές Ποδηλασίας για την Ποδηλατική Οδική Ασφάλεια\, για την Ποδηλατική κουλτούρα και συμπεριφορά μέσω της εκπαιδευτικής παρουσίασης «Ποδηλατώ με ασφάλεια στην πόλη μου».\nΠαράλληλα θα υλοποιηθούν και άλλες εκπαιδευτικές δράσεις όπως «Ρόδα είναι και γυρίζει»\, «Από το σπίτι στο Σχολείο»\, «Ζωγραφίζω το ποδήλατο και την πόλη μου». Όλοι οι μικροί ποδηλάτες στο τέλος θα λάβουν ως ενθύμιο\, Δίπλωμα Συμμετοχής\, με το οπισθόφυλλο αφιερωμένο στην επεξήγηση των 17 στόχων του Ο.Η.Ε για τη Βιώσιμη Ανάπτυξη. Στο τέλος θα πραγματοποιηθεί κλήρωση ανάμεσα στους συμμετέχοντες με δώρα ένα ποδήλατο\, κράνη και ποδηλατικές εμφανίσεις.\nΤην ίδια μέρα το Άλσος θα μεταμορφωθεί σ’ έναν τεράστιο αθλητικό χώρο όπου θα πραγματοποιηθούν:\n\n\n• Μάθημα Pilates από τα Τμήματα Μαζικού Αθλητισμού του Δήμου Νέας Σμύρνης με ελεύθερη συμμετοχή.\n• Σκυταλοδρομία με την συνεργασία του Σ.Α.Φ.Α.Ν.Σ. στον εξωτερικό διάδρομο του Άλσους .\n• Παρουσίαση του αθλήματος Pétanque από τους αθλητές του ΠΑΝΙΩΝΙΟΥ Γ.Σ.Σ που έχουν τα γήπεδα τους στο χώρο του Άλσους.\n• Χορευτικές επιδείξεις KANGOO JUMPS\n• Parkour από τον Άθλο Νέας Σμύρνης\n• Παρουσίαση προγραμμάτων από τα τμήματα Αισθητικής Ομαδικής Γυμναστικής\, Μοντέρνου Χορού και Special Olympics Ρυθμικής Γυμναστικής του Άθλου Νέας Σμύρνης.\n\nΟι δράσεις της Αθλητικής Ημέρας ξεκινούν στις 10:00 και ολοκληρώνονται στις 15:00\n\n\nΕίσοδος ελεύθερη.\n\n\nΣας περιμένουμε όλους
URL:https://neasmyrni.gr/event/%ce%b1%ce%b8%ce%bb%ce%b7%cf%84%ce%b9%ce%ba%ce%b7-%ce%b7%ce%bc%ce%b5%cf%81%ce%b1-%ce%b7%ce%bc%ce%b5%cf%81%ce%b1-%cf%80%ce%bf%ce%b4%ce%b7%ce%bb%ce%b1%cf%84%ce%bf%cf%85/
ATTACH;FMTTYPE=image/jpeg:https://neasmyrni.gr/wp-content/uploads/2026/04/669653613_1471559364760350_9177833215279408251_n.jpg
END:VEVENT
BEGIN:VEVENT
DTSTART;TZID=Europe/Athens:20260501T200000
DTEND;TZID=Europe/Athens:20260501T223000
DTSTAMP:20260425T135859
CREATED:20260424T090047Z
LAST-MODIFIED:20260424T090047Z
UID:576245-1777665600-1777674600@neasmyrni.gr
SUMMARY:ΠΡΩΤΟΜΑΓΙΑ ΣΤΗΝ ΠΛΑΤΕΙΑ ΜΕ ΤΟΝ ΝΙΚΟ ΠΟΡΤΟΚΑΛΟΓΛΟΥ
DESCRIPTION:Στα γνώριμα γι’ αυτόν “λημέρια” της Πλατείας επιστρέφει την Πρωτομαγιά ο Νίκος Πορτοκάλογλου με μια μεγάλη συναυλία στο πλαίσιο των Πρωτομαγιάτικών Εκδηλώσεων 2026. Την συναυλία διοργανώνει ο Δήμος Νέας Σμύρνης με την υποστήριξη της Περιφέρειας Αττικής.\nΤην Παρασκευή 1 Μαίου\, ο Νίκος Πορτοκάλογλου που μεγάλωσε στη Νέα Σμύρνη και ξεκίνησε από εδώ την σπουδαία καλλιτεχνική του πορεία θα πραγματοποιήσει ένα μουσικό ταξίδι στο χρόνο με τις μεγαλύτερες παλιές αλλά και νέες επιτυχίες του. Θα τον πλαισιώσει μια εξαίσια ομάδα μουσικών κι όλοι μαζί υπόσχονται μια βραδιά που θα μείνει αξέχαστη.\n\n\nΏρα έναρξης 20:00\nΕίσοδος ελεύθερη
URL:https://neasmyrni.gr/event/prwtomagia2026-plateia-portokaloglou/
ATTACH;FMTTYPE=image/jpeg:https://neasmyrni.gr/wp-content/uploads/2026/04/677087474_1478068220776131_7136962108960692952_n.jpg
END:VEVENT
BEGIN:VEVENT
DTSTART;TZID=Europe/Athens:20260502T110000
DTEND;TZID=Europe/Athens:20260502T130000
DTSTAMP:20260425T135859
CREATED:20260424T090245Z
LAST-MODIFIED:20260424T090245Z
UID:576249-1777719600-1777726800@neasmyrni.gr
SUMMARY:ΔΙΑΓΩΝΙΣΜΟΣ ΖΩΓΡΑΦΙΚΗΣ ΓΙΑ ΠΑΙΔΙΑ
DESCRIPTION:Διαγωνισμό Παιδικής Ζωγραφικής θέμα “Εκεί που ανθίζει η Ειρήνη” διοργανώνει ο Δήμος Νέας Σμύρνης σε συνεργασία με την Παναθηναϊκή Οργάνωση Γυναικών Νέας Σμύρνης το Σάββατο 2 Μαϊου στον Δημοτικό Πολυχώρο “Γαλαξίας”\, ώρα 11:00-13:00.\nΟ διαγωνισμός απευθύνεται σε παιδιά Νηπιαγωγείου και Δημοτικού που καλούνται να διασκεδάσουν\, να εκφράσουν την δημιουργικότητα και την φαντασία τους και να αποδώσουν με το δικό τους μοναδικό τρόπο την έννοια της ειρηνικής συνύπαρξης.\nΟι ζωγραφιές θα αξιολογηθούν από επιτροπή και στους νικητές θα δοθούν βραβεία / έπαινοι. Για όλα τα παιδιά που θα συμμετέχουν οι διοργανωτές έχουν ετοιμάσει πολλές εκπλήξεις
URL:https://neasmyrni.gr/event/%ce%b4%ce%b9%ce%b1%ce%b3%cf%89%ce%bd%ce%b9%cf%83%ce%bc%ce%bf%cf%83-%ce%b6%cf%89%ce%b3%cf%81%ce%b1%cf%86%ce%b9%ce%ba%ce%b7%cf%83-%ce%b3%ce%b9%ce%b1-%cf%80%ce%b1%ce%b9%ce%b4%ce%b9%ce%b1/
LOCATION:Γαλαξίας – Δημοτικός Πολυχώρος Πολιτισμού Νέας Σμύρνης\, 2ας Μαΐου 16\, Νέα Σμύρνη\, 171 21\, Greece
ATTACH;FMTTYPE=image/jpeg:https://neasmyrni.gr/wp-content/uploads/2026/04/678445926_1478051904111096_8601890518882195051_n.jpg
END:VEVENT
END:VCALENDAR