BEGIN:VCALENDAR
VERSION:2.0
PRODID:-//Δήμος Ν.Σμύρνης - ECPv6.5.0//NONSGML v1.0//EN
CALSCALE:GREGORIAN
METHOD:PUBLISH
X-ORIGINAL-URL:https://neasmyrni.gr
X-WR-CALDESC:Δήμος Ν.Σμύρνης - Εκδηλώσεις
REFRESH-INTERVAL;VALUE=DURATION:PT1H
X-Robots-Tag:noindex
X-PUBLISHED-TTL:PT1H
BEGIN:VTIMEZONE
TZID:Europe/Athens
BEGIN:DAYLIGHT
TZOFFSETFROM:+0200
TZOFFSETTO:+0300
TZNAME:EEST
DTSTART:20230326T010000
END:DAYLIGHT
BEGIN:STANDARD
TZOFFSETFROM:+0300
TZOFFSETTO:+0200
TZNAME:EET
DTSTART:20231029T010000
END:STANDARD
END:VTIMEZONE
BEGIN:VEVENT
DTSTART;TZID=Europe/Athens:20230111T180000
DTEND;TZID=Europe/Athens:20230111T200000
DTSTAMP:20260421T230724
CREATED:20230109T112013Z
LAST-MODIFIED:20230109T112013Z
UID:227083-1673460000-1673467200@neasmyrni.gr
SUMMARY:Το άγχος ως συναίσθημα & ο θυμός ως σύμπτωμα στο παιδί και τον έφηβο:τρόποι παρέμβασης από τους γονείς
DESCRIPTION:«ΑΚΑΔΗΜΙΑ ΓΟΝΕΩΝ»\nΔΗΜΟΥ ΝΕΑΣ ΣΜΥΡΝΗΣ \n«Από το Α έως το Ω: μία Ακαδημία για Γονείς»\nΑκαδημαϊκό έτος 2022 – 2023 (6ο έτος) \n3 η Συνάντηση\nΤετάρτη 11 Ιανουαρίου 2023\n«ΓΑΛΑΞΙΑΣ» ΚΕΝΤΡΙΚΗ ΠΛΑΤΕΙΑ\, ώρα 18:00 \n«Το άγχος ως συναίσθημα & \nο θυμός ως σύμπτωμα στο παιδί και τον έφηβο:\nτρόποι παρέμβασης από τους γονείς» \nΒάνα Τζάννε \nΨυχολόγος MSc\, Γνωσιακή-Συμπεριφορική Ψυχοθεραπεία \nΕπιστημ. Συνεργάτης\, \nΠρόγραμμα Κατάρτισης Υπουργείου Υγείας\n«Παιδιά και Έφηβοι στις ημέρες Covid-19» \nΣυντονισμός :\nΣταυρούλα Παπαδάκου\nΠαιδίατρος- Αναπτυξιολόγος \nτ. Συντονίστρια- Διευθύντρια Παιδιατρικού Τμήματος Ασκληπιείο Βούλας \nΠρόεδρος Δ.Σ Μονάδας «Σπύρος Δοξιάδης» &\nΑντιπρόεδρος Δ.Σ. Ελληνικής Εταιρείας Εφηβικής Ιατρικής (Ε.Ε.Ε.Ι) \nΣΥΝΔΕΣΜΟΣ ΕΓΓΡΑΦΩΝ : https://forms.gle/npzdUEFNsYwTZqz36 \nΗ συμμετοχή είναι δωρεάν και θα δοθούν βεβαιώσεις παρακολούθησης σε όσους συμμετέχοντες επιθυμούν.
URL:https://neasmyrni.gr/event/%cf%84%ce%bf-%ce%ac%ce%b3%cf%87%ce%bf%cf%82-%cf%89%cf%82-%cf%83%cf%85%ce%bd%ce%b1%ce%af%cf%83%ce%b8%ce%b7%ce%bc%ce%b1-%ce%bf-%ce%b8%cf%85%ce%bc%cf%8c%cf%82-%cf%89%cf%82-%cf%83%cf%8d%ce%bc%cf%80/
LOCATION:Γαλαξίας – Δημοτικός Πολυχώρος Πολιτισμού Νέας Σμύρνης\, 2ας Μαΐου 16\, Νέα Σμύρνη\, 171 21\, Greece
ATTACH;FMTTYPE=image/jpeg:https://neasmyrni.gr/wp-content/uploads/2021/02/AKADHMIA-GONEWN_LOGO-FINAL-2.jpg
END:VEVENT
BEGIN:VEVENT
DTSTART;TZID=Europe/Athens:20230127T100000
DTEND;TZID=Europe/Athens:20230127T130000
DTSTAMP:20260421T230724
CREATED:20230113T150732Z
LAST-MODIFIED:20230113T150756Z
UID:228196-1674813600-1674824400@neasmyrni.gr
SUMMARY:50η Τακτική Εθελοντική Αιμοδοσία
DESCRIPTION:Σας ενημερώνουμε ότι την Παρασκευή 27 και το Σάββατο 28 Ιανουαρίου θα πραγματοποιηθεί η Εθελοντική Αιμοδοσία στο Β ΚΑΠΗ (Σταδίου 32-34)
URL:https://neasmyrni.gr/event/50%ce%b7-%cf%84%ce%b1%ce%ba%cf%84%ce%b9%ce%ba%ce%ae-%ce%b5%ce%b8%ce%b5%ce%bb%ce%bf%ce%bd%cf%84%ce%b9%ce%ba%ce%ae-%ce%b1%ce%b9%ce%bc%ce%bf%ce%b4%ce%bf%cf%83%ce%af%ce%b1/
ATTACH;FMTTYPE=image/jpeg:https://neasmyrni.gr/wp-content/uploads/2023/01/Αφίσα-εθελοντικής-αιμοδοσίας-27.01.23.jpg
END:VEVENT
BEGIN:VEVENT
DTSTART;TZID=Europe/Athens:20230131T193000
DTEND;TZID=Europe/Athens:20230131T213000
DTSTAMP:20260421T230724
CREATED:20230126T113614Z
LAST-MODIFIED:20230126T114452Z
UID:230300-1675193400-1675200600@neasmyrni.gr
SUMMARY:Σμύρνη μου Αλησμόνητη Πατρίδα
DESCRIPTION:
URL:https://neasmyrni.gr/event/%cf%83%ce%bc%cf%8d%cf%81%ce%bd%ce%b7-%ce%bc%ce%bf%cf%85-%ce%b1%ce%bb%ce%b7%cf%83%ce%bc%cf%8c%ce%bd%ce%b7%cf%84%ce%b7-%cf%80%ce%b1%cf%84%cf%81%ce%af%ce%b4%ce%b1/
ATTACH;FMTTYPE=image/jpeg:https://neasmyrni.gr/wp-content/uploads/2023/01/Αφίσα-εκδήλωσης.jpg
END:VEVENT
END:VCALENDAR