BEGIN:VCALENDAR
VERSION:2.0
PRODID:-//Δήμος Ν.Σμύρνης - ECPv6.5.0//NONSGML v1.0//EN
CALSCALE:GREGORIAN
METHOD:PUBLISH
X-ORIGINAL-URL:https://neasmyrni.gr
X-WR-CALDESC:Δήμος Ν.Σμύρνης - Εκδηλώσεις
REFRESH-INTERVAL;VALUE=DURATION:PT1H
X-Robots-Tag:noindex
X-PUBLISHED-TTL:PT1H
BEGIN:VTIMEZONE
TZID:Europe/Athens
BEGIN:DAYLIGHT
TZOFFSETFROM:+0200
TZOFFSETTO:+0300
TZNAME:EEST
DTSTART:20230326T010000
END:DAYLIGHT
BEGIN:STANDARD
TZOFFSETFROM:+0300
TZOFFSETTO:+0200
TZNAME:EET
DTSTART:20231029T010000
END:STANDARD
END:VTIMEZONE
BEGIN:VEVENT
DTSTART;TZID=Europe/Athens:20230402T180000
DTEND;TZID=Europe/Athens:20230402T193000
DTSTAMP:20260422T055038
CREATED:20230331T145152Z
LAST-MODIFIED:20230331T145212Z
UID:247223-1680458400-1680463800@neasmyrni.gr
SUMMARY:10η Διαδικτυακή Συνάντηση Σεμιναρίων ΚΑΘΗΜΕΡΙΝΗΣ ΦΙΛΟΣΟΦΙΑΣ
DESCRIPTION:ΔΙΑΔΙΚΤΥΑΚΕΣ ΔΙΑΛΕΞΕΙΣ \n 2022 – 2023 \n«Μαθήματα καθημερινής φιλοσοφίας» \nΕΙΣΗΓΗΤΗΣ: ΓΑΒΑΛΑ ΝΑΝΤΙΑ \n\n\n\nΗΜΕΡΑ ΔΙΑΛΕΞΗΣ\nΩΡΑ ΔΙΑΛΕΞΗΣ\nΘΕΜΑΤΙΚΗ ΔΙΑΛΕΞΗΣ\n\n\n02.04.23\n18:00 – 19:30\n«Η επιλογή της αξιοπρέπειας»\n\n\n\nΟι διαδικτυακές αυτές διαλέξεις προϋποθέτουν ΕΓΓΡΑΦΗ των ενδιαφερομένων πολιτών στον κάτωθι σύνδεσμο: \nΣΥΝΔΕΣΜΟΣ ΕΓΓΡΑΦΗΣ: https://forms.gle/zySBdVJNQaxUGZpP9 \nΠριν από κάθε συνεδρίαση\, θα αποστέλλεται στο mail των εγγεγραμμένων ο ειδικός ηλεκτρονικός σύνδεσμος παρακολούθησης (link). \nΠληροφορίες: Γραφείο Παιδείας Δήμου Νέας Σμύρνης. Υπεύθυνος κ. ΠΡΩΙΑΣ Στέφανος\, τηλ: 2132025726-5. E-mail: adpaideias@neasmyrni.gr
URL:https://neasmyrni.gr/event/10%ce%b7-%ce%b4%ce%b9%ce%b1%ce%b4%ce%b9%ce%ba%cf%84%cf%85%ce%b1%ce%ba%ce%ae-%cf%83%cf%85%ce%bd%ce%ac%ce%bd%cf%84%ce%b7%cf%83%ce%b7-%cf%83%ce%b5%ce%bc%ce%b9%ce%bd%ce%b1%cf%81%ce%af%cf%89%ce%bd-%ce%ba/
END:VEVENT
BEGIN:VEVENT
DTSTART;TZID=Europe/Athens:20230403T180000
DTEND;TZID=Europe/Athens:20230403T200000
DTSTAMP:20260422T055038
CREATED:20230331T145757Z
LAST-MODIFIED:20230331T150221Z
UID:247229-1680544800-1680552000@neasmyrni.gr
SUMMARY:3ο ΔΙΑΔΙΚΤΥΑΚΟ ΣΕΜΙΝΑΡΙΟ ΘΕΤΙΚΗΣ ΨΥΧΟΛΟΓΙΑΣ
DESCRIPTION:ΘΕΜΑ: ΔΙΑΔΙΚΤΥΑΚΕΣ ΔΙΑΛΕΞΕΙΣ \n2023 \n«ΘΕΤΙΚΗ ΨΥΧΟΛΟΓΙΑ» \n\n\n\nΕΙΣΗΓΗΤΗΣ\nΗΜΕΡΟΜΗΝΙΑ\nΩΡΑ\nΘΕΜΑΤΙΚΗ\n\n\n\n\nΕλισάβετ Γεωργίου \nΕργασιακή Ψυχολόγος\,  MSc\, Coach\, Ψυχοθεραπεύτρια \nΔιευθύντρια Be Yourself \nPHD(c)\n\n  \nΔΕΥΤΕΡΑ \n  \n3/4/2023 \n \n\n  \n18:00 -20:00\nΔιαχείριση Εργασιακού Άγχους και Πρόληψη του Συνδρόμου Επαγγελματικής Εξουθένωσης\n\n\n\n\n\n\n\n\n\n\n\nΟι διαδικτυακές αυτές διαλέξεις προϋποθέτουν ΕΓΓΡΑΦΗ των ενδιαφερομένων πολιτών στον κάτωθι σύνδεσμο: \nΣΥΝΔΕΣΜΟΣ ΕΓΓΡΑΦΗΣ: \nhttps://forms.gle/QeMtUuWcYeaPNTX17 \n  \nΠριν από κάθε συνεδρίαση\, θα αποστέλλεται στο mail των εγγεγραμμένων ο ειδικός ηλεκτρονικός σύνδεσμος παρακολούθησης (link). \nΠληροφορίες: Γραφείο Παιδείας Δήμου Νέας Σμύρνης. Υπεύθυνος κ. ΠΡΩΙΑΣ Στέφανος\, \nτηλ: 2132025726-25. E-mail: adpaideias@neasmyrni.gr
URL:https://neasmyrni.gr/event/3%ce%bf-%ce%b4%ce%b9%ce%b1%ce%b4%ce%b9%ce%ba%cf%84%cf%85%ce%b1%ce%ba%ce%bf-%cf%83%ce%b5%ce%bc%ce%b9%ce%bd%ce%b1%cf%81%ce%b9%ce%bf-%ce%b8%ce%b5%cf%84%ce%b9%ce%ba%ce%b7%cf%83-%cf%88%cf%85%cf%87%ce%bf/
END:VEVENT
BEGIN:VEVENT
DTSTART;TZID=Europe/Athens:20230405T180000
DTEND;TZID=Europe/Athens:20230405T200000
DTSTAMP:20260422T055038
CREATED:20230404T075359Z
LAST-MODIFIED:20230404T075359Z
UID:248088-1680717600-1680724800@neasmyrni.gr
SUMMARY:Διατροφικές συνήθειες και παρεκτροπές  στην μετά Covid εποχή
DESCRIPTION:«Από το Α έως το Ω: μία Ακαδημία για Γονείς» \n(8ος κύκλος) \nΠρόκειται για 4 – 8 δίωρες διαδραστικές συναντήσεις γονέων τη δεύτερη Τετάρτη κάθε μήνα 18.15-20.00\, από Νοέμβριο έως Μάιο\, όπου παρουσιάζονται θέματα σχετικά με την υγεία\, την ανάπτυξη και τη συμπεριφορά των παιδιών\, τις σχέσεις στην οικογένεια και το σχολείο κ.λπ. \n6η Συνάντηση \nΤετάρτη  5 Απριλίου 2023 \n«ΓΑΛΑΞΙΑΣ» ΚΕΝΤΡΙΚΗ ΠΛΑΤΕΙΑ\, ώρα 18:15 \n\n«Διατροφικές συνήθειες και παρεκτροπές  \nστην μετά Covid εποχή» \n  \n          Ελένη Παναγούλη \n   Παιδίατρος\, MSc\, PhD \n             ΠΜΣ «Στρ. Αναπτυξιακής και Εφηβικής Υγείας» \nΑκαδημ. Υπότροφος ΕΚΠΑ \n  \n     Συντονισμός : \nΆρτεμις Κ. Τσίτσικα \nΑναπλ. Καθηγήτρια Παιδιατρικής-Εφηβικής Ιατρικής ΕΚΠΑ \nΕπιστ. Υπεύθυνος Προγραμμάτων ΕΚΠΑ-Π.Ο.Υ. “φιλικών” για εφήβους \nκαι κατάρτισης του Υπουργείου Υγείας \nΔιευθύντρια  ΠΜΣ “Στρ. Αναπτυξιακής και Εφηβικής Υγείας” \nΙατρικής Σχολής ΕΚΠΑ \nΠρόεδρος Ελληνικής Εταιρείας Εφηβικής Ιατρικής (Ε.Ε.Ε.Ι.) \n 
URL:https://neasmyrni.gr/event/%ce%b4%ce%b9%ce%b1%cf%84%cf%81%ce%bf%cf%86%ce%b9%ce%ba%ce%ad%cf%82-%cf%83%cf%85%ce%bd%ce%ae%ce%b8%ce%b5%ce%b9%ce%b5%cf%82-%ce%ba%ce%b1%ce%b9-%cf%80%ce%b1%cf%81%ce%b5%ce%ba%cf%84%cf%81%ce%bf%cf%80/
LOCATION:Γαλαξίας – Δημοτικός Πολυχώρος Πολιτισμού Νέας Σμύρνης\, 2ας Μαΐου 16\, Νέα Σμύρνη\, 171 21\, Greece
ATTACH;FMTTYPE=image/jpeg:https://neasmyrni.gr/wp-content/uploads/2021/02/AKADHMIA-GONEWN_LOGO-FINAL-2.jpg
END:VEVENT
BEGIN:VEVENT
DTSTART;TZID=Europe/Athens:20230407T113000
DTEND;TZID=Europe/Athens:20230407T140000
DTSTAMP:20260422T055038
CREATED:20230406T110015Z
LAST-MODIFIED:20230406T110015Z
UID:248456-1680867000-1680876000@neasmyrni.gr
SUMMARY:All day green!
DESCRIPTION:  \nΟ Δήμος Νέας Σμύρνης στα πλαίσια υλοποίησης του Ευρωπαϊκού συγχρηματοδοτούμενου προγράμματος FOOD WAVE\,  στο οποίο συμμετέχει ως εταίρος\, διοργανώνει στις 7 Απριλίου\, μια διαδραστική  εκδήλωση με σκοπό την ευαισθητοποίηση των νέων  σχετικά με θέματα που αφορούν στη σημασίας της κλιματικής αλλαγής\, την ανάπτυξη οικολογικής συνείδησης και την υιοθέτηση νέου τρόπου ζωής για την μείωση σπατάλης τροφής. \nΕθελοντές της ομάδας ΑΜΚΕ ΙΑΣΙΣ θα συζητήσουν με τα παιδιά γύρω από την Κλιματική Αλλαγή\, η ομάδα της Fabric Republic και της Replastic θα ενημερώνει τους νέους γύρω από την έννοια της κυκλικής οικονομίας\, καθώς και εκπρόσωποι από το Food Wave θα δώσουν συμβουλές και τρόπους μείωσης της σπατάλης τροφίμων. Η εκδήλωση θα πραγματοποιηθεί σε ειδικά διαμορφωμένο και ανοιχτό χώρο στο Άλσος της Νέας Σμύρνης μεταξύ 11:30 -14:00. \nΣας περιμένουμε όλους εκεί! \nΛίγα λόγια για το Food Wave… \nΤο Food Wave\, είναι μια διεθνής κοινότητα νέων που δραστηριοποιούνται σε 17 χώρες σε όλο τον κόσμο. \nΣτόχος του Food Wave είναι να ευαισθητοποιήσουν τους νέους (15-35) σχετικά με σημαντικά περιβαλλοντολογικά και κοινωνικά ζητήματα\, όπως η κατανόηση της σημασίας της κλιματικής αλλαγής\, η ανάπτυξη οικολογικής συνείδησης\, η υιοθέτηση νέου τρόπου ζωής με σκοπό την μείωση σπατάλης τροφής αλλά και τη ένταξη στην καθημερινότητά τους του υγιεινού και μεσογειακού τρόπου διατροφής ώστε να πετύχουμε ένα δίκαιο και βιώσιμο παγκόσμιο σύστημα τροφίμων έως το 2030. \nΤο Food Wave είναι ένα έργο που συγχρηματοδοτείται από την Ευρωπαϊκή Επιτροπή\, στοχεύει στην ενημέρωση και τη συμμετοχή 15 εκατομμυρίων νέων μέσω μιας διαδικτυακής πλατφόρμας\, ψηφιακών εκστρατειών αλλά και δράσεων σε τοπικό επίπεδο που υποστηρίζονται από ένα διεθνές δίκτυο πρεσβευτών. \n 
URL:https://neasmyrni.gr/event/all-day-green/
ATTACH;FMTTYPE=image/jpeg:https://neasmyrni.gr/wp-content/uploads/2023/04/iStock-1181043800@1x.jpg
END:VEVENT
BEGIN:VEVENT
DTSTART;TZID=Europe/Athens:20230408T110000
DTEND;TZID=Europe/Athens:20230408T130000
DTSTAMP:20260422T055038
CREATED:20230308T120511Z
LAST-MODIFIED:20230321T105001Z
UID:240786-1680951600-1680958800@neasmyrni.gr
SUMMARY:Βράβευση των μαθητών της πόλης μας που εισήχθησαν στην Τριτοβάθμια Εκπαίδευση
DESCRIPTION:Ο Δήμος Νέας Σμύρνης σας προσκαλεί στη μεγάλη εκδήλωση που θα πραγματοποιηθεί το Σάββατο 8/4/2023\, 11:00 π.μ.\, στο  Ίδρυμα Ευγενίδου για τη βράβευση των μαθητών της πόλης μας που εισήχθησαν στην Τριτοβάθμια Εκπαίδευση τα έτη 2020\,2021\,2022. \nΚάθε μαθητής θα λάβει έναν τιμητικό  Έπαινο και ένα αναμνηστικό δώρο\, ως ανταμοιβή των κόπων του και της επιτυχίας του στις Πανελλαδικές εξετάσεις. \nΣτην ίδια εκδήλωση θα τύχουν ειδικής επιβράβευσης οι αριστούχοι μαθητές ανά σχολείο που εισήχθησαν σε ΑΕΙ\, καθώς και φοιτητές της πόλης μας που φοιτούν σε ΑΕΙ της περιφέρειας και ανήκουν σε ευπαθείς κοινωνικές ομάδες (Η επιλογή θα γίνει από την Κοινωνική Υπηρεσία). \nΟι ενδιαφερόμενοι νέοι καλούνται να δηλώσουν συμμετοχή στα παρακάτω link:  \nΓια συμμετοχή στη βράβευση και συμμετοχή στην εκδήλωση: https://forms.gle/gnTNbcnnB66JteNSA \nΣε έμπρακτη επιβράβευση της επιτυχίας των μαθητών\, θεωρούμε καθήκον μας τη βράβευση του πρώτου αριστούχου μαθητή σε κάθε Λύκειο της πόλης μας\, σύμφωνα με τον  βαθμό εισαγωγής (μόρια)  που έχει πετύχει. Οι πρώτοι των πρώτων θα λάβουν από ένα tablet\, προσφορά του Δήμου Νέας Σμύρνης\, σε αναγνώριση των κόπων τους. Οι δικαιούχοι θα ενημερωθούν από τους Διευθυντές των Λυκείων τους\, ωστόσο\, πρέπει να δηλώσουν ότι θα παραβρεθούν στην εκδήλωση και την απονομή στην ηλεκτρονική διεύθυνση: neagenia.dns@gmail.com \nΝα επισημανθεί ακόμη ότι ο Δήμος Νέας Σμύρνης βρίσκεται δίπλα σε φοιτητές που εισήχθησαν σε ΑΕΙ εκτός Αθηνών\, δίνοντας σε αυτούς διατακτικές επιταγές για την αγορά ηλεκτρονικών ειδών. Η επιλογή θα γίνει με κοινωνικά κριτήρια\, σε συνεργασία με την Κοινωνική Υπηρεσία του Δήμου μας. Για τους όρους και τις προϋποθέσεις του προγράμματος αυτού και την υποβολή αίτησης\, θα πρέπει να συμπληρώσετε τη σχετική φόρμα στο link: \n https://forms.gle/ug59yHKTq8cJ23mHA \nμαζί με όλα τα απαραίτητα δικαιολογητικά (τα οποία αναφέρονται  μέσα στην φόρμα) έως και 26 Μαρτίου 2023
URL:https://neasmyrni.gr/event/%ce%b2%cf%81%ce%ac%ce%b2%ce%b5%cf%85%cf%83%ce%b7-%cf%84%cf%89%ce%bd-%ce%bc%ce%b1%ce%b8%ce%b7%cf%84%cf%8e%ce%bd-%cf%84%ce%b7%cf%82-%cf%80%cf%8c%ce%bb%ce%b7%cf%82-%ce%bc%ce%b1%cf%82-%cf%80%ce%bf%cf%85/
LOCATION:Ευγενίδειο Ίδρυμα\, Λεωφ. Συγγρού 387\, Αθήνα\, Νέα Σμύρνη\, Ελλάδα
ATTACH;FMTTYPE=image/jpeg:https://neasmyrni.gr/wp-content/uploads/2023/03/330949835_3438729786396104_9187359651117812154_n.jpg
END:VEVENT
BEGIN:VEVENT
DTSTART;TZID=Europe/Athens:20230422T120000
DTEND;TZID=Europe/Athens:20230422T210000
DTSTAMP:20260422T055038
CREATED:20230420T060957Z
LAST-MODIFIED:20230420T060957Z
UID:251863-1682164800-1682197200@neasmyrni.gr
SUMMARY:2η Ανθοκομική Έκθεση
DESCRIPTION:
URL:https://neasmyrni.gr/event/2%ce%b7-%ce%b1%ce%bd%ce%b8%ce%bf%ce%ba%ce%bf%ce%bc%ce%b9%ce%ba%ce%ae-%ce%ad%ce%ba%ce%b8%ce%b5%cf%83%ce%b7/
ATTACH;FMTTYPE=image/jpeg:https://neasmyrni.gr/wp-content/uploads/2023/04/2h_anthokomiki.jpg
END:VEVENT
BEGIN:VEVENT
DTSTART;TZID=Europe/Athens:20230423T090000
DTEND;TZID=Europe/Athens:20230423T143000
DTSTAMP:20260422T055038
CREATED:20230420T103222Z
LAST-MODIFIED:20230420T103222Z
UID:252023-1682240400-1682260200@neasmyrni.gr
SUMMARY:Αναστάσιμο Παραδοσιακό Συναπάντημα Αγάπης 2023
DESCRIPTION:Το ΝΠΔΔ «Κέντρο Κοινωνικής Προστασίας & Αλληλεγγύης» διοργανώνει  \nτην Κυριακή 23 Απριλίου 2023 και ώρα 09:00 έως 14:30  \nστον αύλειο χώρο του 7ου Δημοτικού Βρεφονηπιακού Σταθμού \n(στο Ιωσηφόγλειο επί της Λ. Συγγρού\, με είσοδο επί της οδού Τραλέων) \n\nμεγάλο εορταστικό συναπάντημα με παραδοσιακή μουσική\, ποτά & αναψυκτικά\, με ψήσιμο του παραδοσιακού οβελία και  τσούγκρισμα Πασχαλινών αυγών. \n  \nΟι ωφελούμενοι των ΚΑΠΗ μέσα από τις ομάδες μαγειρικής που διατηρούν\, θα ετοιμάσουν να προσφέρουν επιπλέον κεράσματα και παραδοσιακά εδέσματα\, όπως σαλάτες\, πίτες\, μαγειρευτά και αλοιφές\, πέραν εκείνων  (ποτά\, κρέας και αυγά) που προσφέρει το ΝΠΔΔ\, και σας καλούμε και εσείς να κάνετε το ίδιο αν το επιθυμείτε. \nΣτο χώρο μπορείτε να έρθετε με τη δημοτική συγκοινωνία του Δήμου με το εξής πρόγραμμα \n09:40 Αναχώρηση από Β ΚΑΠΗ  \n10:10 Αναχώρηση από Α ΚΑΠΗ \n10:40 Αναχώρηση από Ε ΚΑΠΗ
URL:https://neasmyrni.gr/event/%ce%b1%ce%bd%ce%b1%cf%83%cf%84%ce%ac%cf%83%ce%b9%ce%bc%ce%bf-%cf%80%ce%b1%cf%81%ce%b1%ce%b4%ce%bf%cf%83%ce%b9%ce%b1%ce%ba%cf%8c-%cf%83%cf%85%ce%bd%ce%b1%cf%80%ce%ac%ce%bd%cf%84%ce%b7%ce%bc%ce%b1/
ATTACH;FMTTYPE=image/jpeg:https://neasmyrni.gr/wp-content/uploads/2023/04/kaphob23.jpg
END:VEVENT
BEGIN:VEVENT
DTSTART;TZID=Europe/Athens:20230424T180000
DTEND;TZID=Europe/Athens:20230424T200000
DTSTAMP:20260422T055038
CREATED:20230421T083958Z
LAST-MODIFIED:20230421T171107Z
UID:252407-1682359200-1682366400@neasmyrni.gr
SUMMARY:4ο ΔΙΑΔΙΚΤΥΑΚΟ ΣΕΜΙΝΑΡΙΟ ΘΕΤΙΚΗΣ ΨΥΧΟΛΟΓΙΑΣ
DESCRIPTION:ΘΕΜΑ: ΔΙΑΔΙΚΤΥΑΚΕΣ ΔΙΑΛΕΞΕΙΣ \n2023\n«ΘΕΤΙΚΗ ΨΥΧΟΛΟΓΙΑ» \nΕΙΣΗΓΗΤΗΣ ΗΜΕΡΟΜΗΝΙΑ ΩΡΑ ΘΕΜΑΤΙΚΗ\nΗλίας Ραφαήλ\nΨυχολόγος –\nΨυχοθεραπευτής\,\nΕκπαιδευτής\nενηλίκων\, MSc\,\nPHD(c) \nΔΕΥΤΕΡΑ\n24/4/2023 \n18:00 -20:00 \n“Θετικό Σχετίζεσθαι – σχέσεις με θετικό πρόσημο” \nΟι διαδικτυακές αυτές διαλέξεις προϋποθέτουν ΕΓΓΡΑΦΗ των ενδιαφερομένων πολιτών στον κάτωθι σύνδεσμο: \nΣΥΝΔΕΣΜΟΣ ΕΓΓΡΑΦΗΣ:\nhttps://forms.gle/QeMtUuWcYeaPNTX17 \nΠριν από κάθε συνεδρίαση\, θα αποστέλλεται στο mail των εγγεγραμμένων ο ειδικός ηλεκτρονικός\nσύνδεσμος παρακολούθησης (link).\nΠληροφορίες: Γραφείο Παιδείας Δήμου Νέας Σμύρνης. Υπεύθυνος κ. ΠΡΩΙΑΣ Στέφανος\,\nτηλ: 2132025726-25. E-mail: d.v.mathisis@neasmyrni.gr
URL:https://neasmyrni.gr/event/4%ce%bf-%ce%b4%ce%b9%ce%b1%ce%b4%ce%b9%ce%ba%cf%84%cf%85%ce%b1%ce%ba%ce%bf-%cf%83%ce%b5%ce%bc%ce%b9%ce%bd%ce%b1%cf%81%ce%b9%ce%bf-%ce%b8%ce%b5%cf%84%ce%b9%ce%ba%ce%b7%cf%83-%cf%88%cf%85%cf%87%ce%bf/
END:VEVENT
BEGIN:VEVENT
DTSTART;TZID=Europe/Athens:20230430T180000
DTEND;TZID=Europe/Athens:20230430T193000
DTSTAMP:20260422T055038
CREATED:20230427T100745Z
LAST-MODIFIED:20230427T100745Z
UID:254606-1682877600-1682883000@neasmyrni.gr
SUMMARY:Αυτοσαμποτάζ\, αναβλητικότητα και ενηλικίωση
DESCRIPTION:«Μαθήματα καθημερινής φιλοσοφίας» \nΕΙΣΗΓΗΤΗΣ: ΓΑΒΑΛΑ ΝΑΝΤΙΑ \n\n\n\nΗΜΕΡΑ ΔΙΑΛΕΞΗΣ\nΩΡΑ ΔΙΑΛΕΞΗΣ\nΘΕΜΑΤΙΚΗ ΔΙΑΛΕΞΗΣ\n\n\n30.04.23\n18:00 – 19:30\n«Αυτοσαμποτάζ\, αναβλητικότητα και ενηλικίωση»\n\n\n\n\nΟι διαδικτυακές αυτές διαλέξεις προϋποθέτουν ΕΓΓΡΑΦΗ των ενδιαφερομένων πολιτών στον κάτωθι σύνδεσμο: \n\nΣΥΝΔΕΣΜΟΣ ΕΓΓΡΑΦΗΣ: https://forms.gle/zySBdVJNQaxUGZpP9 \n\nΠριν από κάθε συνεδρίαση\, θα αποστέλλεται στο mail των εγγεγραμμένων ο ειδικός ηλεκτρονικός σύνδεσμος παρακολούθησης (link). \n\nΠληροφορίες: Γραφείο Παιδείας Δήμου Νέας Σμύρνης. Υπεύθυνος κ. ΠΡΩΙΑΣ Στέφανος\, τηλ: 2132025726-5. E-mail: adpaideias@neasmyrni.gr
URL:https://neasmyrni.gr/event/%ce%b1%cf%85%cf%84%ce%bf%cf%83%ce%b1%ce%bc%cf%80%ce%bf%cf%84%ce%ac%ce%b6-%ce%b1%ce%bd%ce%b1%ce%b2%ce%bb%ce%b7%cf%84%ce%b9%ce%ba%cf%8c%cf%84%ce%b7%cf%84%ce%b1-%ce%ba%ce%b1%ce%b9-%ce%b5%ce%bd%ce%b7/
ATTACH;FMTTYPE=image/jpeg:https://neasmyrni.gr/wp-content/uploads/2019/01/NS_logo_FINAL_600x600_opt.jpg
END:VEVENT
END:VCALENDAR