BEGIN:VCALENDAR
VERSION:2.0
PRODID:-//Δήμος Ν.Σμύρνης - ECPv6.5.0//NONSGML v1.0//EN
CALSCALE:GREGORIAN
METHOD:PUBLISH
X-WR-CALNAME:Δήμος Ν.Σμύρνης
X-ORIGINAL-URL:https://neasmyrni.gr
X-WR-CALDESC:Δήμος Ν.Σμύρνης - Εκδηλώσεις
REFRESH-INTERVAL;VALUE=DURATION:PT1H
X-Robots-Tag:noindex
X-PUBLISHED-TTL:PT1H
BEGIN:VTIMEZONE
TZID:Europe/Athens
BEGIN:DAYLIGHT
TZOFFSETFROM:+0200
TZOFFSETTO:+0300
TZNAME:EEST
DTSTART:20230326T010000
END:DAYLIGHT
BEGIN:STANDARD
TZOFFSETFROM:+0300
TZOFFSETTO:+0200
TZNAME:EET
DTSTART:20231029T010000
END:STANDARD
END:VTIMEZONE
BEGIN:VEVENT
DTSTART;TZID=Europe/Athens:20230507T090000
DTEND;TZID=Europe/Athens:20230507T133000
DTSTAMP:20260422T085554
CREATED:20230428T083104Z
LAST-MODIFIED:20230428T083104Z
UID:255172-1683450000-1683466200@neasmyrni.gr
SUMMARY:3η Ημέρα Υιοθεσίας
DESCRIPTION:
URL:https://neasmyrni.gr/event/3%ce%b7-%ce%b7%ce%bc%ce%ad%cf%81%ce%b1-%cf%85%ce%b9%ce%bf%ce%b8%ce%b5%cf%83%ce%af%ce%b1%cf%82/
ATTACH;FMTTYPE=image/jpeg:https://neasmyrni.gr/wp-content/uploads/2023/04/yothesia3.jpg
END:VEVENT
BEGIN:VEVENT
DTSTART;TZID=Europe/Athens:20230507T170000
DTEND;TZID=Europe/Athens:20230507T203000
DTSTAMP:20260422T085554
CREATED:20230504T143624Z
LAST-MODIFIED:20230504T144145Z
UID:257369-1683478800-1683491400@neasmyrni.gr
SUMMARY:2ο Φεστιβάλ Βρεφονηπιακών Σταθμών
DESCRIPTION:Άλλη μια δράση στο Δήμο μας που τείνει να γίνει θεσμός είναι το Φεστιβάλ των Βρεφονηπιακών Σταθμών. Προσοχή! Οι μισοί σταθμοί θα παρουσιάσουν το πρόγραμμά τους στις 5.00 και οι άλλοι μισοί στις 6.30. Μικροί και μεγάλοι αυτής της πόλης είστε καλεσμένοι! \n  \nΠΛΗΡΟΦΟΡΙΕΣ ΕΚΔΗΛΩΣΗΣ \n  \n  \n  \n 
URL:https://neasmyrni.gr/event/2%ce%bf-%cf%86%ce%b5%cf%83%cf%84%ce%b9%ce%b2%ce%ac%ce%bb-%ce%b2%cf%81%ce%b5%cf%86%ce%bf%ce%bd%ce%b7%cf%80%ce%b9%ce%b1%ce%ba%cf%8e%ce%bd-%cf%83%cf%84%ce%b1%ce%b8%ce%bc%cf%8e%ce%bd/
ATTACH;FMTTYPE=image/jpeg:https://neasmyrni.gr/wp-content/uploads/2023/05/345134594_238733358743436_2009044781197261075_n.jpg
END:VEVENT
BEGIN:VEVENT
DTSTART;TZID=Europe/Athens:20230508T170000
DTEND;TZID=Europe/Athens:20230508T190000
DTSTAMP:20260422T085554
CREATED:20230426T051928Z
LAST-MODIFIED:20230426T051928Z
UID:253823-1683565200-1683572400@neasmyrni.gr
SUMMARY:Αντιμετωπίζοντας τις απώλειες στην Κοινότητα
DESCRIPTION:Η ΤΟΠΨΥ Νέας Σμύρνης είναι ένα ανοιχτό σύστημα δομών ψυχικής υγείας\, όπου συσκέπτονται και ανταλλάσσουν προβληματισμούς και εν τέλει αναστοχάζονται προκειμένου να οδηγηθούν στις βέλτιστες προτάσεις και καλές πρακτικές για την Κοινότητα.\nΛειτουργεί από το 2016 και απαρτίζεται από φορείς της περιοχής μας που άμεσα ή έμμεσα σχετίζονται με θέματα ψυχικής υγείας παρέχοντας υπηρεσίες στο επίπεδο της πρόληψης\, της θεραπείας και της αποκατάστασης\, ως ομάδα ενημέρωσης\, πρόληψης και έγκαιρης παρέμβασης σε επείγοντα και μη περιστατικά. Εστιάζει επίσης στην ευαισθητοποίηση των πολιτών\, με ημερίδες\, ομιλίες και προβολές ταινιών.\nΑλληλεπικαλύπτει ουσιαστικά τα «κενά» όλων των υπηρεσιών\, που λειτουργώντας ατομικά είναι μεγάλα\, ενώ σε ένα τέτοιο πλαίσιο συνεργασίας σχεδόν εξαλείφονται.\nΣτόχος είναι η συνέχεια των υπηρεσιών που λαμβάνουν οι πολίτες και η όσο τη δυνατόν πληρέστερη κάλυψη των ψυχοκοινωνικών τους αναγκών.\nΤο Κέντρο Έρευνας Κοινωνικών και Ανθρωπιστικών Κρίσεων (Κ.Ε.Κ.Α.Κ.) είναι το πρώτο ακαδημαϊκό κέντρο στην Ελλάδα που εστιάζει στη διεπιστημονική έρευνα\, τον\nπολιτικό αντίκτυπο και την ανάπτυξη μεθόδων διδασκαλίας σχετικά με τις Κοινωνικές και Ανθρωπιστικές Κρίσεις.\nΈδρα του Κέντρου είναι το Τμήμα Κοινωνικής Εργασίας του Πανεπιστημίου Δυτικής Αττικής\, που βρίσκεται στην Πανεπιστημιούπολη Αρχαίου Ελαιώνα. Η τοποθεσία του Κέντρου και η συνεργασία του με τοπικούς φορείς\, προσφέρουν ένα ιδιαίτερο και δυναμικό επιστημονικό περιβάλλον που συμβάλει στην παρατήρηση\, κατανόηση και αντιμετώπιση ιστορικών και εν εξελίξει κοινωνικών κρίσεων.\nΤα μέλη του Κέντρου αντιλαμβάνονται τις «κρίσεις» με την ευρεία έννοια\, ως πολύπλοκα κοινωνικοπολιτικά\, περιβαλλοντικά και πολιτιστικά φαινόμενα που προκαλούν σε άτομα\, κοινότητες και χώρες ακραία αβεβαιότητα\, ανασφάλεια και απώλεια αλλά συνάμα μπορούν να ενισχύσουν και την ανθεκτικότητα\, την αλληλεγγύη και τις μεταβάσεις προς την κοινωνική αλλαγή.\nΑκριβώς για αυτόν τον λόγο οι κρίσεις\, όσο βαθιές κι αν είναι\, παρέχουν ένα πλαίσιο για την καλύτερη κατανόηση των κοινωνικών συστημάτων και τελικά αναδιαμορφώνουν τον κόσμο. Η παγκόσμια και η κοινωνική δικαιοσύνη είναι το κλειδί σε αυτή τη διαδικασία.\nΣτο πλαίσιο συνεργασίας των δύο φορέων και με αφορμή τη συμπλήρωση ενός έτους λειτουργίας του Κέντρου Έρευνας Κοινωνικών και Ανθρωπιστικών Κρίσεων του Πανεπιστημίου Δυτικής Αττικής\, σας προσκαλούμε σε εκδήλωση – προβολή της ταινίας «Αναχωρήσεις».\nΣτο περιθώριο της προβολής θα πραγματοποιηθεί συζήτηση με θέμα «Αντιμετωπίζοντας τις απώλειες στην Κοινότητα».\nΗ εκδήλωση θα πραγματοποιηθεί τη Δευτέρα 8 Μαΐου στις 5μμ στον Δημοτικό Κινηματογράφο Νέας Σμύρνης «Σπόρτινγκ». \nΗ Είσοδος είναι ελεύθερη για τους πολίτες.
URL:https://neasmyrni.gr/event/%ce%b1%ce%bd%cf%84%ce%b9%ce%bc%ce%b5%cf%84%cf%89%cf%80%ce%af%ce%b6%ce%bf%ce%bd%cf%84%ce%b1%cf%82-%cf%84%ce%b9%cf%82-%ce%b1%cf%80%cf%8e%ce%bb%ce%b5%ce%b9%ce%b5%cf%82-%cf%83%cf%84%ce%b7%ce%bd-%ce%ba/
ATTACH;FMTTYPE=image/jpeg:https://neasmyrni.gr/wp-content/uploads/2023/04/Αφίσα-ΤΟΠΨΥ-8-5-23.jpg
END:VEVENT
BEGIN:VEVENT
DTSTART;TZID=Europe/Athens:20230508T180000
DTEND;TZID=Europe/Athens:20230508T200000
DTSTAMP:20260422T085554
CREATED:20230506T084414Z
LAST-MODIFIED:20230506T084500Z
UID:258368-1683568800-1683576000@neasmyrni.gr
SUMMARY:5η ΔΙΑΔΙΚΤΥΑΚΗ ΣΥΝΑΝΤΗΣΗ ΘΕΤΙΚΗΣ ΨΥΧΟΛΟΓΙΑΣ
DESCRIPTION:ΘΕΜΑ: ΔΙΑΔΙΚΤΥΑΚΕΣ ΔΙΑΛΕΞΕΙΣ \n2023 \n«ΘΕΤΙΚΗ ΨΥΧΟΛΟΓΙΑ» \n5η και ΤΕΛΕΥΤΑΙΑ ΣΥΝΑΝΤΗΣΗ \n\n\n\n\nΔήμητρα Λέκκα \nΨυχολόγος – Ψυχοθεραπεύτρια\, MSc\, PHD\n\n  \nΔΕΥΤΕΡΑ \n  \n8/5/2023 \n \n\n  \n18:00 -20:00\nΤα δυνατά στοιχεία του χαρακτήρα\n\n\n\nΠληροφορίες: Γραφείο Παιδείας – Τμήμα Δια Βίου Μάθησης Δήμου Νέας Σμύρνης. Υπεύθυνος κ. ΠΡΩΙΑΣ Στέφανος\, \nτηλ: 2132025726-25. E-mail: d.v.mathisis@neasmyrni.gr
URL:https://neasmyrni.gr/event/5%ce%b7-%ce%b4%ce%b9%ce%b1%ce%b4%ce%b9%ce%ba%cf%84%cf%85%ce%b1%ce%ba%ce%b7-%cf%83%cf%85%ce%bd%ce%b1%ce%bd%cf%84%ce%b7%cf%83%ce%b7-%ce%b8%ce%b5%cf%84%ce%b9%ce%ba%ce%b7%cf%83-%cf%88%cf%85%cf%87%ce%bf/
END:VEVENT
BEGIN:VEVENT
DTSTART;TZID=Europe/Athens:20230510T180000
DTEND;TZID=Europe/Athens:20230510T200000
DTSTAMP:20260422T085554
CREATED:20230504T083929Z
LAST-MODIFIED:20230504T083929Z
UID:257118-1683741600-1683748800@neasmyrni.gr
SUMMARY:Διαχείριση του άγχους των μαθητικών εξετάσεων
DESCRIPTION:7η Συνάντηση \nΤετάρτη  10 Μαϊου 2023 \n«ΓΑΛΑΞΙΑΣ»\, Κεντρική Πλατεία Νέας Σμύρνης\, ώρα 18:15 \n\n«Διαχείριση του άγχους των μαθητικών εξετάσεων» \n  \nΕυθαλία Τζίλα \nΠαιδοψυχίατρος\, MSc \nΠΜΣ «Στρ. Αναπτυξιακής και Εφηβικής Υγείας» \nΙατρική Σχολή \nΕθνικό και Καποδιστριακό Πανεπιστήμιο Αθηνών \n  \nΣυντονισμός : \nΆρτεμις Κ. Τσίτσικα \nΑναπλ. Καθηγήτρια Παιδιατρικής-Εφηβικής Ιατρικής ΕΚΠΑ \nΕπιστ. Υπεύθυνος Προγραμμάτων ΕΚΠΑ-Π.Ο.Υ. “φιλικών” για εφήβους \nκαι κατάρτισης του Υπουργείου Υγείας \nΔιευθύντρια  ΠΜΣ “Στρ. Αναπτυξιακής και Εφηβικής Υγείας” \nΙατρικής Σχολής ΕΚΠΑ \nΠρόεδρος Ελληνικής Εταιρείας Εφηβικής Ιατρικής (Ε.Ε.Ε.Ι.) \n  \nΟι ενδιαφερόμενοι ΘΑ ΕΓΓΡΑΦΟΥΝ ΔΙΑΔΙΚΤΥΑΚΑ στον παρακάτω σύνδεσμο: \n\nΣΥΝΔΕΣΜΟΣ ΕΓΓΡΑΦΩΝ : https://forms.gle/npzdUEFNsYwTZqz36 \n  \nΗ συμμετοχή είναι δωρεάν και θα δοθούν βεβαιώσεις παρακολούθησης σε όσους συμμετέχοντες επιθυμούν. \nΠληροφορίες: Γραφείο Παιδείας του Δήμου Νέας Σμύρνης κ. Πρώια (τηλ: 213 2025726-5) και στην ιστοσελίδα του Δήμου Ν. Σμύρνης www.neasmyrni.gr (Εκπαίδευση – Δια Βίου Μάθηση – Ακαδημία Γονέων).                                      \nEmail ΑΚΑΔΗΜΙΑΣ ΓΟΝΕΩΝ Δήμου Νέας Σμύρνης: ns.akadimiagoneon@gmail.com
URL:https://neasmyrni.gr/event/%ce%b4%ce%b9%ce%b1%cf%87%ce%b5%ce%af%cf%81%ce%b9%cf%83%ce%b7-%cf%84%ce%bf%cf%85-%ce%ac%ce%b3%cf%87%ce%bf%cf%85%cf%82-%cf%84%cf%89%ce%bd-%ce%bc%ce%b1%ce%b8%ce%b7%cf%84%ce%b9%ce%ba%cf%8e%ce%bd-%ce%b5/
LOCATION:Γαλαξίας – Δημοτικός Πολυχώρος Πολιτισμού Νέας Σμύρνης\, 2ας Μαΐου 16\, Νέα Σμύρνη\, 171 21\, Greece
ATTACH;FMTTYPE=image/jpeg:https://neasmyrni.gr/wp-content/uploads/2021/02/AKADHMIA-GONEWN_LOGO-FINAL-2.jpg
END:VEVENT
BEGIN:VEVENT
DTSTART;TZID=Europe/Athens:20230512T180000
DTEND;TZID=Europe/Athens:20230513T140000
DTSTAMP:20260422T085554
CREATED:20230510T095428Z
LAST-MODIFIED:20230510T095428Z
UID:259848-1683914400-1683986400@neasmyrni.gr
SUMMARY:Πολλαπλή Νοημοσύνη\, Μαθησιακή Λειτουργία - Ολιστική Προσέγγιση
DESCRIPTION:Το Τμήμα Παιδείας του Δήμου Νέας Σμύρνης\, στο πλαίσιο του προγράμματος «Δράσεων Παιδείας» και της υλοποίησης προγραμμάτων Δια Βίου Μάθησης\, με στόχο την επιστημονική και παιδαγωγική υποστήριξη όλων των εκπαιδευτικών\, διοργανώνει διήμερο επιμορφωτικό σεμινάριο\, με θέμα:\n«Πολλαπλή Νοημοσύνη\, Μαθησιακή Λειτουργία – Ολιστική Προσέγγιση»\nΤο διήμερο επιμορφωτικό σεμινάριο θα πραγματοποιηθεί την Παρασκευή 12 (ώρες 18:00-21:00) και το Σάββατο 13 Μαΐου 2023 (ώρες 10:00-13:00)\, με εισηγητές τους:\n• Δρ. Γεώργιο Φλουρή\, Ομότιμο Καθηγητή του Εθνικού και Καποδιστριακού Πανεπιστημίου Αθηνών και\n• τον Δρ. Γεώργιο Τσιναρέλη\, επισκέπτη Καθηγητή\,\nσύμφωνα με το συνημμένο πρόγραμμα.\nΤο διήμερο επιμορφωτικό σεμινάριο θα πραγματοποιηθεί δια ζώσης στην ΑΙΘΟΥΣΑ ΔΗΜΟΤΙΚΟΥ ΣΥΜΒΟΥΛΙΟΥ του ΔΗΜΟΥ ΝΕΑΣ ΣΜΥΡΝΗΣ (2ας Μαΐου 8\, Κεντρική Πλατεία\, 3ος όροφος)\nΗΛΕΚΤΡΟΝΙΚΗ ΦΟΡΜΑ ΕΓΓΡΑΦΗΣ:\nhttps://forms.gle/wxD9ZhLFURQSRHYA7\n\n\nΣτους εκπαιδευτικούς που θα συμμετάσχουν θα χορηγηθεί βεβαίωση παρακολούθησης.\nΠαρακαλούνται οι Διευθυντές/ριες και οι Προϊστάμενοι/ες των σχολικών μονάδων να ενημερώσουν όλους τους εκπαιδευτικούς των σχολείων τους.
URL:https://neasmyrni.gr/event/%cf%80%ce%bf%ce%bb%ce%bb%ce%b1%cf%80%ce%bb%ce%ae-%ce%bd%ce%bf%ce%b7%ce%bc%ce%bf%cf%83%cf%8d%ce%bd%ce%b7-%ce%bc%ce%b1%ce%b8%ce%b7%cf%83%ce%b9%ce%b1%ce%ba%ce%ae-%ce%bb%ce%b5%ce%b9%cf%84%ce%bf%cf%85/
END:VEVENT
BEGIN:VEVENT
DTSTART;TZID=Europe/Athens:20230514T180000
DTEND;TZID=Europe/Athens:20230514T193000
DTSTAMP:20260422T085554
CREATED:20230512T101040Z
LAST-MODIFIED:20230512T101614Z
UID:260912-1684087200-1684092600@neasmyrni.gr
SUMMARY:Μαθήματα καθημερινής φιλοσοφίας
DESCRIPTION:ΔΙΑΔΙΚΤΥΑΚΕΣ ΔΙΑΛΕΞΕΙΣ \n 2022 – 2023 \n«Μαθήματα καθημερινής φιλοσοφίας» \nΕΙΣΗΓΗΤΗΣ: ΓΑΒΑΛΑ ΝΑΝΤΙΑ \n\n\n\nΗΜΕΡΑ ΔΙΑΛΕΞΗΣ\nΩΡΑ ΔΙΑΛΕΞΗΣ\nΘΕΜΑΤΙΚΗ ΔΙΑΛΕΞΗΣ\n\n\n14.05.23\n18:00 – 19:30\n«Αυτοσαμποτάζ\, αναβλητικότητα και ενηλικίωση»\n\n\n\nΤΕΛΕΥΤΑΙΑ ΔΙΑΔΙΚΤΥΑΚΗ ΔΙΑΛΕΞΗ για την Εκπαιδευτική Περίοδο 2022 – 2023 \nΠληροφορίες: Γραφείο Παιδείας Δήμου Νέας Σμύρνης. Υπεύθυνος κ. ΠΡΩΙΑΣ Στέφανος\, τηλ: 2132025726-5. E-mail: adpaideias@neasmyrni.gr
URL:https://neasmyrni.gr/event/%ce%bc%ce%b1%ce%b8%ce%ae%ce%bc%ce%b1%cf%84%ce%b1-%ce%ba%ce%b1%ce%b8%ce%b7%ce%bc%ce%b5%cf%81%ce%b9%ce%bd%ce%ae%cf%82-%cf%86%ce%b9%ce%bb%ce%bf%cf%83%ce%bf%cf%86%ce%af%ce%b1%cf%82-2/
END:VEVENT
BEGIN:VEVENT
DTSTART;TZID=Europe/Athens:20230519T090000
DTEND;TZID=Europe/Athens:20230519T130000
DTSTAMP:20260422T085554
CREATED:20230509T102442Z
LAST-MODIFIED:20230509T102442Z
UID:259438-1684486800-1684501200@neasmyrni.gr
SUMMARY:51η Τακτική Εθελοντική Αιμοδοσία
DESCRIPTION:
URL:https://neasmyrni.gr/event/51%ce%b7-%cf%84%ce%b1%ce%ba%cf%84%ce%b9%ce%ba%ce%ae-%ce%b5%ce%b8%ce%b5%ce%bb%ce%bf%ce%bd%cf%84%ce%b9%ce%ba%ce%ae-%ce%b1%ce%b9%ce%bc%ce%bf%ce%b4%ce%bf%cf%83%ce%af%ce%b1/
ATTACH;FMTTYPE=image/jpeg:https://neasmyrni.gr/wp-content/uploads/2023/05/51h-aimodosia.jpg
END:VEVENT
BEGIN:VEVENT
DTSTART;TZID=Europe/Athens:20230522T200000
DTEND;TZID=Europe/Athens:20230522T220000
DTSTAMP:20260422T085554
CREATED:20230516T063522Z
LAST-MODIFIED:20230516T063522Z
UID:262025-1684785600-1684792800@neasmyrni.gr
SUMMARY:Συναυλία - Αφιέρωμα στον Μίκη Θεοδωράκη
DESCRIPTION:Οι δύο μικτές χορωδίες του Δήμου μας\, Smyrna και Ιωνικές Φωνές\, ενώνουν τις δυνάμεις τους\, υπό τη διεύθυνση του μαέστρου Γιώργου Ζιάκα\, σε μια μεγάλη συναυλία – αφιέρωμα στον Μίκη Θεοδωράκη\, που θα πραγματοποιηθεί στις 22 Μαΐου στο Αμφιθέατρο της Λεοντείου Σχολής Νέας Σμύρνης.\n\n\n\nΜελοποιημένα ποιήματα του Οδυσσέα Ελύτη\, του Γιάννη Ρίτσου\, του Γιώργου Σεφέρη\, του Κώστα Βάρναλη καθώς και στίχοι του Ιάκωβου Καμπανέλλη θα αποτελέσουν το βασικό συστατικό στοιχείο της συναυλίας – αφιέρωμα στον δημιουργό\, που έζησε πολλά χρόνια στη Νέα Σμύρνη\, ενώ θα γίνει ιδιαίτερη αναφορά στην αγωνιστική αίσθηση της ζωής του και την ανάγκη του για διαρκή επικοινωνία με το λαό\, μακριά από σιωπές και εσωστρέφειες.\n\n\n\nΗ συναυλία θα ξεκινήσει στις 8.00 το βράδυ και η είσοδος θα είναι ελεύθερη για το κοινό.
URL:https://neasmyrni.gr/event/%cf%83%cf%85%ce%bd%ce%b1%cf%85%ce%bb%ce%af%ce%b1-%ce%b1%cf%86%ce%b9%ce%ad%cf%81%cf%89%ce%bc%ce%b1-%cf%83%cf%84%ce%bf%ce%bd-%ce%bc%ce%af%ce%ba%ce%b7-%ce%b8%ce%b5%ce%bf%ce%b4%cf%89%cf%81%ce%ac%ce%ba/
LOCATION:ΛΕΟΝΤΕΙΟΣ ΣΧΟΛΗ\, Θεμιστοκλή Σοφούλη 2\, Αθήνα\, Νέα Σμύρνη\, 17122\, Ελλάδα
ATTACH;FMTTYPE=image/jpeg:https://neasmyrni.gr/wp-content/uploads/2023/05/synaulia-22052023.jpg
END:VEVENT
BEGIN:VEVENT
DTSTART;TZID=Europe/Athens:20230523T180000
DTEND;TZID=Europe/Athens:20230523T200000
DTSTAMP:20260422T085554
CREATED:20230523T095517Z
LAST-MODIFIED:20230523T095517Z
UID:263794-1684864800-1684872000@neasmyrni.gr
SUMMARY:Διαχείριση Άγχους Εξετάσεων: Προτάσεις για Γονείς
DESCRIPTION:  \nΓια αρκετά παιδιά οι εξετάσεις (ενδοσχολικές ή Πανελλαδικές) ενισχύουν το άγχος τους για καλή απόδοση\, σε σημείο που μπορεί να ξεπεράσει το δημιουργικό και παραγωγικό άγχος. Στο #webinar αυτό θα εντοπίσουμε τα βασικά σημάδια του δυσλειτουργικού άγχους και θα μιλήσουμε για το πώς οι γονείς μπορούν να υποστηρίξουν τα παιδιά τους κατά τη διάρκεια των εξετάσεων\, ενισχύοντας τη θετική τους στάση απέναντι στους εφήβους. \nΕισηγήτρια: Μάντυ Αννίνου – Ντόχερτυ\nΨυχολόγος με εξειδίκευση στη Σχολική Ψυχολογία και στην Κλινική και\nΚοινοτική Ψυχολογία (Μ.Sc)\nΨυχολόγος στην Περιφέρεια Αττικής & Υπεύθυνη Συντονισμού Τηλεφωνικής Γραμμής Ψυχολογικής Υποστήριξης 1110 – Περιφέρειας Αττικής και Ιατρικού Συλλόγου Αθηνών. \nΗ πρόσκληση παρακολούθησης είναι ανοικτή\, για τους ενήλικες δημότες ανεξαιρέτως και κυρίως δωρεάν\, ωστόσο απαιτείται προεγγραφή στη σελίδα https://tinyurl.com/digitalattiki. Με την ολοκλήρωση του webinar όσες και όσοι το επιθυμούν\, θα λάβουν σχετική βεβαίωση παρακολούθησης.
URL:https://neasmyrni.gr/event/%ce%b4%ce%b9%ce%b1%cf%87%ce%b5%ce%af%cf%81%ce%b9%cf%83%ce%b7-%ce%ac%ce%b3%cf%87%ce%bf%cf%85%cf%82-%ce%b5%ce%be%ce%b5%cf%84%ce%ac%cf%83%ce%b5%cf%89%ce%bd-%cf%80%cf%81%ce%bf%cf%84%ce%ac%cf%83%ce%b5/
ATTACH;FMTTYPE=image/png:https://neasmyrni.gr/wp-content/uploads/2023/05/diaxagx-230523.png
END:VEVENT
BEGIN:VEVENT
DTSTART;TZID=Europe/Athens:20230527T190000
DTEND;TZID=Europe/Athens:20230527T210000
DTSTAMP:20260422T085554
CREATED:20230526T061858Z
LAST-MODIFIED:20230526T061858Z
UID:264634-1685214000-1685221200@neasmyrni.gr
SUMMARY:ΕΚΔΗΛΩΣΗ ΓΕΝΟΚΤΟΝΙΑΣ ΠΟΝΤΙΩΝ 2023
DESCRIPTION:ΣΑΒΒΑΤΟ 27 ΜΑΙΟΥ ΩΡΑ 7 μ.μ. Πλατεία Γενοκτονίας Ποντιακού Ελληνισμού “Τιμούμε τη μνήμη των νεκρών μας\, διεκδικούμε τη δικαίωση”. \nΕπιμνημόσυνη δέηση\, ομιλία από τον ιστορικό\, κοινωνιολόγο\, εκπαιδευτικό και συγγραφέα δρ. Αντώνη Παυλίδη και καλλιτεχνικό αφιέρωμα.
URL:https://neasmyrni.gr/event/%ce%b5%ce%ba%ce%b4%ce%b7%ce%bb%cf%89%cf%83%ce%b7-%ce%b3%ce%b5%ce%bd%ce%bf%ce%ba%cf%84%ce%bf%ce%bd%ce%b9%ce%b1%cf%83-%cf%80%ce%bf%ce%bd%cf%84%ce%b9%cf%89%ce%bd-2023/
ATTACH;FMTTYPE=image/jpeg:https://neasmyrni.gr/wp-content/uploads/2023/05/agalmarm2705.jpg
END:VEVENT
BEGIN:VEVENT
DTSTART;TZID=Europe/Athens:20230528T100000
DTEND;TZID=Europe/Athens:20230528T180000
DTSTAMP:20260422T085554
CREATED:20230526T061511Z
LAST-MODIFIED:20230526T061511Z
UID:264628-1685268000-1685296800@neasmyrni.gr
SUMMARY:Ημέρα Υιοθεσίας Γάτας
DESCRIPTION:
URL:https://neasmyrni.gr/event/hmera-yiothesias-gatas/
ATTACH;FMTTYPE=image/jpeg:https://neasmyrni.gr/wp-content/uploads/2023/05/hmyoth280523.jpg
END:VEVENT
BEGIN:VEVENT
DTSTART;TZID=Europe/Athens:20230528T193000
DTEND;TZID=Europe/Athens:20230528T203000
DTSTAMP:20260422T085554
CREATED:20230526T073254Z
LAST-MODIFIED:20230526T073254Z
UID:264674-1685302200-1685305800@neasmyrni.gr
SUMMARY:Αποκαλυπτήρια Μνημείου Ελληνοαρμενικής φιλίας
DESCRIPTION:Κυριακή 28 Μαϊου ώρα 19.30 στην Κεντρική Πλατεία Ν.Σμύρνης (25ης Μαρτίου & πλατεία Καρύλλου).\n\n\nΣας περιμένουμε όλους!
URL:https://neasmyrni.gr/event/%ce%b1%cf%80%ce%bf%ce%ba%ce%b1%ce%bb%cf%85%cf%80%cf%84%ce%ae%cf%81%ce%b9%ce%b1-%ce%bc%ce%bd%ce%b7%ce%bc%ce%b5%ce%af%ce%bf%cf%85-%ce%b5%ce%bb%ce%bb%ce%b7%ce%bd%ce%bf%ce%b1%cf%81%ce%bc%ce%b5%ce%bd%ce%b9/
ATTACH;FMTTYPE=image/jpeg:https://neasmyrni.gr/wp-content/uploads/2023/05/apokalmnhm.jpg
END:VEVENT
BEGIN:VEVENT
DTSTART;TZID=Europe/Athens:20230531T180000
DTEND;TZID=Europe/Athens:20230531T200000
DTSTAMP:20260422T085554
CREATED:20230529T092036Z
LAST-MODIFIED:20230529T101940Z
UID:265310-1685556000-1685563200@neasmyrni.gr
SUMMARY:Περί τεχνητής νοημοσύνης το ανάγνωσμα!
DESCRIPTION:Πώς συνδυάζονται το διαδίκτυο\, η τεχνητή νοημοσύνη\, η μηχανική μάθηση\, τα μέσα κοινωνικής δικτύωσης με τους αλγορίθμους τους\, η αυτοματοποίηση και οι έξυπνες συσκευές στις μέρες μας; Συνιστούν ανήσυχες προκλήσεις ή πεδίο αισιοδοξίας για το μέλλον των παιδιών μας; Μήπως χρειαζόμαστε κανόνες περισσότερο από κάθε άλλη φορά για τη σωστή εφαρμογή των παραπάνω; \nΗ Περιφέρεια Αττικής διοργανώνει άλλο ένα εξ΄ αποστάσεως σεμινάριο\, την Τετάρτη 31 Μαΐου 2023 και ώρα 18:00 με εισηγητή τον κ. Γιώργο Κορμά\, Iατρό και Υπεύθυνο της Γραµµής Βοήθειας www.Help-Line.gr με πολυετή εμπειρία στο θέμα της ψηφιακής ασφάλειας. \nΜπορείτε να παρακολουθήσετε ζωντανά το webinar στο κανάλι https://youtube.com/@AtticaDigital  ή \nεναλλακτικά\, μπορείτε επίσης να παρακολουθήσετε από τη σελίδα στο https://www.facebook.com/digital.attiki  \nΣε κάθε περίπτωση ορίστε υπενθύμιση! \nΗ πρόσκληση παρακολούθησης είναι ανοικτή και κυρίως δωρεάν για όλους τους ενήλικες πολίτες ανεξαιρέτως\, ωστόσο απαιτείται προεγγραφή στη σελίδα https://tinyurl.com/digitalattiki  \nΜε την ολοκλήρωση του webinar όσες και όσοι το επιθυμούν\, θα λάβουν σχετική βεβαίωση παρακολούθησης.
URL:https://neasmyrni.gr/event/%cf%80%ce%b5%cf%81%ce%af-%cf%84%ce%b5%cf%87%ce%bd%ce%b7%cf%84%ce%ae%cf%82-%ce%bd%ce%bf%ce%b7%ce%bc%ce%bf%cf%83%cf%8d%ce%bd%ce%b7%cf%82-%cf%84%ce%bf-%ce%b1%ce%bd%ce%ac%ce%b3%ce%bd%cf%89%cf%83%ce%bc/
END:VEVENT
END:VCALENDAR