BEGIN:VCALENDAR
VERSION:2.0
PRODID:-//Δήμος Ν.Σμύρνης - ECPv6.5.0//NONSGML v1.0//EN
CALSCALE:GREGORIAN
METHOD:PUBLISH
X-ORIGINAL-URL:https://neasmyrni.gr
X-WR-CALDESC:Δήμος Ν.Σμύρνης - Εκδηλώσεις
REFRESH-INTERVAL;VALUE=DURATION:PT1H
X-Robots-Tag:noindex
X-PUBLISHED-TTL:PT1H
BEGIN:VTIMEZONE
TZID:Europe/Athens
BEGIN:DAYLIGHT
TZOFFSETFROM:+0200
TZOFFSETTO:+0300
TZNAME:EEST
DTSTART:20230326T010000
END:DAYLIGHT
BEGIN:STANDARD
TZOFFSETFROM:+0300
TZOFFSETTO:+0200
TZNAME:EET
DTSTART:20231029T010000
END:STANDARD
END:VTIMEZONE
BEGIN:VEVENT
DTSTART;TZID=Europe/Athens:20230703T200000
DTEND;TZID=Europe/Athens:20230703T220000
DTSTAMP:20260423T012517
CREATED:20230629T093320Z
LAST-MODIFIED:20230629T093320Z
UID:275223-1688414400-1688421600@neasmyrni.gr
SUMMARY:ΣΥΜΠΛΗΡΩΣΕ ΕΞΥΠΝΑ ΤΟ ΜΗΧΑΝΟΓΡΑΦΙΚΟ ΣΟΥ
DESCRIPTION:Το Τμήμα Παιδείας του Δήμου Ν Σμύρνης σε συνεργασία με τον κύριο Νίκο ΔΕΜΕΡΤΖΗ\, συγγραφέα και Διευθυντή του 5 ου ΓΕΛ. Νέας Σμύρνης\, πραγματοποιεί\nΣυνάντηση Ενημέρωσης των ενδιαφερομένων μαθητών και γονέων με στόχο την σωστή συμπλήρωση του ΜΗΧΑΝΟΓΡΑΦΙΚΟΥ ΔΕΛΤΙΟΥ των υποψηφίων Πανελλαδικών\nΕξετάσεων 2023 την: \n\nΔΕΥΤΕΡΑ 03 ΙΟΥΛΙΟΥ 2023\, ώρα 20:00 \n«ΣΥΜΠΛΗΡΩΣΕ ΕΞΥΠΝΑ ΤΟ ΜΗΧΑΝΟΓΡΑΦΙΚΟ ΣΟΥ» \n\nΣτον πολυχώρο «ΓΑΛΑΞΙΑ»\nΚΕΝΤΡΙΚΗ ΠΛΑΤΕΙΑ ΝΕΑΣ ΣΜΥΡΝΗΣ
URL:https://neasmyrni.gr/event/%cf%83%cf%85%ce%bc%cf%80%ce%bb%ce%b7%cf%81%cf%89%cf%83%ce%b5-%ce%b5%ce%be%cf%85%cf%80%ce%bd%ce%b1-%cf%84%ce%bf-%ce%bc%ce%b7%cf%87%ce%b1%ce%bd%ce%bf%ce%b3%cf%81%ce%b1%cf%86%ce%b9%ce%ba%ce%bf-%cf%83/
LOCATION:Γαλαξίας – Δημοτικός Πολυχώρος Πολιτισμού Νέας Σμύρνης\, 2ας Μαΐου 16\, Νέα Σμύρνη\, 171 21\, Greece
ATTACH;FMTTYPE=image/jpeg:https://neasmyrni.gr/wp-content/uploads/2023/06/ΑΦΙΣΑ-ΣΥΜΠΛΗΡΩΣΗΣ-ΜΗΧΑΝΟΓΡΑΦΙΚΟΥ-2023.jpg
END:VEVENT
END:VCALENDAR