BEGIN:VCALENDAR
VERSION:2.0
PRODID:-//Δήμος Ν.Σμύρνης - ECPv6.5.0//NONSGML v1.0//EN
CALSCALE:GREGORIAN
METHOD:PUBLISH
X-WR-CALNAME:Δήμος Ν.Σμύρνης
X-ORIGINAL-URL:https://neasmyrni.gr
X-WR-CALDESC:Δήμος Ν.Σμύρνης - Εκδηλώσεις
REFRESH-INTERVAL;VALUE=DURATION:PT1H
X-Robots-Tag:noindex
X-PUBLISHED-TTL:PT1H
BEGIN:VTIMEZONE
TZID:Europe/Athens
BEGIN:DAYLIGHT
TZOFFSETFROM:+0200
TZOFFSETTO:+0300
TZNAME:EEST
DTSTART:20240331T010000
END:DAYLIGHT
BEGIN:STANDARD
TZOFFSETFROM:+0300
TZOFFSETTO:+0200
TZNAME:EET
DTSTART:20241027T010000
END:STANDARD
END:VTIMEZONE
BEGIN:VEVENT
DTSTART;TZID=Europe/Athens:20240511T210000
DTEND;TZID=Europe/Athens:20240511T220000
DTSTAMP:20260421T194027
CREATED:20240509T105805Z
LAST-MODIFIED:20240509T105805Z
UID:347490-1715461200-1715464800@neasmyrni.gr
SUMMARY:ΟΙ LOCOMONDO ΑΝΟΙΓΟΥΝ ΤΙΣ ΠΡΩΤΟΜΑΓΙΑΤΙΚΕΣ ΕΚΔΗΛΩΣΕΙΣ ΣΤΗ ΝΕΑ ΣΜΥΡΝΗ
DESCRIPTION:Με μια μεγάλη συναυλία των Locomondo στην Κεντρική Πλατεία\, το Σάββατο 11 Μαΐου\, ανοίγουν οι Πρωτομαγιάτικες εκδηλώσεις του Δήμου Νέας Σμύρνης. Η πόλη γιορτάζει τον πιο όμορφο μήνα του χρόνου καλώντας όλους τους δημότες και τους επισκέπτες\, μικρούς και μεγάλους σ’ ένα ξέφρενο πάρτυ.\nΟι Locomondo\, γιορτάζουν τα 21 χρόνια παρουσίας τους στην μουσική σκηνή και θα το… τερματίσουν μ’ ένα απολαυστικό live γεμάτο reggae\, ska και latin ρυθμούς.\nΤην επόμενη ημέρα\, Κυριακή 12 Μαΐου θα ακολουθήσει το Ανοιξιάτικο Φεστιβάλ της Πλατείας με το Μουσικό Σχολείο Αλίμου με ροκ μουσική\, βυζαντινά\, παραδοσιακά και λαϊκά τραγούδια αλλά και έθνικ μουσική.\nΤο Σάββατο 18 και την Κυριακή 19 Μαΐου το Αλσος θα πλημμυρίσει από παραδοσιακή μουσική και χορούς από τους Πολιτιστικούς Συλλόγους της πόλης.\nΌλες οι εκδηλώσεις έχουν ελεύθερη είσοδο.\nΣας περιμένουμε όλους!
URL:https://neasmyrni.gr/event/%ce%bf%ce%b9-locomondo-%ce%b1%ce%bd%ce%bf%ce%b9%ce%b3%ce%bf%cf%85%ce%bd-%cf%84%ce%b9%cf%83-%cf%80%cf%81%cf%89%cf%84%ce%bf%ce%bc%ce%b1%ce%b3%ce%b9%ce%b1%cf%84%ce%b9%ce%ba%ce%b5%cf%83-%ce%b5%ce%ba%ce%b4/
ATTACH;FMTTYPE=image/jpeg:https://neasmyrni.gr/wp-content/uploads/2024/05/locomondo.jpg
END:VEVENT
BEGIN:VEVENT
DTSTART;TZID=Europe/Athens:20240512T200000
DTEND;TZID=Europe/Athens:20240512T220000
DTSTAMP:20260421T194027
CREATED:20240512T081050Z
LAST-MODIFIED:20240512T081050Z
UID:348618-1715544000-1715551200@neasmyrni.gr
SUMMARY:ΤΟ ΥΠΕΡΟΧΟ ΜΟΥΣΙΚΟ ΣΧΟΛΕΙΟ ΑΛΙΜΟΥ ΣΤΗ ΠΛΑΤΕΙΑ ΣΤΙΣ 8ΜΜ
DESCRIPTION:
URL:https://neasmyrni.gr/event/%cf%84%ce%bf-%cf%85%cf%80%ce%b5%cf%81%ce%bf%cf%87%ce%bf-%ce%bc%ce%bf%cf%85%cf%83%ce%b9%ce%ba%ce%bf-%cf%83%cf%87%ce%bf%ce%bb%ce%b5%ce%b9%ce%bf-%ce%b1%ce%bb%ce%b9%ce%bc%ce%bf%cf%85-%cf%83%cf%84%ce%b7/
ATTACH;FMTTYPE=image/jpeg:https://neasmyrni.gr/wp-content/uploads/2024/05/441963611_946305013952457_4929292562146692413_n.jpg
END:VEVENT
BEGIN:VEVENT
DTSTART;TZID=Europe/Athens:20240513T190000
DTEND;TZID=Europe/Athens:20240513T210000
DTSTAMP:20260421T194027
CREATED:20240510T105142Z
LAST-MODIFIED:20240510T105256Z
UID:347918-1715626800-1715634000@neasmyrni.gr
SUMMARY:ΠΑΡΟΥΣΙΑΣΗ ΒΙΒΛΙΟΥ ΣΤΗ ΔΗΜΟΤΙΚΗ ΒΙΒΛΙΟΘΗΚΗ
DESCRIPTION:Το βιβλίο του Π. Αραπίνη “Το Δουργούτι των προσφύγων – Η πόλη των Παρτιζάνων” (εκδόσεις “ΙΔΙΟΜΟΡΦή”) παρουσιάζεται την Δευτέρα 13 Μαϊου\, ώρα 19:00 στην αυλή της Δημοτικής Βιβλιοθήκης Νέας Σμύρνης (Αϊδινίου 28).\nΓια το βιβλίο θα μιλήσουν ο Ιστορικός\, Ομότιμος Καθηγητής του Πανεπιστημίου Αθηνών Αντώνης Λιάκος και η Διδάκτωρ Ιστορίας και Διδακτικής της Ιστορίας Ζέτα Παπανδρέου.
URL:https://neasmyrni.gr/event/%cf%80%ce%b1%cf%81%ce%bf%cf%85%cf%83%ce%b9%ce%b1%cf%83%ce%b7-%ce%b2%ce%b9%ce%b2%ce%bb%ce%b9%ce%bf%cf%85-%cf%83%cf%84%ce%b7-%ce%b4%ce%b7%ce%bc%ce%bf%cf%84%ce%b9%ce%ba%ce%b7-%ce%b2%ce%b9%ce%b2%ce%bb/
LOCATION:Δημοτική Βιβλιοθήκη\, Νικομηδείας  7\, Αθήνα\, Νέα Σμύρνη\, 17121\, Ελλάδα
ATTACH;FMTTYPE=image/jpeg:https://neasmyrni.gr/wp-content/uploads/2024/05/βιβλιο130524.jpg
END:VEVENT
BEGIN:VEVENT
DTSTART;TZID=Europe/Athens:20240513T200000
DTEND;TZID=Europe/Athens:20240513T220000
DTSTAMP:20260421T194027
CREATED:20240509T121841Z
LAST-MODIFIED:20240509T121841Z
UID:347498-1715630400-1715637600@neasmyrni.gr
SUMMARY:ΤΟ ΘΕΑΤΡΙΚΟ «ΣΜΥΡΝΗ… ΜΑΝΙΤΣΑ ΜΟΥ» ΣΤΟΝ ΓΑΛΑΞΙΑ
DESCRIPTION:Η θεατρική παράσταση «Σμύρνη… μανίτσα μου» παρουσιάζεται την Δευτέρα 13 Μαΐου\, ώρα 20:00\, στον Δημοτικό Πολυχώρο «Γαλαξίας»\nΤο έργο βασίζεται στο βιβλίο που έγραψε η Μάνια Παπαδημητρίου\, με “πρώτη ύλη” τα ημερολόγια του υπολοχαγού Γεράσιμου Γεννατά .\nΣτην αφήγηση και στο πιάνο θα είναι η συγγραφέας η οποία και σκηνοθετεί την παράσταση.
URL:https://neasmyrni.gr/event/%cf%84%ce%bf-%ce%b8%ce%b5%ce%b1%cf%84%cf%81%ce%b9%ce%ba%ce%bf-%cf%83%ce%bc%cf%85%cf%81%ce%bd%ce%b7-%ce%bc%ce%b1%ce%bd%ce%b9%cf%84%cf%83%ce%b1-%ce%bc%ce%bf%cf%85-%cf%83%cf%84%ce%bf/
LOCATION:Γαλαξίας – Δημοτικός Πολυχώρος Πολιτισμού Νέας Σμύρνης\, 2ας Μαΐου 16\, Νέα Σμύρνη\, 171 21\, Greece
ATTACH;FMTTYPE=image/jpeg:https://neasmyrni.gr/wp-content/uploads/2024/05/smyrnimanitsa.jpg
END:VEVENT
BEGIN:VEVENT
DTSTART;TZID=Europe/Athens:20240516T180000
DTEND;TZID=Europe/Athens:20240516T200000
DTSTAMP:20260421T194027
CREATED:20240514T102039Z
LAST-MODIFIED:20240514T102039Z
UID:349567-1715882400-1715889600@neasmyrni.gr
SUMMARY:Διαχείριση άγχους σχολικών εξετάσεων
DESCRIPTION:«ΑΚΑΔΗΜΙΑ ΓΟΝΕΩΝ»\nΔΗΜΟΥ ΝΕΑΣ ΣΜΥΡΝΗΣ\n«Από το Α έως το Ω: μία Ακαδημία για Γονείς»\nΑκαδημαϊκό έτος 2023 – 2024 (7ο έτος) \n\n5η Συνάντηση\nΠέμπτη 16 Μαΐου 2024 \n\n«ΓΑΛΑΞΙΑΣ» ΚΕΝΤΡΙΚΗ ΠΛΑΤΕΙΑ\, ώρα 18:15\n«Διαχείριση άγχους σχολικών εξετάσεων»\nΒάσια Μπούμπα\nΨυχολόγος\, MSc\, ΠΜΣ\n«Στρατηγικές Αναπτυξιακής και Εφηβικής Υγείας»\nΥποψ. Διδάκτωρ Ιατρικής Σχολής Ε.Κ.Π.Α\nΕπιστ. Συνεργάτις Μονάδας Εφηβικής Υγείας (Μ.Ε.Υ.)\,\nΒ΄ Παιδιατρική Κλινική Ε.Κ.Π.Α.\, Νοσοκομείο\nΠαίδων “Π. & Α. Κυριακού”\nΑριστείδης Λορέντζος\nΨυχολόγος – Σύμβουλος Σταδιοδρομίας (Μ. Sc.) \n\nΣΥΝΔΕΣΜΟΣ ΕΓΓΡΑΦΩΝ\nhttps://forms.gle/Wd8CVZy5JpWeU6hE7 \n\nΠληροφορίες: Γραφείο Παιδείας του Δήμου Νέας Σμύρνης κ. Πρώια (τηλ: 213 2025726-840) και στην ιστοσελίδα\nτου Δήμου Ν. Σμύρνης www.neasmyrni.gr (Εκπαίδευση – Δια Βίου Μάθηση – Ακαδημία Γονέων).\nE-mail ΑΚΑΔΗΜΙΑΣ ΓΟΝΕΩΝ Δήμου Νέας Σμύρνης: ns.akadimiagoneon@gmail.com
URL:https://neasmyrni.gr/event/%ce%b4%ce%b9%ce%b1%cf%87%ce%b5%ce%af%cf%81%ce%b9%cf%83%ce%b7-%ce%ac%ce%b3%cf%87%ce%bf%cf%85%cf%82-%cf%83%cf%87%ce%bf%ce%bb%ce%b9%ce%ba%cf%8e%ce%bd-%ce%b5%ce%be%ce%b5%cf%84%ce%ac%cf%83%ce%b5%cf%89/
LOCATION:Γαλαξίας – Δημοτικός Πολυχώρος Πολιτισμού Νέας Σμύρνης\, 2ας Μαΐου 16\, Νέα Σμύρνη\, 171 21\, Greece
ATTACH;FMTTYPE=image/jpeg:https://neasmyrni.gr/wp-content/uploads/2021/02/AKADHMIA-GONEWN_LOGO-FINAL-2.jpg
END:VEVENT
BEGIN:VEVENT
DTSTART;TZID=Europe/Athens:20240518T193000
DTEND;TZID=Europe/Athens:20240518T213000
DTSTAMP:20260421T194027
CREATED:20240515T115747Z
LAST-MODIFIED:20240515T115747Z
UID:350143-1716060600-1716067800@neasmyrni.gr
SUMMARY:πρωτομαγιάτικες εκδηλώσεις
DESCRIPTION:
URL:https://neasmyrni.gr/event/%cf%80%cf%81%cf%89%cf%84%ce%bf%ce%bc%ce%b1%ce%b3%ce%b9%ce%ac%cf%84%ce%b9%ce%ba%ce%b5%cf%82-%ce%b5%ce%ba%ce%b4%ce%b7%ce%bb%cf%8e%cf%83%ce%b5%ce%b9%cf%82/
ATTACH;FMTTYPE=image/jpeg:https://neasmyrni.gr/wp-content/uploads/2024/05/prwt182024-1.jpg
END:VEVENT
BEGIN:VEVENT
DTSTART;TZID=Europe/Athens:20240519T090000
DTEND;TZID=Europe/Athens:20240519T130000
DTSTAMP:20260421T194027
CREATED:20240515T120536Z
LAST-MODIFIED:20240515T120753Z
UID:350164-1716109200-1716123600@neasmyrni.gr
SUMMARY:17ος ΓΥΡΟΣ Ν.ΣΜΥΡΝΗΣ (7\,5KM)
DESCRIPTION:Η Διεύθυνση Αθλητισμού του Δήμου Νέας Σμύρνης σε συνεργασία με τον Σύλλογο Αθλουμένων Φίλων Άλσους Νέας Σμύρνης (Σ.Α.Φ.Α.Ν.Σ.)\,  διοργανώνουν αγώνα δρόμου απόστασης 7500 μέτρων με την επωνυμία  «17ος ΓΥΡΟΣ ΝΕΑΣ ΣΜΥΡΝΗΣ». \nΟ αγώνας θα διεξαχθεί την Κυριακή 19 Μαΐου 2024. \nΑφετηρία & Τερματισμός: ΚΕΝΤΡΙΚΗ ΠΛΑΤΕΙΑ ΝΕΑΣ ΣΜΥΡΝΗΣ \nΏρα εκκίνησης 09:30 π.μ. \n  \n\n\n\n\n\n\n\n\nΓια τη αποφυγή συνωστισμού και καθυστερήσεων η διάθεση των νούμερων συμμετοχής στους αθλητές θα πραγματοποιηθούν ως επί το πλείστον την παραμονή του αγώνα\, δηλαδή το Σάββατο 18 Μαΐου από τις 12:00 έως τις 20:00 στα γραφεία του ΣΑΦΑΝΣ στο Άλσος Νέας Σμύρνης .\nΝούμερα συμμετοχής θα δοθούν και την ημέρα του αγώνα\, δηλαδή την Κυριακή 19 Μαΐου από τις 08:00 έως και 30 λεπτά πριν την έναρξη που είναι στις 09:30
URL:https://neasmyrni.gr/event/17%ce%bf%cf%82-%ce%b3%cf%85%cf%81%ce%bf%cf%83-%ce%bd-%cf%83%ce%bc%cf%85%cf%81%ce%bd%ce%b7%cf%83-75km/
ATTACH;FMTTYPE=image/jpeg:https://neasmyrni.gr/wp-content/uploads/2024/04/gyros17.jpg
END:VEVENT
BEGIN:VEVENT
DTSTART;TZID=Europe/Athens:20240519T193000
DTEND;TZID=Europe/Athens:20240519T213000
DTSTAMP:20260421T194027
CREATED:20240515T115855Z
LAST-MODIFIED:20240515T115855Z
UID:350158-1716147000-1716154200@neasmyrni.gr
SUMMARY:Παραδοσιακοί χοροί στο Άλσος
DESCRIPTION:
URL:https://neasmyrni.gr/event/%cf%80%ce%b1%cf%81%ce%b1%ce%b4%ce%bf%cf%83%ce%b9%ce%b1%ce%ba%ce%bf%ce%af-%cf%87%ce%bf%cf%81%ce%bf%ce%af-%cf%83%cf%84%ce%bf-%ce%ac%ce%bb%cf%83%ce%bf%cf%82/
ATTACH;FMTTYPE=image/jpeg:https://neasmyrni.gr/wp-content/uploads/2024/05/prwtom192024-1.jpg
END:VEVENT
BEGIN:VEVENT
DTSTART;TZID=Europe/Athens:20240524T190000
DTEND;TZID=Europe/Athens:20240524T210000
DTSTAMP:20260421T194027
CREATED:20240521T090648Z
LAST-MODIFIED:20240521T090648Z
UID:352137-1716577200-1716584400@neasmyrni.gr
SUMMARY:ΠΑΡΟΥΣΙΑΣΗ ΒΙΒΛΙΟΥ ΣΤΗ ΔΗΜΟΤΙΚΗ ΒΙΒΛΙΟΘΗΚΗ
DESCRIPTION:Στους φιλόξενους κήπους της Δημοτικής Βιβλιοθήκης Νέας Σμύρνης (Αϊδινίου 28) θα πραγματοποιηθεί η παρουσίαση του βιβλίου του Χαράλαμπου Γιαννακόπουλου.\nΠρόκειται για το βιβλίο “Ο θάνατος πλένει το πρόσωπό του στα νερά που κυλάνε από το σώμα σου” (εκδόσεις ΠΟΛΙΣ)\nΗ παρουσίαση θα γίνει την Παρασκευή 24 Μάϊου\, ώρα 19:00
URL:https://neasmyrni.gr/event/%cf%80%ce%b1%cf%81%ce%bf%cf%85%cf%83%ce%b9%ce%b1%cf%83%ce%b7-%ce%b2%ce%b9%ce%b2%ce%bb%ce%b9%ce%bf%cf%85-%cf%83%cf%84%ce%b7-%ce%b4%ce%b7%ce%bc%ce%bf%cf%84%ce%b9%ce%ba%ce%b7-%ce%b2%ce%b9%ce%b2%ce%bb-2/
ATTACH;FMTTYPE=image/jpeg:https://neasmyrni.gr/wp-content/uploads/2024/05/442418766_953386979910927_8619523533161424053_n.jpg
END:VEVENT
BEGIN:VEVENT
DTSTART;TZID=Europe/Athens:20240525T110000
DTEND;TZID=Europe/Athens:20240525T130000
DTSTAMP:20260421T194027
CREATED:20240514T104344Z
LAST-MODIFIED:20240514T104344Z
UID:349583-1716634800-1716642000@neasmyrni.gr
SUMMARY:ΜΑΘΗΜΑ PILATES ΣΤΟ ΑΛΣΟΣ ΝΕΑΣ ΣΜΥΡΝΗΣ
DESCRIPTION:
URL:https://neasmyrni.gr/event/%ce%bc%ce%b1%ce%b8%ce%b7%ce%bc%ce%b1-pilates-%cf%83%cf%84%ce%bf-%ce%b1%ce%bb%cf%83%ce%bf%cf%83-%ce%bd%ce%b5%ce%b1%cf%83-%cf%83%ce%bc%cf%85%cf%81%ce%bd%ce%b7%cf%83/
ATTACH;FMTTYPE=image/jpeg:https://neasmyrni.gr/wp-content/uploads/2024/05/pilates250524.jpg
END:VEVENT
BEGIN:VEVENT
DTSTART;TZID=Europe/Athens:20240525T190000
DTEND;TZID=Europe/Athens:20240525T210000
DTSTAMP:20260421T194027
CREATED:20240521T112422Z
LAST-MODIFIED:20240521T112422Z
UID:352179-1716663600-1716670800@neasmyrni.gr
SUMMARY:ΕΚΔΗΛΩΣΗ ΜΝΗΜΗΣ ΓΙΑ ΤΗΝ ΓΕΝΟΚΤΟΝΙΑ ΤΩΝ ΠΟΝΤΙΩΝ
DESCRIPTION:Εκδήλωση τιμής με τίτλο «Η φλόγα της μνήμης» διοργανώνει η Ένωση Ποντίων Νέας Σμύρνης – Αγ. Δημητρίου – Π. Φαλήρου «Η Μαύρη Θάλασσα»\, με αφορμή την επέτειο για την Γενοκτονία των Ποντίων. Η εκδήλωση θα πραγματοποιηθεί το Σάββατο 25 Μαΐου\, ώρα 19:00 στην Πλατεία Γενοκτονίας (Αμισού & Αίνου\, Άνω Νέα Σμύρνη).\nΣτις 18:30 . θα ξεκινήσουν δρομείς\, μέλη και φίλοι της Ένωσης\, ενδεδυμένοι με τις φανέλες των ομάδων του Πόντου\, από το Μικρασιατικό Μνημείο\, μπροστά από την Εστία Νέας Σμύρνης\, διασχίζοντας και την πλατεία\, για να μεταφέρουν συμβολικά στο Μνημείο της Γενοκτονίας τη φλόγα της μνήμης.\nΣτεφάνι στο Μνημείο θα καταθέσει ο Δημαρχος Νέας Σμύρνης Γιώργος Κουτελάκης.\nΗ εκδήλωση θα ξεκινήσει με επιμνημόσυνη δέηση από τον Σεβασμιώτατο Μητροπολίτη Ν.Σμύρνης κ.κ. Συμεών. Θα ακολουθήσει ομιλία από την Πρόεδρο Ράνια Χρυσοχοΐδου και η εκδήλωση θα ολοκληρωθεί με καλλιτεχνικό αφιέρωμα με τη συμμετοχή των μουσικών Γιάννη Καζαντζίδη\, Φίλιππου Πουρπουτίδη\, Φώτη Κοζυράκη\, τη Χορωδία και τη Χορευτική ομάδα της Ένωσης.
URL:https://neasmyrni.gr/event/%ce%b5%ce%ba%ce%b4%ce%b7%ce%bb%cf%89%cf%83%ce%b7-%ce%bc%ce%bd%ce%b7%ce%bc%ce%b7%cf%83-%ce%b3%ce%b9%ce%b1-%cf%84%ce%b7%ce%bd-%ce%b3%ce%b5%ce%bd%ce%bf%ce%ba%cf%84%ce%bf%ce%bd%ce%b9%ce%b1-%cf%84%cf%89/
ATTACH;FMTTYPE=image/jpeg:https://neasmyrni.gr/wp-content/uploads/2024/05/ekdilwsimnhmpontiwn.jpg
END:VEVENT
BEGIN:VEVENT
DTSTART;TZID=Europe/Athens:20240525T203000
DTEND;TZID=Europe/Athens:20240525T223000
DTSTAMP:20260421T194027
CREATED:20240521T112204Z
LAST-MODIFIED:20240521T112204Z
UID:352175-1716669000-1716676200@neasmyrni.gr
SUMMARY:ΕΚΔΗΛΩΣΗ ΓΙΑ ΤΗΝ ΜΑΧΗ ΤΗΣ ΚΡΗΤΗΣ
DESCRIPTION:Τα 83 χρόνια από την Μάχη της Κρήτης τιμά η Ένωση Κρητών Νέας Σμύρνης το Σάββατο 25 Μαΐου\, στις 20:30 στο Άλσος.\n\n\nΗ εκδήλωση τιμής και μνήμης θα ξεκινήσει με την τήρηση ενός λεπτού σιγής για τα θύματα\, και θα ακολουθήσει παρέλαση μαθητών με κρητικές παραδοσιακές φορεσιές.\n\n\nΧαιρετισμούς θα απευθύνουν ο πρόεδρος της Ένωσης Τάκης Πρασσάκης και ο Δήμαρχος Νέας Σμύρνης Γιώργος Κουτελάκης. Κύριος ομιλητής θα είναι ο στρατηγός εν αποστρατεία Αντώνης Μυτιληνάκης\, Πρόεδρος της Κρητικής Εστίας.\n\n\nΣτην εκδήλωση θα συμμετέχουν όλα τα χορευτικά τμήματα της Ένωσης Κρητών (παιδικά\, εφηβικά\, ενηλίκων). Ενδιάμεσα θ’ ακουστούν ριζίτικα τραγούδια από την ομάδα «Αίγαγρος» και το Τραγούδι «Ξαστεριά» από το Τμήμα Παραδοσιακών Μουσικών Οργάνων της Ένωσης
URL:https://neasmyrni.gr/event/%ce%b5%ce%ba%ce%b4%ce%b7%ce%bb%cf%89%cf%83%ce%b7-%ce%b3%ce%b9%ce%b1-%cf%84%ce%b7%ce%bd-%ce%bc%ce%b1%cf%87%ce%b7-%cf%84%ce%b7%cf%83-%ce%ba%cf%81%ce%b7%cf%84%ce%b7%cf%83/
ATTACH;FMTTYPE=image/jpeg:https://neasmyrni.gr/wp-content/uploads/2024/05/maxikritis.jpg
END:VEVENT
BEGIN:VEVENT
DTSTART;TZID=Europe/Athens:20240529T170000
DTEND;TZID=Europe/Athens:20240529T190000
DTSTAMP:20260421T194027
CREATED:20240527T120500Z
LAST-MODIFIED:20240528T160638Z
UID:353716-1717002000-1717009200@neasmyrni.gr
SUMMARY:Κοινωνική Ανθεκτικότητα των Πόλεων: Ο Ρόλος του Κοινωνικού Κεφαλαίου και των Κοινωνικών Δικτύων
DESCRIPTION:Συνεχίζονται οι διαλέξεις του Σύγχρονου Λαϊκού Πανεπιστήμιου (ΣΥ.ΛΑ.Π.) του Δήμου Νέας Σμύρνης στο πλαίσιο του Εαρινού εξαμήνου.\nΗ επόμενη διάλεξη με τίτλο “Κοινωνική Ανθεκτικότητα των Πόλεων: Ο Ρόλος του Κοινωνικού Κεφαλαίου και των Κοινωνικών Δικτύων” θα πραγματοποιηθεί την Τετάρτη 29 Μάϊου\, ώρα 17:00-19:00 στον Δημοτικό Πολυχώρο “Γαλαξίας”.\nΕισηγήτρια θα είναι η Παναγιώτα Καραμέρου\, Δρ. Χαροκόπειου Πανεπιστημίου Αθηνών
URL:https://neasmyrni.gr/event/%ce%ba%ce%bf%ce%b9%ce%bd%cf%89%ce%bd%ce%b9%ce%ba%ce%ae-%ce%b1%ce%bd%ce%b8%ce%b5%ce%ba%cf%84%ce%b9%ce%ba%cf%8c%cf%84%ce%b7%cf%84%ce%b1-%cf%84%cf%89%ce%bd-%cf%80%cf%8c%ce%bb%ce%b5%cf%89%ce%bd-%ce%bf/
LOCATION:Γαλαξίας – Δημοτικός Πολυχώρος Πολιτισμού Νέας Σμύρνης\, 2ας Μαΐου 16\, Νέα Σμύρνη\, 171 21\, Greece
ATTACH;FMTTYPE=image/jpeg:https://neasmyrni.gr/wp-content/uploads/2024/01/sylap-logo.jpg
END:VEVENT
BEGIN:VEVENT
DTSTART;TZID=Europe/Athens:20240530T190000
DTEND;TZID=Europe/Athens:20240530T210000
DTSTAMP:20260421T194027
CREATED:20240524T121546Z
LAST-MODIFIED:20240524T121546Z
UID:353560-1717095600-1717102800@neasmyrni.gr
SUMMARY:ΠΑΡΟΥΣΙΑΣΗ ΒΙΒΛΙΟΥ ΣΤΟ ΓΑΛΑΞΙΑ
DESCRIPTION:Το βιβλίο του Δημήτρη Μάντζαρου «ΕΑΜ Λέσβου – Ηττημένοι Νικητές» παρουσιάζεται την Πέμπτη 30 Μαΐου\, ώρα 19:00 στο Δημοτικό Πολυχώρο «Γαλαξίας».\nΓια το βιβλίο θα μιλήσουν ο Νίκος Βαφέας\, καθηγητής Ιστορικής και Πολιτικής Κοινωνιολογίας στο Τμήμα Πολιτικής Επιστήμης του Πανεπιστημίου Κρήτης και ο Νίκος Θεοτοκάς\, ομότιμος καθηγητής στο Τμήμα Πολιτικής Επιστήμης και Ιστορίας στο Πάντειο Πανεπιστήμιο.\nΤην εκδήλωση θα συντονίσει ο συγγραφέας Σωκράτης Μαντζουράνης
URL:https://neasmyrni.gr/event/%cf%80%ce%b1%cf%81%ce%bf%cf%85%cf%83%ce%b9%ce%b1%cf%83%ce%b7-%ce%b2%ce%b9%ce%b2%ce%bb%ce%b9%ce%bf%cf%85-%cf%83%cf%84%ce%bf-%ce%b3%ce%b1%ce%bb%ce%b1%ce%be%ce%b9%ce%b1/
LOCATION:Γαλαξίας – Δημοτικός Πολυχώρος Πολιτισμού Νέας Σμύρνης\, 2ας Μαΐου 16\, Νέα Σμύρνη\, 171 21\, Greece
ATTACH;FMTTYPE=image/jpeg:https://neasmyrni.gr/wp-content/uploads/2024/05/442437441_954597253123233_4969140059429482829_n.jpg
END:VEVENT
BEGIN:VEVENT
DTSTART;TZID=Europe/Athens:20240531T190000
DTEND;TZID=Europe/Athens:20240531T210000
DTSTAMP:20260421T194027
CREATED:20240530T120539Z
LAST-MODIFIED:20240530T120539Z
UID:354584-1717182000-1717189200@neasmyrni.gr
SUMMARY:ΜΟΥΣΙΚΗ ΒΡΑΔΙΑ ΣΤΗ ΔΗΜΟΤΙΚΗ ΒΙΒΛΙΟΘΗΚΗ
DESCRIPTION:Η βιογραφία της μεγάλης αρχοντορεμπέτισσας Μαρίκας Νίνου «σαν άστρο εβασίλεψα»\, εκδ. Ελληνοεκδοτική\, παρουσιάζεται αύριο Παρασκευή 31/05 στις 19:00 στον κήπο της Δημοτικής Βιβλιοθήκης Νέας Σμύρνης.\nΟι δύο συγγραφείς\, η Κατερίνα Τσιρίδου και ο Τάσος Κακλαμάνης θα διαβάσουν αποσπάσματα του βιβλίου και θα ακολουθήσει μουσική παρουσίαση την οποία θα προλογίσει ο φιλόλογος και συγγραφέας Δημήτρης Αλεξάνδρου.\nΤραγούδια της Μαρίκας Νίνου θα ερμηνεύσει η Κατερίνα Τσιρίδου.\nΟ Τάσος Κακλαμάνης και ο Νίκος Πρωτόπαπας θα συνοδεύουν την βραδιά με μπουζούκι και κιθάρα.
URL:https://neasmyrni.gr/event/%ce%bc%ce%bf%cf%85%cf%83%ce%b9%ce%ba%ce%b7-%ce%b2%cf%81%ce%b1%ce%b4%ce%b9%ce%b1-%cf%83%cf%84%ce%b7-%ce%b4%ce%b7%ce%bc%ce%bf%cf%84%ce%b9%ce%ba%ce%b7-%ce%b2%ce%b9%ce%b2%ce%bb%ce%b9%ce%bf%ce%b8%ce%b7/
ATTACH;FMTTYPE=image/jpeg:https://neasmyrni.gr/wp-content/uploads/2024/05/446976241_958847572698201_1247359712263072357_n.jpg
END:VEVENT
END:VCALENDAR