BEGIN:VCALENDAR
VERSION:2.0
PRODID:-//Δήμος Ν.Σμύρνης - ECPv6.5.0//NONSGML v1.0//EN
CALSCALE:GREGORIAN
METHOD:PUBLISH
X-ORIGINAL-URL:https://neasmyrni.gr
X-WR-CALDESC:Δήμος Ν.Σμύρνης - Εκδηλώσεις
REFRESH-INTERVAL;VALUE=DURATION:PT1H
X-Robots-Tag:noindex
X-PUBLISHED-TTL:PT1H
BEGIN:VTIMEZONE
TZID:Europe/Athens
BEGIN:DAYLIGHT
TZOFFSETFROM:+0200
TZOFFSETTO:+0300
TZNAME:EEST
DTSTART:20240331T010000
END:DAYLIGHT
BEGIN:STANDARD
TZOFFSETFROM:+0300
TZOFFSETTO:+0200
TZNAME:EET
DTSTART:20241027T010000
END:STANDARD
END:VTIMEZONE
BEGIN:VEVENT
DTSTART;TZID=Europe/Athens:20240701T193000
DTEND;TZID=Europe/Athens:20240701T213000
DTSTAMP:20260420T080429
CREATED:20240625T115303Z
LAST-MODIFIED:20240625T115303Z
UID:360846-1719862200-1719869400@neasmyrni.gr
SUMMARY:ΠΑΡΟΥΣΙΑΣΗ ΒΙΒΛΙΟΥ ΣΤΟΝ ΓΑΛΑΞΙΑ
DESCRIPTION:Στην παρουσίαση του βιβλίου του Μενέλαου Χαραλαμπίδη “Οι Δωσίλογοι” (εκδόσεις Αλεξάνδρεια) προσκαλεί ο Δήμος Νέας Σμύρνης την Δευτέρα 1 Ιουλίου\, ώρα 19:30\, στον Δημοτικό Πολυχώρο “Γαλαξίας”.\nΓια το βιβλίο θα μιλήσουν ο Χάρης Αθανασιάδης\, Καθηγητής στο Τμήμα Πολιτικής Επιστήμης & Ιστορίας του Παντείου Πανεπιστημίου\, ο Νίκος Βαφέας\, Καθηγητής στο Τμήμα Πολιτικής Επιστήμης του Πανεπιστημίου Κρήτης και ο συγγραφέας.\nΘα ακολουθήσει συζήτηση με το κοινό.
URL:https://neasmyrni.gr/event/%cf%80%ce%b1%cf%81%ce%bf%cf%85%cf%83%ce%b9%ce%b1%cf%83%ce%b7-%ce%b2%ce%b9%ce%b2%ce%bb%ce%b9%ce%bf%cf%85-%cf%83%cf%84%ce%bf%ce%bd-%ce%b3%ce%b1%ce%bb%ce%b1%ce%be%ce%b9%ce%b1-2/
LOCATION:Γαλαξίας – Δημοτικός Πολυχώρος Πολιτισμού Νέας Σμύρνης\, 2ας Μαΐου 16\, Νέα Σμύρνη\, 171 21\, Greece
ATTACH;FMTTYPE=image/jpeg:https://neasmyrni.gr/wp-content/uploads/2024/06/449054019_974598824456409_4063560412764417563_n.jpg
END:VEVENT
END:VCALENDAR